BEGIN:VCALENDAR
VERSION:2.0
PRODID:-//jEvents 2.0 for Joomla//EN
CALSCALE:GREGORIAN
METHOD:PUBLISH
BEGIN:VTIMEZONE
TZID:Europe/London
BEGIN:STANDARD
DTSTART:20220324T101500
RDATE:20220327T020000
TZOFFSETFROM:+0100
TZOFFSETTO:+0000
TZNAME:Europe/London GMT
END:STANDARD
BEGIN:STANDARD
DTSTART:20221030T010000
RDATE:20230326T020000
TZOFFSETFROM:+0100
TZOFFSETTO:+0000
TZNAME:Europe/London GMT
END:STANDARD
BEGIN:STANDARD
DTSTART:20231029T010000
RDATE:20240331T020000
TZOFFSETFROM:+0100
TZOFFSETTO:+0000
TZNAME:Europe/London GMT
END:STANDARD
BEGIN:STANDARD
DTSTART:20241027T010000
RDATE:20250330T020000
TZOFFSETFROM:+0100
TZOFFSETTO:+0000
TZNAME:Europe/London GMT
END:STANDARD
BEGIN:STANDARD
DTSTART:20251026T010000
RDATE:20260329T020000
TZOFFSETFROM:+0100
TZOFFSETTO:+0000
TZNAME:Europe/London GMT
END:STANDARD
BEGIN:STANDARD
DTSTART:20261025T010000
RDATE:20270328T020000
TZOFFSETFROM:+0100
TZOFFSETTO:+0000
TZNAME:Europe/London GMT
END:STANDARD
BEGIN:STANDARD
DTSTART:20271031T010000
RDATE:20280326T020000
TZOFFSETFROM:+0100
TZOFFSETTO:+0000
TZNAME:Europe/London GMT
END:STANDARD
BEGIN:STANDARD
DTSTART:20281029T010000
RDATE:20290325T020000
TZOFFSETFROM:+0100
TZOFFSETTO:+0000
TZNAME:Europe/London GMT
END:STANDARD
BEGIN:STANDARD
DTSTART:20291028T010000
RDATE:20300331T020000
TZOFFSETFROM:+0100
TZOFFSETTO:+0000
TZNAME:Europe/London GMT
END:STANDARD
BEGIN:STANDARD
DTSTART:20301027T010000
RDATE:20310330T020000
TZOFFSETFROM:+0100
TZOFFSETTO:+0000
TZNAME:Europe/London GMT
END:STANDARD
BEGIN:DAYLIGHT
DTSTART:20220327T020000
RDATE:20221030T010000
TZOFFSETFROM:+0000
TZOFFSETTO:+0100
TZNAME:Europe/London BST
END:DAYLIGHT
BEGIN:DAYLIGHT
DTSTART:20230326T020000
RDATE:20231029T010000
TZOFFSETFROM:+0000
TZOFFSETTO:+0100
TZNAME:Europe/London BST
END:DAYLIGHT
BEGIN:DAYLIGHT
DTSTART:20240331T020000
RDATE:20241027T010000
TZOFFSETFROM:+0000
TZOFFSETTO:+0100
TZNAME:Europe/London BST
END:DAYLIGHT
BEGIN:DAYLIGHT
DTSTART:20250330T020000
RDATE:20251026T010000
TZOFFSETFROM:+0000
TZOFFSETTO:+0100
TZNAME:Europe/London BST
END:DAYLIGHT
BEGIN:DAYLIGHT
DTSTART:20260329T020000
RDATE:20261025T010000
TZOFFSETFROM:+0000
TZOFFSETTO:+0100
TZNAME:Europe/London BST
END:DAYLIGHT
BEGIN:DAYLIGHT
DTSTART:20270328T020000
RDATE:20271031T010000
TZOFFSETFROM:+0000
TZOFFSETTO:+0100
TZNAME:Europe/London BST
END:DAYLIGHT
BEGIN:DAYLIGHT
DTSTART:20280326T020000
RDATE:20281029T010000
TZOFFSETFROM:+0000
TZOFFSETTO:+0100
TZNAME:Europe/London BST
END:DAYLIGHT
BEGIN:DAYLIGHT
DTSTART:20290325T020000
RDATE:20291028T010000
TZOFFSETFROM:+0000
TZOFFSETTO:+0100
TZNAME:Europe/London BST
END:DAYLIGHT
BEGIN:DAYLIGHT
DTSTART:20300331T020000
RDATE:20301027T010000
TZOFFSETFROM:+0000
TZOFFSETTO:+0100
TZNAME:Europe/London BST
END:DAYLIGHT
END:VTIMEZONE
BEGIN:VEVENT
UID:d57e4f1e2f4d999e22db77400022dabe
CATEGORIES:West
CREATED:20230219T132654
SUMMARY:Surprise Minor Practice
LOCATION:St Mary's Church\, Walberton
URL;VALUE=URI:https://www.scacr.org/news-events/calendar/1095/surprise-minor-practice?tmp
 l=component
DESCRIPTION:This is a regular monthly event giving ringers the opportunity to ring  met
 hods such as Plain courses and touches of Cambridge and Norwich and Plain c
 ourses of Beverley, London, Carlisle and Pure Treble Bob Hunt!!   Refreshme
 nts are provided.  Please contact This email address is being protected fro
 m spambots. You need JavaScript enabled to view it.
				document.getElement
 ById('cloakde2d09bec8d9e205c2e6a60ded8b3d3f').innerHTML = '';
				var prefi
 x = '&#109;a' + 'i&#108;' + '&#116;o';
				var path = 'hr' + 'ef' + '=';
		
 		var addyde2d09bec8d9e205c2e6a60ded8b3d3f = 's&#101;c-w&#101;st' + '&#64;'
 ;
				addyde2d09bec8d9e205c2e6a60ded8b3d3f = addyde2d09bec8d9e205c2e6a60ded
 8b3d3f + 'sc&#97;cr' + '&#46;' + '&#111;rg';
				var addy_textde2d09bec8d9e
 205c2e6a60ded8b3d3f = 's&#101;c-w&#101;st' + '&#64;' + 'sc&#97;cr' + '&#46;
 ' + '&#111;rg';document.getElementById('cloakde2d09bec8d9e205c2e6a60ded8b3d
 3f').innerHTML += '<a ' + path + '\'' + prefix + ':' + addyde2d09bec8d9e205
 c2e6a60ded8b3d3f + '\'>'+addy_textde2d09bec8d9e205c2e6a60ded8b3d3f+'';
		 i
 f you would like refreshments.\n PLEASE NOTE THAT FOR THE MARCH  PRACTICE T
 HE SPECIAL METHODS WILL BE - 'ANNABLES LONDON' AND 'BOURNE'!!\n This event 
 was imported from: https://www.scacr.org/news-events/calendar/1095/surprise
 -minor-practice?tmpl=component (https://www.scacr.org/news-events/calendar/
 1095/surprise-minor-practice?tmpl=component)
X-ALT-DESC;FMTTYPE=text/html:<p>This is a regular monthly event giving ringers the opportunity to ring&n
 bsp; methods such as Plain courses and touches of Cambridge and Norwich and
  Plain courses of Beverley, London, Carlisle and Pure Treble Bob Hunt!!&nbs
 p; &nbsp;Refreshments are provided.&nbsp; Please contact <span id="cloakde2
 d09bec8d9e205c2e6a60ded8b3d3f">This email address is being protected from s
 pambots. You need JavaScript enabled to view it.</span><script type='text/j
 avascript'>
				document.getElementById('cloakde2d09bec8d9e205c2e6a60ded8b3
 d3f').innerHTML = '';
				var prefix = '&#109;a' + 'i&#108;' + '&#116;o';
	
 			var path = 'hr' + 'ef' + '=';
				var addyde2d09bec8d9e205c2e6a60ded8b3d
 3f = 's&#101;c-w&#101;st' + '&#64;';
				addyde2d09bec8d9e205c2e6a60ded8b3d
 3f = addyde2d09bec8d9e205c2e6a60ded8b3d3f + 'sc&#97;cr' + '&#46;' + '&#111;
 rg';
				var addy_textde2d09bec8d9e205c2e6a60ded8b3d3f = 's&#101;c-w&#101;s
 t' + '&#64;' + 'sc&#97;cr' + '&#46;' + '&#111;rg';document.getElementById('
 cloakde2d09bec8d9e205c2e6a60ded8b3d3f').innerHTML += '<a ' + path + '\'' + 
 prefix + ':' + addyde2d09bec8d9e205c2e6a60ded8b3d3f + '\'>'+addy_textde2d09
 bec8d9e205c2e6a60ded8b3d3f+'<\/a>';
		</script>&nbsp;if you would like refr
 eshments.</p><p>&nbsp;PLEASE NOTE THAT FOR THE MARCH&nbsp; PRACTICE THE SPE
 CIAL METHODS WILL BE - 'ANNABLES LONDON' AND 'BOURNE'!!</p> <a href="https:
 //www.scacr.org/news-events/calendar/1095/surprise-minor-practice?tmpl=comp
 onent">This event was imported from: https://www.scacr.org/news-events/cale
 ndar/1095/surprise-minor-practice?tmpl=component</a>CONTACT:This email address is being protected from spambots. You need JavaScript enabled to view it.
				document.getElementById('cloake889099924ba6d59ff41047a92eca4ea').innerHTML = '';
				var prefix = '&#109;a' + 'i&#108;' + '&#116;o';
				var path = 'hr' + 'ef' + '=';
				var addye889099924ba6d59ff41047a92eca4ea = 's&#101;c-w&#101;st' + '&#64;';
				addye889099924ba6d59ff41047a92eca4ea = addye889099924ba6d59ff41047a92eca4ea + 'sc&#97;cr' + '&#46;' + '&#111;rg';
				var addy_texte889099924ba6d59ff41047a92eca4ea = 's&#101;c-w&#101;st' + '&#64;' + 'sc&#97;cr' + '&#46;' + '&#111;rg';document.getElementById('cloake889099924ba6d59ff41047a92eca4ea').innerHTML += '<a ' + path + '\'' + prefix + ':' + addye889099924ba6d59ff41047a92eca4ea + '\'>'+addy_texte889099924ba6d59ff41047a92eca4ea+'';
		
DTSTAMP:20260421T004105
DTSTART;TZID=Europe/London:20230325T101500
DTEND;TZID=Europe/London:20230325T120000
SEQUENCE:0
TRANSP:OPAQUE
END:VEVENT
END:VCALENDAR