BEGIN:VCALENDAR
VERSION:2.0
PRODID:-//jEvents 2.0 for Joomla//EN
CALSCALE:GREGORIAN
METHOD:PUBLISH
BEGIN:VTIMEZONE
TZID:Europe/London
BEGIN:STANDARD
DTSTART:20221210T193000
RDATE:20230326T020000
TZOFFSETFROM:+0100
TZOFFSETTO:+0000
TZNAME:Europe/London GMT
END:STANDARD
BEGIN:STANDARD
DTSTART:20231029T010000
RDATE:20240331T020000
TZOFFSETFROM:+0100
TZOFFSETTO:+0000
TZNAME:Europe/London GMT
END:STANDARD
BEGIN:STANDARD
DTSTART:20241027T010000
RDATE:20250330T020000
TZOFFSETFROM:+0100
TZOFFSETTO:+0000
TZNAME:Europe/London GMT
END:STANDARD
BEGIN:STANDARD
DTSTART:20251026T010000
RDATE:20260329T020000
TZOFFSETFROM:+0100
TZOFFSETTO:+0000
TZNAME:Europe/London GMT
END:STANDARD
BEGIN:STANDARD
DTSTART:20261025T010000
RDATE:20270328T020000
TZOFFSETFROM:+0100
TZOFFSETTO:+0000
TZNAME:Europe/London GMT
END:STANDARD
BEGIN:STANDARD
DTSTART:20271031T010000
RDATE:20280326T020000
TZOFFSETFROM:+0100
TZOFFSETTO:+0000
TZNAME:Europe/London GMT
END:STANDARD
BEGIN:STANDARD
DTSTART:20281029T010000
RDATE:20290325T020000
TZOFFSETFROM:+0100
TZOFFSETTO:+0000
TZNAME:Europe/London GMT
END:STANDARD
BEGIN:STANDARD
DTSTART:20291028T010000
RDATE:20300331T020000
TZOFFSETFROM:+0100
TZOFFSETTO:+0000
TZNAME:Europe/London GMT
END:STANDARD
BEGIN:STANDARD
DTSTART:20301027T010000
RDATE:20310330T020000
TZOFFSETFROM:+0100
TZOFFSETTO:+0000
TZNAME:Europe/London GMT
END:STANDARD
BEGIN:DAYLIGHT
DTSTART:20230326T020000
RDATE:20231029T010000
TZOFFSETFROM:+0000
TZOFFSETTO:+0100
TZNAME:Europe/London BST
END:DAYLIGHT
BEGIN:DAYLIGHT
DTSTART:20240331T020000
RDATE:20241027T010000
TZOFFSETFROM:+0000
TZOFFSETTO:+0100
TZNAME:Europe/London BST
END:DAYLIGHT
BEGIN:DAYLIGHT
DTSTART:20250330T020000
RDATE:20251026T010000
TZOFFSETFROM:+0000
TZOFFSETTO:+0100
TZNAME:Europe/London BST
END:DAYLIGHT
BEGIN:DAYLIGHT
DTSTART:20260329T020000
RDATE:20261025T010000
TZOFFSETFROM:+0000
TZOFFSETTO:+0100
TZNAME:Europe/London BST
END:DAYLIGHT
BEGIN:DAYLIGHT
DTSTART:20270328T020000
RDATE:20271031T010000
TZOFFSETFROM:+0000
TZOFFSETTO:+0100
TZNAME:Europe/London BST
END:DAYLIGHT
BEGIN:DAYLIGHT
DTSTART:20280326T020000
RDATE:20281029T010000
TZOFFSETFROM:+0000
TZOFFSETTO:+0100
TZNAME:Europe/London BST
END:DAYLIGHT
BEGIN:DAYLIGHT
DTSTART:20290325T020000
RDATE:20291028T010000
TZOFFSETFROM:+0000
TZOFFSETTO:+0100
TZNAME:Europe/London BST
END:DAYLIGHT
BEGIN:DAYLIGHT
DTSTART:20300331T020000
RDATE:20301027T010000
TZOFFSETFROM:+0000
TZOFFSETTO:+0100
TZNAME:Europe/London BST
END:DAYLIGHT
END:VTIMEZONE
BEGIN:VEVENT
UID:836ef9a5da7f58f21a97ae969a65712f
CATEGORIES:North
CREATED:20230217T193534
SUMMARY:Advanced Practice
LOCATION:Lower Beeding
URL;VALUE=URI:https://www.scacr.org/news-events/calendar/1089/advanced-practice?tmpl=comp
 onent
DESCRIPTION:<p>Apologies for delayed notification on this one - Lower Beeding secured f
 or Monday, 11th December.</p><p>Focus remains on Core 7 plus method of the 
 moment Glasgow for those looking for a challenge.</p><p>Please get in touch
  if you have any special requests. Heads up, the next practice will be on M
 onday, 15th January 2024 (location tbc).</p><p>Thank you to everyone for yo
 ur participation this year. Would be great to see as many people as possibl
 e on Monday. Any special requests please email me on <span id="cloak4089741
 1765386c0919b9f2c727fd18e">This email address is being protected from spamb
 ots. You need JavaScript enabled to view it.</span><script type='text/javas
 cript'>
				document.getElementById('cloak40897411765386c0919b9f2c727fd18e'
 ).innerHTML = '';
				var prefix = '&#109;a' + 'i&#108;' + '&#116;o';
				v
 ar path = 'hr' + 'ef' + '=';
				var addy40897411765386c0919b9f2c727fd18e =
  'n&#101;ssr&#105;ng&#105;ng' + '&#64;';
				addy40897411765386c0919b9f2c72
 7fd18e = addy40897411765386c0919b9f2c727fd18e + '&#105;cl&#111;&#117;d' + '
 &#46;' + 'c&#111;m';
				var addy_text40897411765386c0919b9f2c727fd18e = 'n
 &#101;ssr&#105;ng&#105;ng' + '&#64;' + '&#105;cl&#111;&#117;d' + '&#46;' + 
 'c&#111;m';document.getElementById('cloak40897411765386c0919b9f2c727fd18e')
 .innerHTML += '<a ' + path + '\'' + prefix + ':' + addy40897411765386c0919b
 9f2c727fd18e + '\'>'+addy_text40897411765386c0919b9f2c727fd18e+'<\/a>';
		<
 /script>.</p> <a href="https://www.scacr.org/news-events/calendar/1089/adva
 nced-practice?tmpl=component">This event was imported from: https://www.sca
 cr.org/news-events/calendar/1089/advanced-practice?tmpl=component</a>CONTACT:This email address is being protected from spambots. You need JavaScript enabled to view it.
				document.getElementById('cloak6b748c72abcec29699fd51ff53d6a5e2').innerHTML = '';
				var prefix = '&#109;a' + 'i&#108;' + '&#116;o';
				var path = 'hr' + 'ef' + '=';
				var addy6b748c72abcec29699fd51ff53d6a5e2 = 'n&#101;ssr&#105;ng&#105;ng' + '&#64;';
				addy6b748c72abcec29699fd51ff53d6a5e2 = addy6b748c72abcec29699fd51ff53d6a5e2 + '&#105;cl&#111;&#117;d' + '&#46;' + 'c&#111;m';
				var addy_text6b748c72abcec29699fd51ff53d6a5e2 = 'n&#101;ssr&#105;ng&#105;ng' + '&#64;' + '&#105;cl&#111;&#117;d' + '&#46;' + 'c&#111;m';document.getElementById('cloak6b748c72abcec29699fd51ff53d6a5e2').innerHTML += '<a ' + path + '\'' + prefix + ':' + addy6b748c72abcec29699fd51ff53d6a5e2 + '\'>'+addy_text6b748c72abcec29699fd51ff53d6a5e2+'';
		
DTSTAMP:20260420T143909
DTSTART;TZID=Europe/London:20231211T193000
DTEND;TZID=Europe/London:20231211T210000
SEQUENCE:0
TRANSP:OPAQUE
END:VEVENT
END:VCALENDAR