BEGIN:VCALENDAR
VERSION:2.0
PRODID:-//jEvents 2.0 for Joomla//EN
CALSCALE:GREGORIAN
METHOD:PUBLISH
BEGIN:VTIMEZONE
TZID:Europe/London
BEGIN:STANDARD
DTSTART:20220312T193000
RDATE:20220327T020000
TZOFFSETFROM:+0100
TZOFFSETTO:+0000
TZNAME:Europe/London GMT
END:STANDARD
BEGIN:STANDARD
DTSTART:20221030T010000
RDATE:20230326T020000
TZOFFSETFROM:+0100
TZOFFSETTO:+0000
TZNAME:Europe/London GMT
END:STANDARD
BEGIN:STANDARD
DTSTART:20231029T010000
RDATE:20240331T020000
TZOFFSETFROM:+0100
TZOFFSETTO:+0000
TZNAME:Europe/London GMT
END:STANDARD
BEGIN:STANDARD
DTSTART:20241027T010000
RDATE:20250330T020000
TZOFFSETFROM:+0100
TZOFFSETTO:+0000
TZNAME:Europe/London GMT
END:STANDARD
BEGIN:STANDARD
DTSTART:20251026T010000
RDATE:20260329T020000
TZOFFSETFROM:+0100
TZOFFSETTO:+0000
TZNAME:Europe/London GMT
END:STANDARD
BEGIN:STANDARD
DTSTART:20261025T010000
RDATE:20270328T020000
TZOFFSETFROM:+0100
TZOFFSETTO:+0000
TZNAME:Europe/London GMT
END:STANDARD
BEGIN:STANDARD
DTSTART:20271031T010000
RDATE:20280326T020000
TZOFFSETFROM:+0100
TZOFFSETTO:+0000
TZNAME:Europe/London GMT
END:STANDARD
BEGIN:STANDARD
DTSTART:20281029T010000
RDATE:20290325T020000
TZOFFSETFROM:+0100
TZOFFSETTO:+0000
TZNAME:Europe/London GMT
END:STANDARD
BEGIN:STANDARD
DTSTART:20291028T010000
RDATE:20300331T020000
TZOFFSETFROM:+0100
TZOFFSETTO:+0000
TZNAME:Europe/London GMT
END:STANDARD
BEGIN:STANDARD
DTSTART:20301027T010000
RDATE:20310330T020000
TZOFFSETFROM:+0100
TZOFFSETTO:+0000
TZNAME:Europe/London GMT
END:STANDARD
BEGIN:DAYLIGHT
DTSTART:20220327T020000
RDATE:20221030T010000
TZOFFSETFROM:+0000
TZOFFSETTO:+0100
TZNAME:Europe/London BST
END:DAYLIGHT
BEGIN:DAYLIGHT
DTSTART:20230326T020000
RDATE:20231029T010000
TZOFFSETFROM:+0000
TZOFFSETTO:+0100
TZNAME:Europe/London BST
END:DAYLIGHT
BEGIN:DAYLIGHT
DTSTART:20240331T020000
RDATE:20241027T010000
TZOFFSETFROM:+0000
TZOFFSETTO:+0100
TZNAME:Europe/London BST
END:DAYLIGHT
BEGIN:DAYLIGHT
DTSTART:20250330T020000
RDATE:20251026T010000
TZOFFSETFROM:+0000
TZOFFSETTO:+0100
TZNAME:Europe/London BST
END:DAYLIGHT
BEGIN:DAYLIGHT
DTSTART:20260329T020000
RDATE:20261025T010000
TZOFFSETFROM:+0000
TZOFFSETTO:+0100
TZNAME:Europe/London BST
END:DAYLIGHT
BEGIN:DAYLIGHT
DTSTART:20270328T020000
RDATE:20271031T010000
TZOFFSETFROM:+0000
TZOFFSETTO:+0100
TZNAME:Europe/London BST
END:DAYLIGHT
BEGIN:DAYLIGHT
DTSTART:20280326T020000
RDATE:20281029T010000
TZOFFSETFROM:+0000
TZOFFSETTO:+0100
TZNAME:Europe/London BST
END:DAYLIGHT
BEGIN:DAYLIGHT
DTSTART:20290325T020000
RDATE:20291028T010000
TZOFFSETFROM:+0000
TZOFFSETTO:+0100
TZNAME:Europe/London BST
END:DAYLIGHT
BEGIN:DAYLIGHT
DTSTART:20300331T020000
RDATE:20301027T010000
TZOFFSETFROM:+0000
TZOFFSETTO:+0100
TZNAME:Europe/London BST
END:DAYLIGHT
END:VTIMEZONE
BEGIN:VEVENT
UID:a88857867604c34f9855638a33eaaf14
CATEGORIES:North
CREATED:20230213T210929
SUMMARY:Advanced Practice - 10/12 Bell
LOCATION:East Grinstead (confirmed)
URL;VALUE=URI:https://www.scacr.org/news-events/calendar/1080/advanced-practice-10-12-bel
 l?tmpl=component
DESCRIPTION:This practice will focus on 10-bell ringing, with the possibility for 12-be
 ll ringing if enough experienced 12-bell ringers attend.  The practice will
  focus on Stedman Caters, and Cambridge and Yorkshire Surprise Royal. \nAs 
 part of the celebrations of the 10 year anniversary of the signing of the C
 ommonwealth Charter (https://thecommonwealth.org/charter), by Queen Elizabe
 th II, at least 10 whole pulls of Queens will be rung at 8 pm.\nMembers fro
 m other Districts are very welcome to join.  \nNot sure if this practice is
  for you?  Just get in touch :-)\n This event was imported from: https://ww
 w.scacr.org/news-events/calendar/1080/advanced-practice-10-12-bell?tmpl=com
 ponent (https://www.scacr.org/news-events/calendar/1080/advanced-practice-1
 0-12-bell?tmpl=component)
X-ALT-DESC;FMTTYPE=text/html:<p>This practice will focus on 10-bell ringing, with the possibility for 12
 -bell ringing if enough experienced 12-bell ringers attend.&nbsp; The pract
 ice will focus on Stedman Caters, and Cambridge and Yorkshire Surprise Roya
 l.&nbsp;</p><p>As part of the&nbsp;celebrations of the 10 year anniversary 
 of the signing of the&nbsp;<a href="https://thecommonwealth.org/charter">Co
 mmonwealth Charter</a>, by&nbsp;Queen Elizabeth II, at least 10 whole pulls
  of Queens will be rung at 8 pm.</p><p>Members from other Districts are ver
 y welcome to join.&nbsp;&nbsp;</p><p>Not sure if this practice is for you?&
 nbsp; Just get in touch :-)</p> <a href="https://www.scacr.org/news-events/
 calendar/1080/advanced-practice-10-12-bell?tmpl=component">This event was i
 mported from: https://www.scacr.org/news-events/calendar/1080/advanced-prac
 tice-10-12-bell?tmpl=component</a>CONTACT:This email address is being protected from spambots. You need JavaScript enabled to view it.
				document.getElementById('cloak235a8e26a4bf836bf77f8e7fb92b487f').innerHTML = '';
				var prefix = '&#109;a' + 'i&#108;' + '&#116;o';
				var path = 'hr' + 'ef' + '=';
				var addy235a8e26a4bf836bf77f8e7fb92b487f = 's&#101;c-n&#111;rth' + '&#64;';
				addy235a8e26a4bf836bf77f8e7fb92b487f = addy235a8e26a4bf836bf77f8e7fb92b487f + 'sc&#97;cr' + '&#46;' + '&#111;rg';
				var addy_text235a8e26a4bf836bf77f8e7fb92b487f = 's&#101;c-n&#111;rth' + '&#64;' + 'sc&#97;cr' + '&#46;' + '&#111;rg';document.getElementById('cloak235a8e26a4bf836bf77f8e7fb92b487f').innerHTML += '<a ' + path + '\'' + prefix + ':' + addy235a8e26a4bf836bf77f8e7fb92b487f + '\'>'+addy_text235a8e26a4bf836bf77f8e7fb92b487f+'';
		
DTSTAMP:20260421T004103
DTSTART;TZID=Europe/London:20230313T193000
DTEND;TZID=Europe/London:20230313T210000
SEQUENCE:0
TRANSP:OPAQUE
END:VEVENT
END:VCALENDAR