BEGIN:VCALENDAR
VERSION:2.0
PRODID:-//jEvents 2.0 for Joomla//EN
CALSCALE:GREGORIAN
METHOD:PUBLISH
BEGIN:VTIMEZONE
TZID:Europe/London
BEGIN:STANDARD
DTSTART:20221030T010000
RDATE:20230326T020000
TZOFFSETFROM:+0100
TZOFFSETTO:+0000
TZNAME:Europe/London GMT
END:STANDARD
BEGIN:STANDARD
DTSTART:20231029T010000
RDATE:20240331T020000
TZOFFSETFROM:+0100
TZOFFSETTO:+0000
TZNAME:Europe/London GMT
END:STANDARD
BEGIN:STANDARD
DTSTART:20241027T010000
RDATE:20250330T020000
TZOFFSETFROM:+0100
TZOFFSETTO:+0000
TZNAME:Europe/London GMT
END:STANDARD
BEGIN:STANDARD
DTSTART:20251026T010000
RDATE:20260329T020000
TZOFFSETFROM:+0100
TZOFFSETTO:+0000
TZNAME:Europe/London GMT
END:STANDARD
BEGIN:STANDARD
DTSTART:20261025T010000
RDATE:20270328T020000
TZOFFSETFROM:+0100
TZOFFSETTO:+0000
TZNAME:Europe/London GMT
END:STANDARD
BEGIN:STANDARD
DTSTART:20271031T010000
RDATE:20280326T020000
TZOFFSETFROM:+0100
TZOFFSETTO:+0000
TZNAME:Europe/London GMT
END:STANDARD
BEGIN:STANDARD
DTSTART:20281029T010000
RDATE:20290325T020000
TZOFFSETFROM:+0100
TZOFFSETTO:+0000
TZNAME:Europe/London GMT
END:STANDARD
BEGIN:STANDARD
DTSTART:20291028T010000
RDATE:20300331T020000
TZOFFSETFROM:+0100
TZOFFSETTO:+0000
TZNAME:Europe/London GMT
END:STANDARD
BEGIN:STANDARD
DTSTART:20301027T010000
RDATE:20310330T020000
TZOFFSETFROM:+0100
TZOFFSETTO:+0000
TZNAME:Europe/London GMT
END:STANDARD
BEGIN:DAYLIGHT
DTSTART:20220728T000000
RDATE:20221030T010000
TZOFFSETFROM:+0000
TZOFFSETTO:+0100
TZNAME:Europe/London BST
END:DAYLIGHT
BEGIN:DAYLIGHT
DTSTART:20230326T020000
RDATE:20231029T010000
TZOFFSETFROM:+0000
TZOFFSETTO:+0100
TZNAME:Europe/London BST
END:DAYLIGHT
BEGIN:DAYLIGHT
DTSTART:20240331T020000
RDATE:20241027T010000
TZOFFSETFROM:+0000
TZOFFSETTO:+0100
TZNAME:Europe/London BST
END:DAYLIGHT
BEGIN:DAYLIGHT
DTSTART:20250330T020000
RDATE:20251026T010000
TZOFFSETFROM:+0000
TZOFFSETTO:+0100
TZNAME:Europe/London BST
END:DAYLIGHT
BEGIN:DAYLIGHT
DTSTART:20260329T020000
RDATE:20261025T010000
TZOFFSETFROM:+0000
TZOFFSETTO:+0100
TZNAME:Europe/London BST
END:DAYLIGHT
BEGIN:DAYLIGHT
DTSTART:20270328T020000
RDATE:20271031T010000
TZOFFSETFROM:+0000
TZOFFSETTO:+0100
TZNAME:Europe/London BST
END:DAYLIGHT
BEGIN:DAYLIGHT
DTSTART:20280326T020000
RDATE:20281029T010000
TZOFFSETFROM:+0000
TZOFFSETTO:+0100
TZNAME:Europe/London BST
END:DAYLIGHT
BEGIN:DAYLIGHT
DTSTART:20290325T020000
RDATE:20291028T010000
TZOFFSETFROM:+0000
TZOFFSETTO:+0100
TZNAME:Europe/London BST
END:DAYLIGHT
BEGIN:DAYLIGHT
DTSTART:20300331T020000
RDATE:20301027T010000
TZOFFSETFROM:+0000
TZOFFSETTO:+0100
TZNAME:Europe/London BST
END:DAYLIGHT
END:VTIMEZONE
BEGIN:VEVENT
UID:3643f00337e828f9d7cc3da251231dae
CATEGORIES:Association Event
CREATED:20230203T080933
SUMMARY:CANCELLED : Novice 10-bell practice
LOCATION:TBC
URL;VALUE=URI:https://www.scacr.org/news-events/calendar/1077/cancelled-novice-10-bell-pr
 actice?tmpl=component
DESCRIPTION:This practice will provide an opportunity for novice ringers to gain experi
 ence at ringing on 10 bells, focusing on rounds and call changes. There wil
 l be a break for coffee and cake!\nHelpers who are experienced 10-bell ring
 ers who can form a steady band around learners who have no or little experi
 ence on 10 (for rounds and call changes) are needed - if you could help, pl
 ease contact Vicky on  (mailto:training@scacr.org) (mailto:training@scacr.o
 rg)This email address is being protected from spambots. You need JavaScript
  enabled to view it.
				document.getElementById('cloak8b307e19b975e0af8b0b
 5cde1d09b303').innerHTML = '';
				var prefix = '&#109;a' + 'i&#108;' + '&#
 116;o';
				var path = 'hr' + 'ef' + '=';
				var addy8b307e19b975e0af8b0b5
 cde1d09b303 = 'tr&#97;&#105;n&#105;ng' + '&#64;';
				addy8b307e19b975e0af8
 b0b5cde1d09b303 = addy8b307e19b975e0af8b0b5cde1d09b303 + 'sc&#97;cr' + '&#4
 6;' + '&#111;rg';
				var addy_text8b307e19b975e0af8b0b5cde1d09b303 = 'tr&#
 97;&#105;n&#105;ng' + '&#64;' + 'sc&#97;cr' + '&#46;' + '&#111;rg';document
 .getElementById('cloak8b307e19b975e0af8b0b5cde1d09b303').innerHTML += '<a '
  + path + '\'' + prefix + ':' + addy8b307e19b975e0af8b0b5cde1d09b303 + '\'>
 '+addy_text8b307e19b975e0af8b0b5cde1d09b303+'';
		.  \nLearners' spaces are
  limited - to register your interest, contact Vicky on  (mailto:training@sc
 acr.org) (mailto:training@scacr.org)This email address is being protected f
 rom spambots. You need JavaScript enabled to view it.
				document.getEleme
 ntById('cloak0e22ec225a3fe2a5bab7338784ef7661').innerHTML = '';
				var pre
 fix = '&#109;a' + 'i&#108;' + '&#116;o';
				var path = 'hr' + 'ef' + '=';

 				var addy0e22ec225a3fe2a5bab7338784ef7661 = 'tr&#97;&#105;n&#105;ng' + '
 &#64;';
				addy0e22ec225a3fe2a5bab7338784ef7661 = addy0e22ec225a3fe2a5bab7
 338784ef7661 + 'sc&#97;cr' + '&#46;' + '&#111;rg';
				var addy_text0e22ec2
 25a3fe2a5bab7338784ef7661 = 'tr&#97;&#105;n&#105;ng' + '&#64;' + 'sc&#97;cr
 ' + '&#46;' + '&#111;rg';document.getElementById('cloak0e22ec225a3fe2a5bab7
 338784ef7661').innerHTML += '<a ' + path + '\'' + prefix + ':' + addy0e22ec
 225a3fe2a5bab7338784ef7661 + '\'>'+addy_text0e22ec225a3fe2a5bab7338784ef766
 1+'';
		.  \n This event was imported from: https://www.scacr.org/news-even
 ts/calendar/1077/cancelled-novice-10-bell-practice?tmpl=component (https://
 www.scacr.org/news-events/calendar/1077/cancelled-novice-10-bell-practice?t
 mpl=component)
X-ALT-DESC;FMTTYPE=text/html:<p>This practice will provide an opportunity for novice ringers to gain exp
 erience at ringing on 10 bells, focusing on rounds and call changes. There 
 will be a break for coffee and cake!</p><p>Helpers who are experienced 10-b
 ell ringers who can form a steady band around learners who have no or littl
 e experience on 10 (for rounds and call changes) are needed - if you could 
 help, please contact Vicky on&nbsp;<span id="cloakb771c21680c42cbd0152af10c
 4b9fe02"><a href="mailto:training@scacr.org"></a><span id="cloak75c3491b35e
 0a64a33f58c4eaa95c3bf"><a href="mailto:training@scacr.org"></a><span id="cl
 oak8b307e19b975e0af8b0b5cde1d09b303">This email address is being protected 
 from spambots. You need JavaScript enabled to view it.</span><script type='
 text/javascript'>
				document.getElementById('cloak8b307e19b975e0af8b0b5cd
 e1d09b303').innerHTML = '';
				var prefix = '&#109;a' + 'i&#108;' + '&#116
 ;o';
				var path = 'hr' + 'ef' + '=';
				var addy8b307e19b975e0af8b0b5cde
 1d09b303 = 'tr&#97;&#105;n&#105;ng' + '&#64;';
				addy8b307e19b975e0af8b0b
 5cde1d09b303 = addy8b307e19b975e0af8b0b5cde1d09b303 + 'sc&#97;cr' + '&#46;'
  + '&#111;rg';
				var addy_text8b307e19b975e0af8b0b5cde1d09b303 = 'tr&#97;
 &#105;n&#105;ng' + '&#64;' + 'sc&#97;cr' + '&#46;' + '&#111;rg';document.ge
 tElementById('cloak8b307e19b975e0af8b0b5cde1d09b303').innerHTML += '<a ' + 
 path + '\'' + prefix + ':' + addy8b307e19b975e0af8b0b5cde1d09b303 + '\'>'+a
 ddy_text8b307e19b975e0af8b0b5cde1d09b303+'<\/a>';
		</script></span></span>
 .&nbsp;&nbsp;</p><p>Learners' spaces are limited - to register your interes
 t, contact&nbsp;Vicky on&nbsp;<span id="cloakb771c21680c42cbd0152af10c4b9fe
 02"><a href="mailto:training@scacr.org"></a><span id="cloak07e04b197528b18f
 74a31e73d450f20b"><a href="mailto:training@scacr.org"></a><span id="cloak0e
 22ec225a3fe2a5bab7338784ef7661">This email address is being protected from 
 spambots. You need JavaScript enabled to view it.</span><script type='text/
 javascript'>
				document.getElementById('cloak0e22ec225a3fe2a5bab7338784ef
 7661').innerHTML = '';
				var prefix = '&#109;a' + 'i&#108;' + '&#116;o';

 				var path = 'hr' + 'ef' + '=';
				var addy0e22ec225a3fe2a5bab7338784ef7
 661 = 'tr&#97;&#105;n&#105;ng' + '&#64;';
				addy0e22ec225a3fe2a5bab733878
 4ef7661 = addy0e22ec225a3fe2a5bab7338784ef7661 + 'sc&#97;cr' + '&#46;' + '&
 #111;rg';
				var addy_text0e22ec225a3fe2a5bab7338784ef7661 = 'tr&#97;&#105
 ;n&#105;ng' + '&#64;' + 'sc&#97;cr' + '&#46;' + '&#111;rg';document.getElem
 entById('cloak0e22ec225a3fe2a5bab7338784ef7661').innerHTML += '<a ' + path 
 + '\'' + prefix + ':' + addy0e22ec225a3fe2a5bab7338784ef7661 + '\'>'+addy_t
 ext0e22ec225a3fe2a5bab7338784ef7661+'<\/a>';
		</script></span></span>.&nbs
 p;&nbsp;</p> <a href="https://www.scacr.org/news-events/calendar/1077/cance
 lled-novice-10-bell-practice?tmpl=component">This event was imported from: 
 https://www.scacr.org/news-events/calendar/1077/cancelled-novice-10-bell-pr
 actice?tmpl=component</a>CONTACT:This email address is being protected from spambots. You need JavaScript enabled to view it.
				document.getElementById('cloak74cc3cd909eb439a75a387dac9a7a707').innerHTML = '';
				var prefix = '&#109;a' + 'i&#108;' + '&#116;o';
				var path = 'hr' + 'ef' + '=';
				var addy74cc3cd909eb439a75a387dac9a7a707 = 'tr&#97;&#105;n&#105;ng' + '&#64;';
				addy74cc3cd909eb439a75a387dac9a7a707 = addy74cc3cd909eb439a75a387dac9a7a707 + 'sc&#97;cr' + '&#46;' + '&#111;rg';
				var addy_text74cc3cd909eb439a75a387dac9a7a707 = 'tr&#97;&#105;n&#105;ng' + '&#64;' + 'sc&#97;cr' + '&#46;' + '&#111;rg';document.getElementById('cloak74cc3cd909eb439a75a387dac9a7a707').innerHTML += '<a ' + path + '\'' + prefix + ':' + addy74cc3cd909eb439a75a387dac9a7a707 + '\'>'+addy_text74cc3cd909eb439a75a387dac9a7a707+'';
		
DTSTAMP:20260419T200823
DTSTART;TZID=Europe/London;VALUE=DATE:20230729
DTEND;TZID=Europe/London;VALUE=DATE:20230730
SEQUENCE:0
TRANSP:OPAQUE
END:VEVENT
END:VCALENDAR