BEGIN:VCALENDAR
VERSION:2.0
PRODID:-//jEvents 2.0 for Joomla//EN
CALSCALE:GREGORIAN
METHOD:PUBLISH
BEGIN:VTIMEZONE
TZID:Europe/London
BEGIN:STANDARD
DTSTART:20230119T140000
RDATE:20230326T020000
TZOFFSETFROM:+0100
TZOFFSETTO:+0000
TZNAME:Europe/London GMT
END:STANDARD
BEGIN:STANDARD
DTSTART:20231029T010000
RDATE:20240331T020000
TZOFFSETFROM:+0100
TZOFFSETTO:+0000
TZNAME:Europe/London GMT
END:STANDARD
BEGIN:STANDARD
DTSTART:20241027T010000
RDATE:20250330T020000
TZOFFSETFROM:+0100
TZOFFSETTO:+0000
TZNAME:Europe/London GMT
END:STANDARD
BEGIN:STANDARD
DTSTART:20251026T010000
RDATE:20260329T020000
TZOFFSETFROM:+0100
TZOFFSETTO:+0000
TZNAME:Europe/London GMT
END:STANDARD
BEGIN:STANDARD
DTSTART:20261025T010000
RDATE:20270328T020000
TZOFFSETFROM:+0100
TZOFFSETTO:+0000
TZNAME:Europe/London GMT
END:STANDARD
BEGIN:STANDARD
DTSTART:20271031T010000
RDATE:20280326T020000
TZOFFSETFROM:+0100
TZOFFSETTO:+0000
TZNAME:Europe/London GMT
END:STANDARD
BEGIN:STANDARD
DTSTART:20281029T010000
RDATE:20290325T020000
TZOFFSETFROM:+0100
TZOFFSETTO:+0000
TZNAME:Europe/London GMT
END:STANDARD
BEGIN:STANDARD
DTSTART:20291028T010000
RDATE:20300331T020000
TZOFFSETFROM:+0100
TZOFFSETTO:+0000
TZNAME:Europe/London GMT
END:STANDARD
BEGIN:STANDARD
DTSTART:20301027T010000
RDATE:20310330T020000
TZOFFSETFROM:+0100
TZOFFSETTO:+0000
TZNAME:Europe/London GMT
END:STANDARD
BEGIN:DAYLIGHT
DTSTART:20230326T020000
RDATE:20231029T010000
TZOFFSETFROM:+0000
TZOFFSETTO:+0100
TZNAME:Europe/London BST
END:DAYLIGHT
BEGIN:DAYLIGHT
DTSTART:20240331T020000
RDATE:20241027T010000
TZOFFSETFROM:+0000
TZOFFSETTO:+0100
TZNAME:Europe/London BST
END:DAYLIGHT
BEGIN:DAYLIGHT
DTSTART:20250330T020000
RDATE:20251026T010000
TZOFFSETFROM:+0000
TZOFFSETTO:+0100
TZNAME:Europe/London BST
END:DAYLIGHT
BEGIN:DAYLIGHT
DTSTART:20260329T020000
RDATE:20261025T010000
TZOFFSETFROM:+0000
TZOFFSETTO:+0100
TZNAME:Europe/London BST
END:DAYLIGHT
BEGIN:DAYLIGHT
DTSTART:20270328T020000
RDATE:20271031T010000
TZOFFSETFROM:+0000
TZOFFSETTO:+0100
TZNAME:Europe/London BST
END:DAYLIGHT
BEGIN:DAYLIGHT
DTSTART:20280326T020000
RDATE:20281029T010000
TZOFFSETFROM:+0000
TZOFFSETTO:+0100
TZNAME:Europe/London BST
END:DAYLIGHT
BEGIN:DAYLIGHT
DTSTART:20290325T020000
RDATE:20291028T010000
TZOFFSETFROM:+0000
TZOFFSETTO:+0100
TZNAME:Europe/London BST
END:DAYLIGHT
BEGIN:DAYLIGHT
DTSTART:20300331T020000
RDATE:20301027T010000
TZOFFSETFROM:+0000
TZOFFSETTO:+0100
TZNAME:Europe/London BST
END:DAYLIGHT
END:VTIMEZONE
BEGIN:VEVENT
UID:fd1c39f47ffdd4e9a325d4286136221e
CATEGORIES:East
CREATED:20230111T121322
SUMMARY:Eastern District in Memory of David Leworthy
LOCATION:All Saints\, Eastbourne
URL;VALUE=URI:https://www.scacr.org/news-events/calendar/1067/eastern-district-in-memory-
 of-david-leworthy?tmpl=component
DESCRIPTION:A day of ringing in memory of David will be held at All Saints', Eastbourne
 , on Saturday 20th January 2024 open to all SCACR members and beyond - plea
 se see contact details for Marion below if you wish to register interest.(8
  bells, 16-0-5 refurbished in 2022) Initial details below, subject to confi
 rmation on timings for the quarter peals, open ringing, service and tea. Ri
 nging from 2.00pm to 4.00pm, followed by tea, courtesy of the Mothers Union
 , and a very short service of thanksgiving in the church. If you are intere
 sting in ringing in a quarter peal in Eastbourne on this day (depending on 
 levels of interest these may be at other churches) please contact Marion Ho
 llands. Further details will be provided but please register interest with 
 Marion Hollands at This email address is being protected from spambots. You
  need JavaScript enabled to view it.
				document.getElementById('cloak761d
 d9fc4cf1076d5a4560a9b17ad480').innerHTML = '';
				var prefix = '&#109;a' +
  'i&#108;' + '&#116;o';
				var path = 'hr' + 'ef' + '=';
				var addy761dd
 9fc4cf1076d5a4560a9b17ad480 = 's&#101;c-&#101;&#97;st' + '&#64;';
				addy7
 61dd9fc4cf1076d5a4560a9b17ad480 = addy761dd9fc4cf1076d5a4560a9b17ad480 + 's
 c&#97;cr' + '&#46;' + '&#111;rg';
				var addy_text761dd9fc4cf1076d5a4560a9
 b17ad480 = 's&#101;c-&#101;&#97;st' + '&#64;' + 'sc&#97;cr' + '&#46;' + '&#
 111;rg';document.getElementById('cloak761dd9fc4cf1076d5a4560a9b17ad480').in
 nerHTML += '<a ' + path + '\'' + prefix + ':' + addy761dd9fc4cf1076d5a4560a
 9b17ad480 + '\'>'+addy_text761dd9fc4cf1076d5a4560a9b17ad480+'';
		 Message 
 from Pip Pawley:David had a very long period of ringing - since 1968 (!) He
  spent many years as tower captain, sometime secretary of SCACR, and more p
 articularly training many young ringers. He was intrumental in re-establish
 ing the band at All Saints Eastbourne in 2006. It is hoped that a number of
  quarters will be rung in David's memory, not only at All Saints', but at o
 ther towers throughout Kent and Sussex. ***PLEASE NOTE THIS EVENT REPLACES 
 THE USUAL 4th SATURDAY RINGING MEETING FOR THE EASTERN DISTRICT***\n This e
 vent was imported from: https://www.scacr.org/news-events/calendar/1067/eas
 tern-district-in-memory-of-david-leworthy?tmpl=component (https://www.scacr
 .org/news-events/calendar/1067/eastern-district-in-memory-of-david-leworthy
 ?tmpl=component)
X-ALT-DESC;FMTTYPE=text/html:<div dir="auto"><strong>A day of ringing in memory of David will be held at
  All Saints', Eastbourne, on Saturday 20th January 2024 open to all SCACR m
 embers and beyond - please see contact details for Marion below if you wish
  to register interest.</strong></div><div>(8 bells, 16-0-5 refurbished in 2
 022)</div><div>&nbsp;</div><div>Initial details below, subject to confirmat
 ion on timings for the quarter peals, open ringing, service and tea.</div><
 div>&nbsp;</div><div dir="auto"><strong>Ringing from 2.00pm to 4.00pm, foll
 owed by tea, courtesy of the Mothers Union, and <a tabindex="-1"></a>a very
  short service of thanksgiving in the church.</strong></div><div>&nbsp;</di
 v><div>If you are interesting in ringing in a quarter peal in Eastbourne on
  this day (depending on levels of interest these may be at other churches) 
 please contact Marion Hollands.</div><div>&nbsp;</div><div>Further details 
 will be provided but please register interest with Marion Hollands at <span
  id="cloak761dd9fc4cf1076d5a4560a9b17ad480">This email address is being pro
 tected from spambots. You need JavaScript enabled to view it.</span><script
  type='text/javascript'>
				document.getElementById('cloak761dd9fc4cf1076d
 5a4560a9b17ad480').innerHTML = '';
				var prefix = '&#109;a' + 'i&#108;' +
  '&#116;o';
				var path = 'hr' + 'ef' + '=';
				var addy761dd9fc4cf1076d5
 a4560a9b17ad480 = 's&#101;c-&#101;&#97;st' + '&#64;';
				addy761dd9fc4cf10
 76d5a4560a9b17ad480 = addy761dd9fc4cf1076d5a4560a9b17ad480 + 'sc&#97;cr' + 
 '&#46;' + '&#111;rg';
				var addy_text761dd9fc4cf1076d5a4560a9b17ad480 = '
 s&#101;c-&#101;&#97;st' + '&#64;' + 'sc&#97;cr' + '&#46;' + '&#111;rg';docu
 ment.getElementById('cloak761dd9fc4cf1076d5a4560a9b17ad480').innerHTML += '
 <a ' + path + '\'' + prefix + ':' + addy761dd9fc4cf1076d5a4560a9b17ad480 + 
 '\'>'+addy_text761dd9fc4cf1076d5a4560a9b17ad480+'<\/a>';
		</script></div><
 div>&nbsp;</div><div>Message from Pip Pawley:</div><div dir="auto" style="p
 adding-left: 30px;"><em>David had a very long period of ringing - since 196
 8 (!) He spent many years as tower captain, sometime secretary of SCACR, an
 d more particularly training many young ringers. He was intrumental in re-e
 stablishing the band at All Saints Eastbourne in 2006.</em></div><div style
 ="padding-left: 30px;">&nbsp;</div><div dir="auto" style="padding-left: 30p
 x;"><em>It is hoped that a number of quarters will be rung in David's memor
 y, not only at All Saints', but at other towers throughout Kent and Sussex.
 </em></div><div>&nbsp;</div><p><strong>***PLEASE NOTE THIS EVENT REPLACES T
 HE USUAL 4th SATURDAY RINGING MEETING FOR THE EASTERN DISTRICT***</strong><
 /p> <a href="https://www.scacr.org/news-events/calendar/1067/eastern-distri
 ct-in-memory-of-david-leworthy?tmpl=component">This event was imported from
 : https://www.scacr.org/news-events/calendar/1067/eastern-district-in-memor
 y-of-david-leworthy?tmpl=component</a>CONTACT:This email address is being protected from spambots. You need JavaScript enabled to view it.
				document.getElementById('cloaka1049f454f31c2c4c00f4aae4063e113').innerHTML = '';
				var prefix = '&#109;a' + 'i&#108;' + '&#116;o';
				var path = 'hr' + 'ef' + '=';
				var addya1049f454f31c2c4c00f4aae4063e113 = 's&#101;c-&#101;&#97;st' + '&#64;';
				addya1049f454f31c2c4c00f4aae4063e113 = addya1049f454f31c2c4c00f4aae4063e113 + 'sc&#97;cr' + '&#46;' + '&#111;rg';
				var addy_texta1049f454f31c2c4c00f4aae4063e113 = 's&#101;c-&#101;&#97;st' + '&#64;' + 'sc&#97;cr' + '&#46;' + '&#111;rg';document.getElementById('cloaka1049f454f31c2c4c00f4aae4063e113').innerHTML += '<a ' + path + '\'' + prefix + ':' + addya1049f454f31c2c4c00f4aae4063e113 + '\'>'+addy_texta1049f454f31c2c4c00f4aae4063e113+'';
		
DTSTAMP:20260420T162759
DTSTART;TZID=Europe/London:20240120T140000
DTEND;TZID=Europe/London:20240120T163000
SEQUENCE:0
TRANSP:OPAQUE
END:VEVENT
END:VCALENDAR