BEGIN:VCALENDAR
VERSION:2.0
PRODID:-//jEvents 2.0 for Joomla//EN
CALSCALE:GREGORIAN
METHOD:PUBLISH
BEGIN:VTIMEZONE
TZID:Europe/London
BEGIN:STANDARD
DTSTART:20221030T010000
RDATE:20230326T020000
TZOFFSETFROM:+0100
TZOFFSETTO:+0000
TZNAME:Europe/London GMT
END:STANDARD
BEGIN:STANDARD
DTSTART:20231029T010000
RDATE:20240331T020000
TZOFFSETFROM:+0100
TZOFFSETTO:+0000
TZNAME:Europe/London GMT
END:STANDARD
BEGIN:STANDARD
DTSTART:20241027T010000
RDATE:20250330T020000
TZOFFSETFROM:+0100
TZOFFSETTO:+0000
TZNAME:Europe/London GMT
END:STANDARD
BEGIN:STANDARD
DTSTART:20251026T010000
RDATE:20260329T020000
TZOFFSETFROM:+0100
TZOFFSETTO:+0000
TZNAME:Europe/London GMT
END:STANDARD
BEGIN:STANDARD
DTSTART:20261025T010000
RDATE:20270328T020000
TZOFFSETFROM:+0100
TZOFFSETTO:+0000
TZNAME:Europe/London GMT
END:STANDARD
BEGIN:STANDARD
DTSTART:20271031T010000
RDATE:20280326T020000
TZOFFSETFROM:+0100
TZOFFSETTO:+0000
TZNAME:Europe/London GMT
END:STANDARD
BEGIN:STANDARD
DTSTART:20281029T010000
RDATE:20290325T020000
TZOFFSETFROM:+0100
TZOFFSETTO:+0000
TZNAME:Europe/London GMT
END:STANDARD
BEGIN:STANDARD
DTSTART:20291028T010000
RDATE:20300331T020000
TZOFFSETFROM:+0100
TZOFFSETTO:+0000
TZNAME:Europe/London GMT
END:STANDARD
BEGIN:STANDARD
DTSTART:20301027T010000
RDATE:20310330T020000
TZOFFSETFROM:+0100
TZOFFSETTO:+0000
TZNAME:Europe/London GMT
END:STANDARD
BEGIN:DAYLIGHT
DTSTART:20221027T140000
RDATE:20221030T010000
TZOFFSETFROM:+0000
TZOFFSETTO:+0100
TZNAME:Europe/London BST
END:DAYLIGHT
BEGIN:DAYLIGHT
DTSTART:20230326T020000
RDATE:20231029T010000
TZOFFSETFROM:+0000
TZOFFSETTO:+0100
TZNAME:Europe/London BST
END:DAYLIGHT
BEGIN:DAYLIGHT
DTSTART:20240331T020000
RDATE:20241027T010000
TZOFFSETFROM:+0000
TZOFFSETTO:+0100
TZNAME:Europe/London BST
END:DAYLIGHT
BEGIN:DAYLIGHT
DTSTART:20250330T020000
RDATE:20251026T010000
TZOFFSETFROM:+0000
TZOFFSETTO:+0100
TZNAME:Europe/London BST
END:DAYLIGHT
BEGIN:DAYLIGHT
DTSTART:20260329T020000
RDATE:20261025T010000
TZOFFSETFROM:+0000
TZOFFSETTO:+0100
TZNAME:Europe/London BST
END:DAYLIGHT
BEGIN:DAYLIGHT
DTSTART:20270328T020000
RDATE:20271031T010000
TZOFFSETFROM:+0000
TZOFFSETTO:+0100
TZNAME:Europe/London BST
END:DAYLIGHT
BEGIN:DAYLIGHT
DTSTART:20280326T020000
RDATE:20281029T010000
TZOFFSETFROM:+0000
TZOFFSETTO:+0100
TZNAME:Europe/London BST
END:DAYLIGHT
BEGIN:DAYLIGHT
DTSTART:20290325T020000
RDATE:20291028T010000
TZOFFSETFROM:+0000
TZOFFSETTO:+0100
TZNAME:Europe/London BST
END:DAYLIGHT
BEGIN:DAYLIGHT
DTSTART:20300331T020000
RDATE:20301027T010000
TZOFFSETFROM:+0000
TZOFFSETTO:+0100
TZNAME:Europe/London BST
END:DAYLIGHT
END:VTIMEZONE
BEGIN:VEVENT
UID:50b3e66fae19c680d079e3a380852d04
CATEGORIES:East
CREATED:20230111T121236
SUMMARY:Heathfield & Waldron General Practice
LOCATION:Heathfield &amp; Waldron
URL;VALUE=URI:https://www.scacr.org/news-events/calendar/1066/heathfield-waldron-general-
 practice?tmpl=component
DESCRIPTION:<p>General practices return this month in the Eastern District with ringing
  at two 8 bell towers in the High Weald.</p><p><strong>2pm - Heathfield, Al
 l Saints (Old Heathfield!)</strong> - 8 bells, 11cwt in G (all 1921 Mears &
 amp; Stainbank) - Ringing in this delightful 14th century church in the old
  village of Heathfield, a mile or so from the more modern town.</p><p><stro
 ng>After the ringing at Heathfield, teas and coffees will be served there.<
 /strong></p><p><strong>4:30pm - Waldron, All Saints, </strong>8 bells, 12cw
 t in G (all 1912 John Warner &amp; Sons) - following the refreshments we wi
 ll reconvene at this Grade I listed 13th century village church for further
  ringing.</p><p>All ringers are welcome, including those from other distric
 ts and beyond.&nbsp;</p><p>Ringing will include rounds and call changes, as
  well as Plaint Hunt and methods to suit the repertoire of those present.&n
 bsp;</p> <a href="https://www.scacr.org/news-events/calendar/1066/heathfiel
 d-waldron-general-practice?tmpl=component">This event was imported from: ht
 tps://www.scacr.org/news-events/calendar/1066/heathfield-waldron-general-pr
 actice?tmpl=component</a>CONTACT:This email address is being protected from spambots. You need JavaScript enabled to view it.
				document.getElementById('cloak82bae9330a5572a5cffd8957b4a7d85d').innerHTML = '';
				var prefix = '&#109;a' + 'i&#108;' + '&#116;o';
				var path = 'hr' + 'ef' + '=';
				var addy82bae9330a5572a5cffd8957b4a7d85d = 's&#101;c-&#101;&#97;st' + '&#64;';
				addy82bae9330a5572a5cffd8957b4a7d85d = addy82bae9330a5572a5cffd8957b4a7d85d + 'sc&#97;cr' + '&#46;' + '&#111;rg';
				var addy_text82bae9330a5572a5cffd8957b4a7d85d = 's&#101;c-&#101;&#97;st' + '&#64;' + 'sc&#97;cr' + '&#46;' + '&#111;rg';document.getElementById('cloak82bae9330a5572a5cffd8957b4a7d85d').innerHTML += '<a ' + path + '\'' + prefix + ':' + addy82bae9330a5572a5cffd8957b4a7d85d + '\'>'+addy_text82bae9330a5572a5cffd8957b4a7d85d+'';
		
DTSTAMP:20260420T195500
DTSTART;TZID=Europe/London:20231028T140000
SEQUENCE:0
TRANSP:OPAQUE
END:VEVENT
END:VCALENDAR