BEGIN:VCALENDAR
VERSION:2.0
PRODID:-//jEvents 2.0 for Joomla//EN
CALSCALE:GREGORIAN
METHOD:PUBLISH
BEGIN:VTIMEZONE
TZID:Europe/London
BEGIN:STANDARD
DTSTART:20221030T010000
RDATE:20230326T020000
TZOFFSETFROM:+0100
TZOFFSETTO:+0000
TZNAME:Europe/London GMT
END:STANDARD
BEGIN:STANDARD
DTSTART:20231029T010000
RDATE:20240331T020000
TZOFFSETFROM:+0100
TZOFFSETTO:+0000
TZNAME:Europe/London GMT
END:STANDARD
BEGIN:STANDARD
DTSTART:20241027T010000
RDATE:20250330T020000
TZOFFSETFROM:+0100
TZOFFSETTO:+0000
TZNAME:Europe/London GMT
END:STANDARD
BEGIN:STANDARD
DTSTART:20251026T010000
RDATE:20260329T020000
TZOFFSETFROM:+0100
TZOFFSETTO:+0000
TZNAME:Europe/London GMT
END:STANDARD
BEGIN:STANDARD
DTSTART:20261025T010000
RDATE:20270328T020000
TZOFFSETFROM:+0100
TZOFFSETTO:+0000
TZNAME:Europe/London GMT
END:STANDARD
BEGIN:STANDARD
DTSTART:20271031T010000
RDATE:20280326T020000
TZOFFSETFROM:+0100
TZOFFSETTO:+0000
TZNAME:Europe/London GMT
END:STANDARD
BEGIN:STANDARD
DTSTART:20281029T010000
RDATE:20290325T020000
TZOFFSETFROM:+0100
TZOFFSETTO:+0000
TZNAME:Europe/London GMT
END:STANDARD
BEGIN:STANDARD
DTSTART:20291028T010000
RDATE:20300331T020000
TZOFFSETFROM:+0100
TZOFFSETTO:+0000
TZNAME:Europe/London GMT
END:STANDARD
BEGIN:STANDARD
DTSTART:20301027T010000
RDATE:20310330T020000
TZOFFSETFROM:+0100
TZOFFSETTO:+0000
TZNAME:Europe/London GMT
END:STANDARD
BEGIN:DAYLIGHT
DTSTART:20220623T000000
RDATE:20221030T010000
TZOFFSETFROM:+0000
TZOFFSETTO:+0100
TZNAME:Europe/London BST
END:DAYLIGHT
BEGIN:DAYLIGHT
DTSTART:20230326T020000
RDATE:20231029T010000
TZOFFSETFROM:+0000
TZOFFSETTO:+0100
TZNAME:Europe/London BST
END:DAYLIGHT
BEGIN:DAYLIGHT
DTSTART:20240331T020000
RDATE:20241027T010000
TZOFFSETFROM:+0000
TZOFFSETTO:+0100
TZNAME:Europe/London BST
END:DAYLIGHT
BEGIN:DAYLIGHT
DTSTART:20250330T020000
RDATE:20251026T010000
TZOFFSETFROM:+0000
TZOFFSETTO:+0100
TZNAME:Europe/London BST
END:DAYLIGHT
BEGIN:DAYLIGHT
DTSTART:20260329T020000
RDATE:20261025T010000
TZOFFSETFROM:+0000
TZOFFSETTO:+0100
TZNAME:Europe/London BST
END:DAYLIGHT
BEGIN:DAYLIGHT
DTSTART:20270328T020000
RDATE:20271031T010000
TZOFFSETFROM:+0000
TZOFFSETTO:+0100
TZNAME:Europe/London BST
END:DAYLIGHT
BEGIN:DAYLIGHT
DTSTART:20280326T020000
RDATE:20281029T010000
TZOFFSETFROM:+0000
TZOFFSETTO:+0100
TZNAME:Europe/London BST
END:DAYLIGHT
BEGIN:DAYLIGHT
DTSTART:20290325T020000
RDATE:20291028T010000
TZOFFSETFROM:+0000
TZOFFSETTO:+0100
TZNAME:Europe/London BST
END:DAYLIGHT
BEGIN:DAYLIGHT
DTSTART:20300331T020000
RDATE:20301027T010000
TZOFFSETFROM:+0000
TZOFFSETTO:+0100
TZNAME:Europe/London BST
END:DAYLIGHT
END:VTIMEZONE
BEGIN:VEVENT
UID:a4762ce5048f9ff5cc4c83a94c12d6a3
CATEGORIES:East
CREATED:20230111T115756
SUMMARY:Eastern district ringing meeting UPDATED
LOCATION:Battle and Crowhurst (The Forewood Ring)
URL;VALUE=URI:https://www.scacr.org/news-events/calendar/1063/eastern-district-ringing-me
 eting-updated?tmpl=component
DESCRIPTION:Saturday 24 th June 2023.Walk and ring. Battle and Forewood mini ring.\nPar
 k at Crowhurst in the morning, walk or train into Battle for lunch and or a
  look around. Battle bells available from 1.15 p.m. before walking/ driving
 / train  back to Alan and Louise Pinks to ring on the Forewood mini ring an
 d have tea. Names for tea to Marion Hollands 07732268411 /  (mailto:sec-eas
 t@scacr.org)This email address is being protected from spambots. You need J
 avaScript enabled to view it.
				document.getElementById('cloak5cec6777f00
 053a18c007b3a63d1d417').innerHTML = '';
				var prefix = '&#109;a' + 'i&#10
 8;' + '&#116;o';
				var path = 'hr' + 'ef' + '=';
				var addy5cec6777f000
 53a18c007b3a63d1d417 = 's&#101;c-&#101;&#97;st' + '&#64;';
				addy5cec6777
 f00053a18c007b3a63d1d417 = addy5cec6777f00053a18c007b3a63d1d417 + 'sc&#97;c
 r' + '&#46;' + '&#111;rg';
				var addy_text5cec6777f00053a18c007b3a63d1d41
 7 = 's&#101;c-&#101;&#97;st' + '&#64;' + 'sc&#97;cr' + '&#46;' + '&#111;rg'
 ;document.getElementById('cloak5cec6777f00053a18c007b3a63d1d417').innerHTML
  += '<a ' + path + '\'' + prefix + ':' + addy5cec6777f00053a18c007b3a63d1d4
 17 + '\'>'+addy_text5cec6777f00053a18c007b3a63d1d417+'';
		 by Wednesday 21
  st June 2023.3.00 p.m. Forewood Ring, Southrise, Crowhurst.\nThe best plac
 e to park is at the top of Station Road.   Anyone intending to ring at Batt
 le and walk back please park your car there, then catch the train to Battle
  or walk - the church is a short walk from the station. There is one train 
 an hour, which leaves Crowhurst just before the hour (00:59 past each hour)
  and gets to Battle just past the hour. Trains back leave Battle at 00:34 p
 ast each hour.If you are going straight to the mini ring, please park at th
 e top of station road.   When parked walk to the station, cross the railway
  line by the footbridge, and follow the narrow path for a couple of minutes
  until reaching the main road.   Then turn left and walk down the hill; Sou
 thrise is a couple of houses down on the right.   Walk up the straight driv
 e to the bells.Anyone with mobility problems will of course the welcome to 
 park at Southrise. Address isSouthrise, Forewood Lane, Crowhurst, TN33 9AB.
 \n This event was imported from: https://www.scacr.org/news-events/calendar
 /1063/eastern-district-ringing-meeting-updated?tmpl=component (https://www.
 scacr.org/news-events/calendar/1063/eastern-district-ringing-meeting-update
 d?tmpl=component)
X-ALT-DESC;FMTTYPE=text/html:<p><strong>Saturday 24 th June 2023.<br aria-hidden="true" />Walk and ring.
  Battle and Forewood mini ring.</strong></p><p>Park at Crowhurst in the mor
 ning, walk or train into Battle for lunch and or a look around. Battle bell
 s available from 1.15 p.m. before walking/ driving/ train&nbsp; back to Ala
 n and&nbsp;Louise Pinks to ring on the Forewood mini ring and have tea. Nam
 es for tea to Marion&nbsp;Hollands 07732268411 /&nbsp;<a href="mailto:sec-e
 ast@scacr.org" target="_blank" rel="noopener noreferrer" data-auth="NotAppl
 icable" data-linkindex="1"></a><span id="cloak5cec6777f00053a18c007b3a63d1d
 417">This email address is being protected from spambots. You need JavaScri
 pt enabled to view it.</span><script type='text/javascript'>
				document.g
 etElementById('cloak5cec6777f00053a18c007b3a63d1d417').innerHTML = '';
				
 var prefix = '&#109;a' + 'i&#108;' + '&#116;o';
				var path = 'hr' + 'ef' 
 + '=';
				var addy5cec6777f00053a18c007b3a63d1d417 = 's&#101;c-&#101;&#97;
 st' + '&#64;';
				addy5cec6777f00053a18c007b3a63d1d417 = addy5cec6777f0005
 3a18c007b3a63d1d417 + 'sc&#97;cr' + '&#46;' + '&#111;rg';
				var addy_text
 5cec6777f00053a18c007b3a63d1d417 = 's&#101;c-&#101;&#97;st' + '&#64;' + 'sc
 &#97;cr' + '&#46;' + '&#111;rg';document.getElementById('cloak5cec6777f0005
 3a18c007b3a63d1d417').innerHTML += '<a ' + path + '\'' + prefix + ':' + add
 y5cec6777f00053a18c007b3a63d1d417 + '\'>'+addy_text5cec6777f00053a18c007b3a
 63d1d417+'<\/a>';
		</script>&nbsp;by Wednesday 21 st June 2023.<br aria-hi
 dden="true" />3.00 p.m. Forewood Ring, Southrise, Crowhurst.</p><p>The best
  place to park is at the top of Station Road. &nbsp;&nbsp;Anyone intending 
 to ring at Battle and&nbsp;walk back please&nbsp;park your car there, then 
 catch the train to Battle or walk - the church is a short walk from&nbsp;th
 e station. There is one train an hour, which leaves Crowhurst just before t
 he hour (00:59 past each hour) and gets to Battle just past the hour. Train
 s back leave Battle at 00:34 past each hour.<br aria-hidden="true" />If you
  are going straight to the mini ring, please park at the top of station roa
 d. &nbsp;&nbsp;When&nbsp;parked walk to the station, cross the railway line
  by the footbridge, and follow the narrow&nbsp;path for a couple of minutes
  until reaching the main road. &nbsp;&nbsp;Then turn left and walk down the
 &nbsp;hill; Southrise is a couple of houses down on the right. &nbsp;&nbsp;
 Walk up the straight drive to the&nbsp;bells.<br aria-hidden="true" />Anyon
 e with mobility problems will of course the welcome to park at Southrise. A
 ddress is<br aria-hidden="true" />Southrise,&nbsp;Forewood Lane,&nbsp;Crowh
 urst,&nbsp;TN33 9AB.</p> <a href="https://www.scacr.org/news-events/calenda
 r/1063/eastern-district-ringing-meeting-updated?tmpl=component">This event 
 was imported from: https://www.scacr.org/news-events/calendar/1063/eastern-
 district-ringing-meeting-updated?tmpl=component</a>CONTACT:This email address is being protected from spambots. You need JavaScript enabled to view it.
				document.getElementById('cloak4f1b114a79c3f97961065d88e37905c2').innerHTML = '';
				var prefix = '&#109;a' + 'i&#108;' + '&#116;o';
				var path = 'hr' + 'ef' + '=';
				var addy4f1b114a79c3f97961065d88e37905c2 = 's&#101;c-&#101;&#97;st' + '&#64;';
				addy4f1b114a79c3f97961065d88e37905c2 = addy4f1b114a79c3f97961065d88e37905c2 + 'sc&#97;cr' + '&#46;' + '&#111;rg';
				var addy_text4f1b114a79c3f97961065d88e37905c2 = 's&#101;c-&#101;&#97;st' + '&#64;' + 'sc&#97;cr' + '&#46;' + '&#111;rg';document.getElementById('cloak4f1b114a79c3f97961065d88e37905c2').innerHTML += '<a ' + path + '\'' + prefix + ':' + addy4f1b114a79c3f97961065d88e37905c2 + '\'>'+addy_text4f1b114a79c3f97961065d88e37905c2+'';
		
DTSTAMP:20260419T200938
DTSTART;TZID=Europe/London;VALUE=DATE:20230624
DTEND;TZID=Europe/London;VALUE=DATE:20230625
SEQUENCE:0
TRANSP:OPAQUE
END:VEVENT
END:VCALENDAR