BEGIN:VCALENDAR
VERSION:2.0
PRODID:-//jEvents 2.0 for Joomla//EN
CALSCALE:GREGORIAN
METHOD:PUBLISH
BEGIN:VTIMEZONE
TZID:Europe/London
BEGIN:STANDARD
DTSTART:20221030T010000
RDATE:20230326T020000
TZOFFSETFROM:+0100
TZOFFSETTO:+0000
TZNAME:Europe/London GMT
END:STANDARD
BEGIN:STANDARD
DTSTART:20231029T010000
RDATE:20240331T020000
TZOFFSETFROM:+0100
TZOFFSETTO:+0000
TZNAME:Europe/London GMT
END:STANDARD
BEGIN:STANDARD
DTSTART:20241027T010000
RDATE:20250330T020000
TZOFFSETFROM:+0100
TZOFFSETTO:+0000
TZNAME:Europe/London GMT
END:STANDARD
BEGIN:STANDARD
DTSTART:20251026T010000
RDATE:20260329T020000
TZOFFSETFROM:+0100
TZOFFSETTO:+0000
TZNAME:Europe/London GMT
END:STANDARD
BEGIN:STANDARD
DTSTART:20261025T010000
RDATE:20270328T020000
TZOFFSETFROM:+0100
TZOFFSETTO:+0000
TZNAME:Europe/London GMT
END:STANDARD
BEGIN:STANDARD
DTSTART:20271031T010000
RDATE:20280326T020000
TZOFFSETFROM:+0100
TZOFFSETTO:+0000
TZNAME:Europe/London GMT
END:STANDARD
BEGIN:STANDARD
DTSTART:20281029T010000
RDATE:20290325T020000
TZOFFSETFROM:+0100
TZOFFSETTO:+0000
TZNAME:Europe/London GMT
END:STANDARD
BEGIN:STANDARD
DTSTART:20291028T010000
RDATE:20300331T020000
TZOFFSETFROM:+0100
TZOFFSETTO:+0000
TZNAME:Europe/London GMT
END:STANDARD
BEGIN:STANDARD
DTSTART:20301027T010000
RDATE:20310330T020000
TZOFFSETFROM:+0100
TZOFFSETTO:+0000
TZNAME:Europe/London GMT
END:STANDARD
BEGIN:DAYLIGHT
DTSTART:20220331T140000
RDATE:20221030T010000
TZOFFSETFROM:+0000
TZOFFSETTO:+0100
TZNAME:Europe/London BST
END:DAYLIGHT
BEGIN:DAYLIGHT
DTSTART:20230326T020000
RDATE:20231029T010000
TZOFFSETFROM:+0000
TZOFFSETTO:+0100
TZNAME:Europe/London BST
END:DAYLIGHT
BEGIN:DAYLIGHT
DTSTART:20240331T020000
RDATE:20241027T010000
TZOFFSETFROM:+0000
TZOFFSETTO:+0100
TZNAME:Europe/London BST
END:DAYLIGHT
BEGIN:DAYLIGHT
DTSTART:20250330T020000
RDATE:20251026T010000
TZOFFSETFROM:+0000
TZOFFSETTO:+0100
TZNAME:Europe/London BST
END:DAYLIGHT
BEGIN:DAYLIGHT
DTSTART:20260329T020000
RDATE:20261025T010000
TZOFFSETFROM:+0000
TZOFFSETTO:+0100
TZNAME:Europe/London BST
END:DAYLIGHT
BEGIN:DAYLIGHT
DTSTART:20270328T020000
RDATE:20271031T010000
TZOFFSETFROM:+0000
TZOFFSETTO:+0100
TZNAME:Europe/London BST
END:DAYLIGHT
BEGIN:DAYLIGHT
DTSTART:20280326T020000
RDATE:20281029T010000
TZOFFSETFROM:+0000
TZOFFSETTO:+0100
TZNAME:Europe/London BST
END:DAYLIGHT
BEGIN:DAYLIGHT
DTSTART:20290325T020000
RDATE:20291028T010000
TZOFFSETFROM:+0000
TZOFFSETTO:+0100
TZNAME:Europe/London BST
END:DAYLIGHT
BEGIN:DAYLIGHT
DTSTART:20300331T020000
RDATE:20301027T010000
TZOFFSETFROM:+0000
TZOFFSETTO:+0100
TZNAME:Europe/London BST
END:DAYLIGHT
END:VTIMEZONE
BEGIN:VEVENT
UID:45717c2634ee3ca3feb732d764dfc215
CATEGORIES:North
CREATED:20221228T144207
SUMMARY:Introduction to ringing on higher numbers of bells
LOCATION:Warnham (confirmed)
URL;VALUE=URI:https://www.scacr.org/news-events/calendar/1056/introduction-to-ringing-on-
 higher-numbers-of-bells?tmpl=component
DESCRIPTION:Are you already competent at ringing on 5-6 bells, and would like to ring o
 n higher numbers? This session is aimed at those who have little experience
  of ringing on 8 (or 10) bells, and would like to learn about the skills ne
 eded and practise ringing on higher numbers.  The session will include refr
 eshments.\nPlaces will be limited to ensure that the learners all have plen
 ty of rope time.  If you would like a place in this session, please contact
  Steph via This email address is being protected from spambots. You need Ja
 vaScript enabled to view it.
				document.getElementById('cloak030fbe2595e1
 dcef58d6169fc394f23f').innerHTML = '';
				var prefix = '&#109;a' + 'i&#108
 ;' + '&#116;o';
				var path = 'hr' + 'ef' + '=';
				var addy030fbe2595e1d
 cef58d6169fc394f23f = 's&#101;c-n&#111;rth' + '&#64;';
				addy030fbe2595e1
 dcef58d6169fc394f23f = addy030fbe2595e1dcef58d6169fc394f23f + 'sc&#97;cr' +
  '&#46;' + '&#111;rg';
				var addy_text030fbe2595e1dcef58d6169fc394f23f = 
 's&#101;c-n&#111;rth' + '&#64;' + 'sc&#97;cr' + '&#46;' + '&#111;rg';docume
 nt.getElementById('cloak030fbe2595e1dcef58d6169fc394f23f').innerHTML += '<a
  ' + path + '\'' + prefix + ':' + addy030fbe2595e1dcef58d6169fc394f23f + '\
 '>'+addy_text030fbe2595e1dcef58d6169fc394f23f+'';
		.\nWe're also looking f
 or friendly helpers!  If you could be a helper, please let Steph know (This
  email address is being protected from spambots. You need JavaScript enable
 d to view it.
				document.getElementById('cloak02afe80970ab0a164e906c74335
 6c793').innerHTML = '';
				var prefix = '&#109;a' + 'i&#108;' + '&#116;o';
 
				var path = 'hr' + 'ef' + '=';
				var addy02afe80970ab0a164e906c743356
 c793 = 's&#101;c-n&#111;rth' + '&#64;';
				addy02afe80970ab0a164e906c74335
 6c793 = addy02afe80970ab0a164e906c743356c793 + 'sc&#97;cr' + '&#46;' + '&#1
 11;rg';
				var addy_text02afe80970ab0a164e906c743356c793 = 's&#101;c-n&#11
 1;rth' + '&#64;' + 'sc&#97;cr' + '&#46;' + '&#111;rg';document.getElementBy
 Id('cloak02afe80970ab0a164e906c743356c793').innerHTML += '<a ' + path + '\'
 ' + prefix + ':' + addy02afe80970ab0a164e906c743356c793 + '\'>'+addy_text02
 afe80970ab0a164e906c743356c793+'';
		).\nThere will be a suggested donation
  for learners, to cover venue and refreshment costs.\nPlease note that as t
 his is a Northern District event, learners from the Nothern District will h
 ave priority for places.\n This event was imported from: https://www.scacr.
 org/news-events/calendar/1056/introduction-to-ringing-on-higher-numbers-of-
 bells?tmpl=component (https://www.scacr.org/news-events/calendar/1056/intro
 duction-to-ringing-on-higher-numbers-of-bells?tmpl=component)
X-ALT-DESC;FMTTYPE=text/html:<p>Are you already competent at ringing on 5-6 bells, and would like to rin
 g on higher numbers? This session is aimed at those who have little experie
 nce of ringing on 8 (or 10) bells, and would like to learn about the skills
  needed and practise ringing on higher numbers.&nbsp; The session will incl
 ude refreshments.</p><p>Places will be limited to ensure that the learners 
 all have plenty of rope time.&nbsp; If you would like a place in this sessi
 on, please contact Steph via <span id="cloak030fbe2595e1dcef58d6169fc394f23
 f">This email address is being protected from spambots. You need JavaScript
  enabled to view it.</span><script type='text/javascript'>
				document.get
 ElementById('cloak030fbe2595e1dcef58d6169fc394f23f').innerHTML = '';
				va
 r prefix = '&#109;a' + 'i&#108;' + '&#116;o';
				var path = 'hr' + 'ef' + 
 '=';
				var addy030fbe2595e1dcef58d6169fc394f23f = 's&#101;c-n&#111;rth' +
  '&#64;';
				addy030fbe2595e1dcef58d6169fc394f23f = addy030fbe2595e1dcef58
 d6169fc394f23f + 'sc&#97;cr' + '&#46;' + '&#111;rg';
				var addy_text030fb
 e2595e1dcef58d6169fc394f23f = 's&#101;c-n&#111;rth' + '&#64;' + 'sc&#97;cr'
  + '&#46;' + '&#111;rg';document.getElementById('cloak030fbe2595e1dcef58d61
 69fc394f23f').innerHTML += '<a ' + path + '\'' + prefix + ':' + addy030fbe2
 595e1dcef58d6169fc394f23f + '\'>'+addy_text030fbe2595e1dcef58d6169fc394f23f
 +'<\/a>';
		</script>.</p><p>We're also looking for friendly helpers!&nbsp;
  If you could be a helper, please let Steph know (<span id="cloak02afe80970
 ab0a164e906c743356c793">This email address is being protected from spambots
 . You need JavaScript enabled to view it.</span><script type='text/javascri
 pt'>
				document.getElementById('cloak02afe80970ab0a164e906c743356c793').i
 nnerHTML = '';
				var prefix = '&#109;a' + 'i&#108;' + '&#116;o';
				var 
 path = 'hr' + 'ef' + '=';
				var addy02afe80970ab0a164e906c743356c793 = 's
 &#101;c-n&#111;rth' + '&#64;';
				addy02afe80970ab0a164e906c743356c793 = a
 ddy02afe80970ab0a164e906c743356c793 + 'sc&#97;cr' + '&#46;' + '&#111;rg';
	
 			var addy_text02afe80970ab0a164e906c743356c793 = 's&#101;c-n&#111;rth' + 
 '&#64;' + 'sc&#97;cr' + '&#46;' + '&#111;rg';document.getElementById('cloak
 02afe80970ab0a164e906c743356c793').innerHTML += '<a ' + path + '\'' + prefi
 x + ':' + addy02afe80970ab0a164e906c743356c793 + '\'>'+addy_text02afe80970a
 b0a164e906c743356c793+'<\/a>';
		</script>).</p><p>There will be a suggeste
 d donation for learners, to cover venue and refreshment costs.</p><p>Please
  note that as this is a Northern District event, learners from the Nothern 
 District will have priority for places.</p> <a href="https://www.scacr.org/
 news-events/calendar/1056/introduction-to-ringing-on-higher-numbers-of-bell
 s?tmpl=component">This event was imported from: https://www.scacr.org/news-
 events/calendar/1056/introduction-to-ringing-on-higher-numbers-of-bells?tmp
 l=component</a>CONTACT:This email address is being protected from spambots. You need JavaScript enabled to view it.
				document.getElementById('cloakf34aa8e870e4cc42ae7f5682e85fc790').innerHTML = '';
				var prefix = '&#109;a' + 'i&#108;' + '&#116;o';
				var path = 'hr' + 'ef' + '=';
				var addyf34aa8e870e4cc42ae7f5682e85fc790 = 's&#101;c-n&#111;rth' + '&#64;';
				addyf34aa8e870e4cc42ae7f5682e85fc790 = addyf34aa8e870e4cc42ae7f5682e85fc790 + 'sc&#97;cr' + '&#46;' + '&#111;rg';
				var addy_textf34aa8e870e4cc42ae7f5682e85fc790 = 's&#101;c-n&#111;rth' + '&#64;' + 'sc&#97;cr' + '&#46;' + '&#111;rg';document.getElementById('cloakf34aa8e870e4cc42ae7f5682e85fc790').innerHTML += '<a ' + path + '\'' + prefix + ':' + addyf34aa8e870e4cc42ae7f5682e85fc790 + '\'>'+addy_textf34aa8e870e4cc42ae7f5682e85fc790+'';
		
DTSTAMP:20260420T115740
DTSTART;TZID=Europe/London:20230401T140000
DTEND;TZID=Europe/London:20230401T163000
SEQUENCE:0
TRANSP:OPAQUE
END:VEVENT
END:VCALENDAR