BEGIN:VCALENDAR
VERSION:2.0
PRODID:-//jEvents 2.0 for Joomla//EN
CALSCALE:GREGORIAN
METHOD:PUBLISH
BEGIN:VTIMEZONE
TZID:Europe/London
BEGIN:STANDARD
DTSTART:20220317T100000
RDATE:20220327T020000
TZOFFSETFROM:+0100
TZOFFSETTO:+0000
TZNAME:Europe/London GMT
END:STANDARD
BEGIN:STANDARD
DTSTART:20221030T010000
RDATE:20230326T020000
TZOFFSETFROM:+0100
TZOFFSETTO:+0000
TZNAME:Europe/London GMT
END:STANDARD
BEGIN:STANDARD
DTSTART:20231029T010000
RDATE:20240331T020000
TZOFFSETFROM:+0100
TZOFFSETTO:+0000
TZNAME:Europe/London GMT
END:STANDARD
BEGIN:STANDARD
DTSTART:20241027T010000
RDATE:20250330T020000
TZOFFSETFROM:+0100
TZOFFSETTO:+0000
TZNAME:Europe/London GMT
END:STANDARD
BEGIN:STANDARD
DTSTART:20251026T010000
RDATE:20260329T020000
TZOFFSETFROM:+0100
TZOFFSETTO:+0000
TZNAME:Europe/London GMT
END:STANDARD
BEGIN:STANDARD
DTSTART:20261025T010000
RDATE:20270328T020000
TZOFFSETFROM:+0100
TZOFFSETTO:+0000
TZNAME:Europe/London GMT
END:STANDARD
BEGIN:STANDARD
DTSTART:20271031T010000
RDATE:20280326T020000
TZOFFSETFROM:+0100
TZOFFSETTO:+0000
TZNAME:Europe/London GMT
END:STANDARD
BEGIN:STANDARD
DTSTART:20281029T010000
RDATE:20290325T020000
TZOFFSETFROM:+0100
TZOFFSETTO:+0000
TZNAME:Europe/London GMT
END:STANDARD
BEGIN:STANDARD
DTSTART:20291028T010000
RDATE:20300331T020000
TZOFFSETFROM:+0100
TZOFFSETTO:+0000
TZNAME:Europe/London GMT
END:STANDARD
BEGIN:STANDARD
DTSTART:20301027T010000
RDATE:20310330T020000
TZOFFSETFROM:+0100
TZOFFSETTO:+0000
TZNAME:Europe/London GMT
END:STANDARD
BEGIN:DAYLIGHT
DTSTART:20220327T020000
RDATE:20221030T010000
TZOFFSETFROM:+0000
TZOFFSETTO:+0100
TZNAME:Europe/London BST
END:DAYLIGHT
BEGIN:DAYLIGHT
DTSTART:20230326T020000
RDATE:20231029T010000
TZOFFSETFROM:+0000
TZOFFSETTO:+0100
TZNAME:Europe/London BST
END:DAYLIGHT
BEGIN:DAYLIGHT
DTSTART:20240331T020000
RDATE:20241027T010000
TZOFFSETFROM:+0000
TZOFFSETTO:+0100
TZNAME:Europe/London BST
END:DAYLIGHT
BEGIN:DAYLIGHT
DTSTART:20250330T020000
RDATE:20251026T010000
TZOFFSETFROM:+0000
TZOFFSETTO:+0100
TZNAME:Europe/London BST
END:DAYLIGHT
BEGIN:DAYLIGHT
DTSTART:20260329T020000
RDATE:20261025T010000
TZOFFSETFROM:+0000
TZOFFSETTO:+0100
TZNAME:Europe/London BST
END:DAYLIGHT
BEGIN:DAYLIGHT
DTSTART:20270328T020000
RDATE:20271031T010000
TZOFFSETFROM:+0000
TZOFFSETTO:+0100
TZNAME:Europe/London BST
END:DAYLIGHT
BEGIN:DAYLIGHT
DTSTART:20280326T020000
RDATE:20281029T010000
TZOFFSETFROM:+0000
TZOFFSETTO:+0100
TZNAME:Europe/London BST
END:DAYLIGHT
BEGIN:DAYLIGHT
DTSTART:20290325T020000
RDATE:20291028T010000
TZOFFSETFROM:+0000
TZOFFSETTO:+0100
TZNAME:Europe/London BST
END:DAYLIGHT
BEGIN:DAYLIGHT
DTSTART:20300331T020000
RDATE:20301027T010000
TZOFFSETFROM:+0000
TZOFFSETTO:+0100
TZNAME:Europe/London BST
END:DAYLIGHT
END:VTIMEZONE
BEGIN:VEVENT
UID:6adc6aef2bb2ea2d8f75b734a062ba4e
CATEGORIES:Joint Event
CREATED:20221222T143852
SUMMARY:Joint Southern and Eastern District Practice 
LOCATION:Buxted
URL;VALUE=URI:https://www.scacr.org/news-events/calendar/1055/joint-southern-and-eastern-
 district-practice?tmpl=component
DESCRIPTION:Buxted, St Margaret Queen (TN22 4AY) is a ground floor ring of eight bells 
 with plenty of space. Parking is available in the lane near the entrance to
  the church. It is hoped to provide refreshments half way through the morni
 ng.\nThis is another chance to practice Surprise Major.  We will probably c
 oncentrate on Yorkshire and Cambridge but if we get enough the method reper
 toire could include anything from the standard eight and core seven (Cambri
 dge, Yorkshire, Superlative, London, Bristol, Lessness and Cornwall).\nIt w
 ould be great to welcome as many ringers as possible to ring Surprise Major
 . We will need experienced ringers as well as novices. Please let Richard N
 eal Southern District Secretary (This email address is being protected from
  spambots. You need JavaScript enabled to view it.
				document.getElementB
 yId('cloak7074dfd110aa398d0ed05309f236f9c3').innerHTML = '';
				var prefix
  = '&#109;a' + 'i&#108;' + '&#116;o';
				var path = 'hr' + 'ef' + '=';
			
 	var addy7074dfd110aa398d0ed05309f236f9c3 = 's&#101;c-s&#111;&#117;th' + '&
 #64;';
				addy7074dfd110aa398d0ed05309f236f9c3 = addy7074dfd110aa398d0ed05
 309f236f9c3 + 'sc&#97;cr' + '&#46;' + '&#111;rg';
				var addy_text7074dfd1
 10aa398d0ed05309f236f9c3 = 'm&#97;&#105;lt&#111;:';document.getElementById(
 'cloak7074dfd110aa398d0ed05309f236f9c3').innerHTML += '<a ' + path + '\'' +
  prefix + ':' + addy7074dfd110aa398d0ed05309f236f9c3 + '\'>'+addy_text7074d
 fd110aa398d0ed05309f236f9c3+'';
		This email address is being protected fro
 m spambots. You need JavaScript enabled to view it.
				document.getElement
 ById('cloak77038ed462ebb1af3b78e29f43c73906').innerHTML = '';
				var prefi
 x = '&#109;a' + 'i&#108;' + '&#116;o';
				var path = 'hr' + 'ef' + '=';
		
 		var addy77038ed462ebb1af3b78e29f43c73906 = 's&#101;c-s&#111;&#117;th' + '
 &#64;';
				addy77038ed462ebb1af3b78e29f43c73906 = addy77038ed462ebb1af3b78
 e29f43c73906 + 'sc&#97;cr' + '&#46;' + '&#111;rg';
				var addy_text77038ed
 462ebb1af3b78e29f43c73906 = 's&#101;c-s&#111;&#117;th' + '&#64;' + 'sc&#97;
 cr' + '&#46;' + '&#111;rg';document.getElementById('cloak77038ed462ebb1af3b
 78e29f43c73906').innerHTML += '<a ' + path + '\'' + prefix + ':' + addy7703
 8ed462ebb1af3b78e29f43c73906 + '\'>'+addy_text77038ed462ebb1af3b78e29f43c73
 906+'';
		) or Marion Hollands Eastern District Secretary  ( (mailto:sec-ea
 st@scacr.org)This email address is being protected from spambots. You need 
 JavaScript enabled to view it.
				document.getElementById('cloaka60baa32bc
 a31216b8d9e1737b7d4714').innerHTML = '';
				var prefix = '&#109;a' + 'i&#1
 08;' + '&#116;o';
				var path = 'hr' + 'ef' + '=';
				var addya60baa32bca
 31216b8d9e1737b7d4714 = 's&#101;c-&#101;&#97;st' + '&#64;';
				addya60baa3
 2bca31216b8d9e1737b7d4714 = addya60baa32bca31216b8d9e1737b7d4714 + 'sc&#97;
 cr' + '&#46;' + '&#111;rg';
				var addy_texta60baa32bca31216b8d9e1737b7d47
 14 = 's&#101;c-&#101;&#97;st' + '&#64;' + 'sc&#97;cr' + '&#46;' + '&#111;rg
 ';document.getElementById('cloaka60baa32bca31216b8d9e1737b7d4714').innerHTM
 L += '<a ' + path + '\'' + prefix + ':' + addya60baa32bca31216b8d9e1737b7d4
 714 + '\'>'+addy_texta60baa32bca31216b8d9e1737b7d4714+'';
		) know if you w
 ill be attending.\n \n This event was imported from: https://www.scacr.org/
 news-events/calendar/1055/joint-southern-and-eastern-district-practice?tmpl
 =component (https://www.scacr.org/news-events/calendar/1055/joint-southern-
 and-eastern-district-practice?tmpl=component)
X-ALT-DESC;FMTTYPE=text/html:<p>Buxted, St Margaret Queen (TN22 4AY) is a ground floor ring of eight bel
 ls with plenty of space. Parking&nbsp;is available in the lane near the ent
 rance to the church.&nbsp;It is hoped to provide refreshments half way thro
 ugh the morning.</p><p>This is another chance to practice Surprise Major. &
 nbsp;We will probably concentrate on Yorkshire and Cambridge but if we get 
 enough the method repertoire could include anything from the standard eight
  and core seven (Cambridge, Yorkshire, Superlative, London, Bristol, Lessne
 ss and Cornwall).</p><p>It would be great to welcome as many ringers as pos
 sible to ring Surprise Major. We will need experienced ringers as well as n
 ovices. Please let Richard Neal Southern District Secretary (<span id="cloa
 k7074dfd110aa398d0ed05309f236f9c3">This email address is being protected fr
 om spambots. You need JavaScript enabled to view it.</span><script type='te
 xt/javascript'>
				document.getElementById('cloak7074dfd110aa398d0ed05309f
 236f9c3').innerHTML = '';
				var prefix = '&#109;a' + 'i&#108;' + '&#116;o
 ';
				var path = 'hr' + 'ef' + '=';
				var addy7074dfd110aa398d0ed05309f2
 36f9c3 = 's&#101;c-s&#111;&#117;th' + '&#64;';
				addy7074dfd110aa398d0ed0
 5309f236f9c3 = addy7074dfd110aa398d0ed05309f236f9c3 + 'sc&#97;cr' + '&#46;'
  + '&#111;rg';
				var addy_text7074dfd110aa398d0ed05309f236f9c3 = 'm&#97;&
 #105;lt&#111;:';document.getElementById('cloak7074dfd110aa398d0ed05309f236f
 9c3').innerHTML += '<a ' + path + '\'' + prefix + ':' + addy7074dfd110aa398
 d0ed05309f236f9c3 + '\'>'+addy_text7074dfd110aa398d0ed05309f236f9c3+'<\/a>'
 ;
		</script><span id="cloak77038ed462ebb1af3b78e29f43c73906">This email ad
 dress is being protected from spambots. You need JavaScript enabled to view
  it.</span><script type='text/javascript'>
				document.getElementById('clo
 ak77038ed462ebb1af3b78e29f43c73906').innerHTML = '';
				var prefix = '&#10
 9;a' + 'i&#108;' + '&#116;o';
				var path = 'hr' + 'ef' + '=';
				var add
 y77038ed462ebb1af3b78e29f43c73906 = 's&#101;c-s&#111;&#117;th' + '&#64;';
	
 			addy77038ed462ebb1af3b78e29f43c73906 = addy77038ed462ebb1af3b78e29f43c73
 906 + 'sc&#97;cr' + '&#46;' + '&#111;rg';
				var addy_text77038ed462ebb1af
 3b78e29f43c73906 = 's&#101;c-s&#111;&#117;th' + '&#64;' + 'sc&#97;cr' + '&#
 46;' + '&#111;rg';document.getElementById('cloak77038ed462ebb1af3b78e29f43c
 73906').innerHTML += '<a ' + path + '\'' + prefix + ':' + addy77038ed462ebb
 1af3b78e29f43c73906 + '\'>'+addy_text77038ed462ebb1af3b78e29f43c73906+'<\/a
 >';
		</script>) or Marion Hollands Eastern District Secretary&nbsp;<strong
 >&nbsp;(</strong><a href="mailto:sec-east@scacr.org"></a><strong><span id="
 cloaka60baa32bca31216b8d9e1737b7d4714">This email address is being protecte
 d from spambots. You need JavaScript enabled to view it.</span><script type
 ='text/javascript'>
				document.getElementById('cloaka60baa32bca31216b8d9e
 1737b7d4714').innerHTML = '';
				var prefix = '&#109;a' + 'i&#108;' + '&#1
 16;o';
				var path = 'hr' + 'ef' + '=';
				var addya60baa32bca31216b8d9e1
 737b7d4714 = 's&#101;c-&#101;&#97;st' + '&#64;';
				addya60baa32bca31216b8
 d9e1737b7d4714 = addya60baa32bca31216b8d9e1737b7d4714 + 'sc&#97;cr' + '&#46
 ;' + '&#111;rg';
				var addy_texta60baa32bca31216b8d9e1737b7d4714 = 's&#10
 1;c-&#101;&#97;st' + '&#64;' + 'sc&#97;cr' + '&#46;' + '&#111;rg';document.
 getElementById('cloaka60baa32bca31216b8d9e1737b7d4714').innerHTML += '<a ' 
 + path + '\'' + prefix + ':' + addya60baa32bca31216b8d9e1737b7d4714 + '\'>'
 +addy_texta60baa32bca31216b8d9e1737b7d4714+'<\/a>';
		</script></strong>) k
 now if you will be attending.</p><p>&nbsp;</p> <a href="https://www.scacr.o
 rg/news-events/calendar/1055/joint-southern-and-eastern-district-practice?t
 mpl=component">This event was imported from: https://www.scacr.org/news-eve
 nts/calendar/1055/joint-southern-and-eastern-district-practice?tmpl=compone
 nt</a>CONTACT:Richard Neal (District Secretary)  This email address is being protected from spambots. You need JavaScript enabled to view it.
				document.getElementById('cloak7d6a02b980cfa02d9c46a36ceedf13db').innerHTML = '';
				var prefix = '&#109;a' + 'i&#108;' + '&#116;o';
				var path = 'hr' + 'ef' + '=';
				var addy7d6a02b980cfa02d9c46a36ceedf13db = 's&#101;c-s&#111;&#117;th' + '&#64;';
				addy7d6a02b980cfa02d9c46a36ceedf13db = addy7d6a02b980cfa02d9c46a36ceedf13db + 'sc&#97;cr' + '&#46;' + '&#111;rg';
				var addy_text7d6a02b980cfa02d9c46a36ceedf13db = 's&#101;c-s&#111;&#117;th' + '&#64;' + 'sc&#97;cr' + '&#46;' + '&#111;rg';document.getElementById('cloak7d6a02b980cfa02d9c46a36ceedf13db').innerHTML += '<a ' + path + '\'' + prefix + ':' + addy7d6a02b980cfa02d9c46a36ceedf13db + '\'>'+addy_text7d6a02b980cfa02d9c46a36ceedf13db+'';
		
DTSTAMP:20260421T004108
DTSTART;TZID=Europe/London:20230318T100000
DTEND;TZID=Europe/London:20230318T120000
SEQUENCE:0
TRANSP:OPAQUE
END:VEVENT
END:VCALENDAR