BEGIN:VCALENDAR
VERSION:2.0
PRODID:-//jEvents 2.0 for Joomla//EN
CALSCALE:GREGORIAN
METHOD:PUBLISH
BEGIN:VTIMEZONE
TZID:Europe/London
BEGIN:STANDARD
DTSTART:20221030T010000
RDATE:20230326T020000
TZOFFSETFROM:+0100
TZOFFSETTO:+0000
TZNAME:Europe/London GMT
END:STANDARD
BEGIN:STANDARD
DTSTART:20231029T010000
RDATE:20240331T020000
TZOFFSETFROM:+0100
TZOFFSETTO:+0000
TZNAME:Europe/London GMT
END:STANDARD
BEGIN:STANDARD
DTSTART:20241027T010000
RDATE:20250330T020000
TZOFFSETFROM:+0100
TZOFFSETTO:+0000
TZNAME:Europe/London GMT
END:STANDARD
BEGIN:STANDARD
DTSTART:20251026T010000
RDATE:20260329T020000
TZOFFSETFROM:+0100
TZOFFSETTO:+0000
TZNAME:Europe/London GMT
END:STANDARD
BEGIN:STANDARD
DTSTART:20261025T010000
RDATE:20270328T020000
TZOFFSETFROM:+0100
TZOFFSETTO:+0000
TZNAME:Europe/London GMT
END:STANDARD
BEGIN:STANDARD
DTSTART:20271031T010000
RDATE:20280326T020000
TZOFFSETFROM:+0100
TZOFFSETTO:+0000
TZNAME:Europe/London GMT
END:STANDARD
BEGIN:STANDARD
DTSTART:20281029T010000
RDATE:20290325T020000
TZOFFSETFROM:+0100
TZOFFSETTO:+0000
TZNAME:Europe/London GMT
END:STANDARD
BEGIN:STANDARD
DTSTART:20291028T010000
RDATE:20300331T020000
TZOFFSETFROM:+0100
TZOFFSETTO:+0000
TZNAME:Europe/London GMT
END:STANDARD
BEGIN:STANDARD
DTSTART:20301027T010000
RDATE:20310330T020000
TZOFFSETFROM:+0100
TZOFFSETTO:+0000
TZNAME:Europe/London GMT
END:STANDARD
BEGIN:DAYLIGHT
DTSTART:20220428T140000
RDATE:20221030T010000
TZOFFSETFROM:+0000
TZOFFSETTO:+0100
TZNAME:Europe/London BST
END:DAYLIGHT
BEGIN:DAYLIGHT
DTSTART:20230326T020000
RDATE:20231029T010000
TZOFFSETFROM:+0000
TZOFFSETTO:+0100
TZNAME:Europe/London BST
END:DAYLIGHT
BEGIN:DAYLIGHT
DTSTART:20240331T020000
RDATE:20241027T010000
TZOFFSETFROM:+0000
TZOFFSETTO:+0100
TZNAME:Europe/London BST
END:DAYLIGHT
BEGIN:DAYLIGHT
DTSTART:20250330T020000
RDATE:20251026T010000
TZOFFSETFROM:+0000
TZOFFSETTO:+0100
TZNAME:Europe/London BST
END:DAYLIGHT
BEGIN:DAYLIGHT
DTSTART:20260329T020000
RDATE:20261025T010000
TZOFFSETFROM:+0000
TZOFFSETTO:+0100
TZNAME:Europe/London BST
END:DAYLIGHT
BEGIN:DAYLIGHT
DTSTART:20270328T020000
RDATE:20271031T010000
TZOFFSETFROM:+0000
TZOFFSETTO:+0100
TZNAME:Europe/London BST
END:DAYLIGHT
BEGIN:DAYLIGHT
DTSTART:20280326T020000
RDATE:20281029T010000
TZOFFSETFROM:+0000
TZOFFSETTO:+0100
TZNAME:Europe/London BST
END:DAYLIGHT
BEGIN:DAYLIGHT
DTSTART:20290325T020000
RDATE:20291028T010000
TZOFFSETFROM:+0000
TZOFFSETTO:+0100
TZNAME:Europe/London BST
END:DAYLIGHT
BEGIN:DAYLIGHT
DTSTART:20300331T020000
RDATE:20301027T010000
TZOFFSETFROM:+0000
TZOFFSETTO:+0100
TZNAME:Europe/London BST
END:DAYLIGHT
END:VTIMEZONE
BEGIN:VEVENT
UID:cd1dca37a05c068af6c9dadbe072fc65
CATEGORIES:Association Event
CREATED:20221105T201904
SUMMARY:Novices' 12 bell practice
LOCATION:East Grinstead
URL;VALUE=URI:https://www.scacr.org/news-events/calendar/1032/novices-12-bell-practice?tm
 pl=component
DESCRIPTION:<p>This practice will provide an opportunity for novice ringers to gain exp
 erience at ringing on 12 bells, focusing on rounds and call changes. There 
 will be a break for coffee and cake!</p><p>Helpers who are experienced 12-b
 ell ringers who can form a steady band around learners who have no or littl
 e experience on 12 (for rounds and call changes) are needed - if you could 
 help, please contact Vicky on&nbsp;<span id="cloakb771c21680c42cbd0152af10c
 4b9fe02"><a href="mailto:training@scacr.org"></a><span id="cloakac252548e5c
 24b6c08f94bb4137943b1">This email address is being protected from spambots.
  You need JavaScript enabled to view it.</span><script type='text/javascrip
 t'>
				document.getElementById('cloakac252548e5c24b6c08f94bb4137943b1').in
 nerHTML = '';
				var prefix = '&#109;a' + 'i&#108;' + '&#116;o';
				var p
 ath = 'hr' + 'ef' + '=';
				var addyac252548e5c24b6c08f94bb4137943b1 = 'tr
 &#97;&#105;n&#105;ng' + '&#64;';
				addyac252548e5c24b6c08f94bb4137943b1 =
  addyac252548e5c24b6c08f94bb4137943b1 + 'sc&#97;cr' + '&#46;' + '&#111;rg';
 
				var addy_textac252548e5c24b6c08f94bb4137943b1 = 'tr&#97;&#105;n&#105;n
 g' + '&#64;' + 'sc&#97;cr' + '&#46;' + '&#111;rg';document.getElementById('
 cloakac252548e5c24b6c08f94bb4137943b1').innerHTML += '<a ' + path + '\'' + 
 prefix + ':' + addyac252548e5c24b6c08f94bb4137943b1 + '\'>'+addy_textac2525
 48e5c24b6c08f94bb4137943b1+'<\/a>';
		</script></span>.&nbsp;&nbsp;</p><p>L
 earners' spaces are limited - to register your interest, contact&nbsp;Vicky
  on&nbsp;<span id="cloakb771c21680c42cbd0152af10c4b9fe02"><a href="mailto:t
 raining@scacr.org"></a><span id="cloak86e43fff40fd0144ce66512a433ad6ab">Thi
 s email address is being protected from spambots. You need JavaScript enabl
 ed to view it.</span><script type='text/javascript'>
				document.getElemen
 tById('cloak86e43fff40fd0144ce66512a433ad6ab').innerHTML = '';
				var pref
 ix = '&#109;a' + 'i&#108;' + '&#116;o';
				var path = 'hr' + 'ef' + '=';
	
 			var addy86e43fff40fd0144ce66512a433ad6ab = 'tr&#97;&#105;n&#105;ng' + '&
 #64;';
				addy86e43fff40fd0144ce66512a433ad6ab = addy86e43fff40fd0144ce665
 12a433ad6ab + 'sc&#97;cr' + '&#46;' + '&#111;rg';
				var addy_text86e43fff
 40fd0144ce66512a433ad6ab = 'tr&#97;&#105;n&#105;ng' + '&#64;' + 'sc&#97;cr'
  + '&#46;' + '&#111;rg';document.getElementById('cloak86e43fff40fd0144ce665
 12a433ad6ab').innerHTML += '<a ' + path + '\'' + prefix + ':' + addy86e43ff
 f40fd0144ce66512a433ad6ab + '\'>'+addy_text86e43fff40fd0144ce66512a433ad6ab
 +'<\/a>';
		</script></span>.&nbsp;&nbsp;</p><p>&nbsp;</p> <a href="https:/
 /www.scacr.org/news-events/calendar/1032/novices-12-bell-practice?tmpl=comp
 onent">This event was imported from: https://www.scacr.org/news-events/cale
 ndar/1032/novices-12-bell-practice?tmpl=component</a>CONTACT:This email address is being protected from spambots. You need JavaScript enabled to view it.
				document.getElementById('cloak98fbcbe875775408bdf0ae1718d38fb4').innerHTML = '';
				var prefix = '&#109;a' + 'i&#108;' + '&#116;o';
				var path = 'hr' + 'ef' + '=';
				var addy98fbcbe875775408bdf0ae1718d38fb4 = 'tr&#97;&#105;n&#105;ng' + '&#64;';
				addy98fbcbe875775408bdf0ae1718d38fb4 = addy98fbcbe875775408bdf0ae1718d38fb4 + 'sc&#97;cr' + '&#46;' + '&#111;rg';
				var addy_text98fbcbe875775408bdf0ae1718d38fb4 = 'tr&#97;&#105;n&#105;ng' + '&#64;' + 'sc&#97;cr' + '&#46;' + '&#111;rg';document.getElementById('cloak98fbcbe875775408bdf0ae1718d38fb4').innerHTML += '<a ' + path + '\'' + prefix + ':' + addy98fbcbe875775408bdf0ae1718d38fb4 + '\'>'+addy_text98fbcbe875775408bdf0ae1718d38fb4+'';
		
DTSTAMP:20260419T121029
DTSTART;TZID=Europe/London:20230429T140000
DTEND;TZID=Europe/London:20230429T170000
SEQUENCE:0
TRANSP:OPAQUE
END:VEVENT
END:VCALENDAR