BEGIN:VCALENDAR
VERSION:2.0
PRODID:-//jEvents 2.0 for Joomla//EN
CALSCALE:GREGORIAN
METHOD:PUBLISH
BEGIN:VTIMEZONE
TZID:Europe/London
BEGIN:STANDARD
DTSTART:20220303T143000
RDATE:20220327T020000
TZOFFSETFROM:+0100
TZOFFSETTO:+0000
TZNAME:Europe/London GMT
END:STANDARD
BEGIN:STANDARD
DTSTART:20221030T010000
RDATE:20230326T020000
TZOFFSETFROM:+0100
TZOFFSETTO:+0000
TZNAME:Europe/London GMT
END:STANDARD
BEGIN:STANDARD
DTSTART:20231029T010000
RDATE:20240331T020000
TZOFFSETFROM:+0100
TZOFFSETTO:+0000
TZNAME:Europe/London GMT
END:STANDARD
BEGIN:STANDARD
DTSTART:20241027T010000
RDATE:20250330T020000
TZOFFSETFROM:+0100
TZOFFSETTO:+0000
TZNAME:Europe/London GMT
END:STANDARD
BEGIN:STANDARD
DTSTART:20251026T010000
RDATE:20260329T020000
TZOFFSETFROM:+0100
TZOFFSETTO:+0000
TZNAME:Europe/London GMT
END:STANDARD
BEGIN:STANDARD
DTSTART:20261025T010000
RDATE:20270328T020000
TZOFFSETFROM:+0100
TZOFFSETTO:+0000
TZNAME:Europe/London GMT
END:STANDARD
BEGIN:STANDARD
DTSTART:20271031T010000
RDATE:20280326T020000
TZOFFSETFROM:+0100
TZOFFSETTO:+0000
TZNAME:Europe/London GMT
END:STANDARD
BEGIN:STANDARD
DTSTART:20281029T010000
RDATE:20290325T020000
TZOFFSETFROM:+0100
TZOFFSETTO:+0000
TZNAME:Europe/London GMT
END:STANDARD
BEGIN:STANDARD
DTSTART:20291028T010000
RDATE:20300331T020000
TZOFFSETFROM:+0100
TZOFFSETTO:+0000
TZNAME:Europe/London GMT
END:STANDARD
BEGIN:STANDARD
DTSTART:20301027T010000
RDATE:20310330T020000
TZOFFSETFROM:+0100
TZOFFSETTO:+0000
TZNAME:Europe/London GMT
END:STANDARD
BEGIN:DAYLIGHT
DTSTART:20220327T020000
RDATE:20221030T010000
TZOFFSETFROM:+0000
TZOFFSETTO:+0100
TZNAME:Europe/London BST
END:DAYLIGHT
BEGIN:DAYLIGHT
DTSTART:20230326T020000
RDATE:20231029T010000
TZOFFSETFROM:+0000
TZOFFSETTO:+0100
TZNAME:Europe/London BST
END:DAYLIGHT
BEGIN:DAYLIGHT
DTSTART:20240331T020000
RDATE:20241027T010000
TZOFFSETFROM:+0000
TZOFFSETTO:+0100
TZNAME:Europe/London BST
END:DAYLIGHT
BEGIN:DAYLIGHT
DTSTART:20250330T020000
RDATE:20251026T010000
TZOFFSETFROM:+0000
TZOFFSETTO:+0100
TZNAME:Europe/London BST
END:DAYLIGHT
BEGIN:DAYLIGHT
DTSTART:20260329T020000
RDATE:20261025T010000
TZOFFSETFROM:+0000
TZOFFSETTO:+0100
TZNAME:Europe/London BST
END:DAYLIGHT
BEGIN:DAYLIGHT
DTSTART:20270328T020000
RDATE:20271031T010000
TZOFFSETFROM:+0000
TZOFFSETTO:+0100
TZNAME:Europe/London BST
END:DAYLIGHT
BEGIN:DAYLIGHT
DTSTART:20280326T020000
RDATE:20281029T010000
TZOFFSETFROM:+0000
TZOFFSETTO:+0100
TZNAME:Europe/London BST
END:DAYLIGHT
BEGIN:DAYLIGHT
DTSTART:20290325T020000
RDATE:20291028T010000
TZOFFSETFROM:+0000
TZOFFSETTO:+0100
TZNAME:Europe/London BST
END:DAYLIGHT
BEGIN:DAYLIGHT
DTSTART:20300331T020000
RDATE:20301027T010000
TZOFFSETFROM:+0000
TZOFFSETTO:+0100
TZNAME:Europe/London BST
END:DAYLIGHT
END:VTIMEZONE
BEGIN:VEVENT
UID:18d6f823252a9709ebca1da31ccea05b
CATEGORIES:North
CREATED:20221001T201346
SUMMARY:New Members' Welcome Event
LOCATION:Hartfield (confirmed)
URL;VALUE=URI:https://www.scacr.org/news-events/calendar/1019/new-members-welcome-event?t
 mpl=component
DESCRIPTION:Come along to meet other members from around the District / Association, ha
 ve a ring on some different bells, and enjoy home-made cake!  \nRinging wil
 l be rounds-onwards - all welcome.  If you haven't had much experience at r
 inging at different towers, please do come along with your teacher or helpe
 r.\nNew members will be presented with their membership certificates.  Hand
 bells will be available for everyone to have a go, and there will also be e
 xhibition materials to peruse.\nParking is available in the school, and on-
 street in the village.  \n This event was imported from: https://www.scacr.
 org/news-events/calendar/1019/new-members-welcome-event?tmpl=component (htt
 ps://www.scacr.org/news-events/calendar/1019/new-members-welcome-event?tmpl
 =component)
X-ALT-DESC;FMTTYPE=text/html:<p>Come along to meet other members from around the District / Association,
  have a ring on some different bells, and enjoy home-made cake!&nbsp;&nbsp;
 </p><p>Ringing will be rounds-onwards - all welcome.&nbsp; If you haven't h
 ad much experience at ringing at different towers, please do come along wit
 h your teacher or helper.</p><p>New members will be presented with their me
 mbership certificates.&nbsp; Handbells will be available for everyone to ha
 ve a go, and there will also be exhibition materials to peruse.</p><p>Parki
 ng is available in the school, and on-street in the village.&nbsp;&nbsp;</p
 > <a href="https://www.scacr.org/news-events/calendar/1019/new-members-welc
 ome-event?tmpl=component">This event was imported from: https://www.scacr.o
 rg/news-events/calendar/1019/new-members-welcome-event?tmpl=component</a>CONTACT:This email address is being protected from spambots. You need JavaScript enabled to view it.
				document.getElementById('cloak04e523fc698aa4555828628166f518e7').innerHTML = '';
				var prefix = '&#109;a' + 'i&#108;' + '&#116;o';
				var path = 'hr' + 'ef' + '=';
				var addy04e523fc698aa4555828628166f518e7 = 's&#101;c-n&#111;rth' + '&#64;';
				addy04e523fc698aa4555828628166f518e7 = addy04e523fc698aa4555828628166f518e7 + 'sc&#97;cr' + '&#46;' + '&#111;rg';
				var addy_text04e523fc698aa4555828628166f518e7 = 's&#101;c-n&#111;rth' + '&#64;' + 'sc&#97;cr' + '&#46;' + '&#111;rg';document.getElementById('cloak04e523fc698aa4555828628166f518e7').innerHTML += '<a ' + path + '\'' + prefix + ':' + addy04e523fc698aa4555828628166f518e7 + '\'>'+addy_text04e523fc698aa4555828628166f518e7+'';
		
DTSTAMP:20260419T200819
DTSTART;TZID=Europe/London:20230304T143000
DTEND;TZID=Europe/London:20230304T170000
SEQUENCE:0
TRANSP:OPAQUE
END:VEVENT
END:VCALENDAR