BEGIN:VCALENDAR
VERSION:2.0
PRODID:-//jEvents 2.0 for Joomla//EN
CALSCALE:GREGORIAN
METHOD:PUBLISH
BEGIN:VTIMEZONE
TZID:Europe/London
BEGIN:STANDARD
DTSTART:20201114T193000
RDATE:20210328T020000
TZOFFSETFROM:+0100
TZOFFSETTO:+0000
TZNAME:Europe/London GMT
END:STANDARD
BEGIN:STANDARD
DTSTART:20211031T010000
RDATE:20220327T020000
TZOFFSETFROM:+0100
TZOFFSETTO:+0000
TZNAME:Europe/London GMT
END:STANDARD
BEGIN:STANDARD
DTSTART:20221030T010000
RDATE:20230326T020000
TZOFFSETFROM:+0100
TZOFFSETTO:+0000
TZNAME:Europe/London GMT
END:STANDARD
BEGIN:STANDARD
DTSTART:20231029T010000
RDATE:20240331T020000
TZOFFSETFROM:+0100
TZOFFSETTO:+0000
TZNAME:Europe/London GMT
END:STANDARD
BEGIN:STANDARD
DTSTART:20241027T010000
RDATE:20250330T020000
TZOFFSETFROM:+0100
TZOFFSETTO:+0000
TZNAME:Europe/London GMT
END:STANDARD
BEGIN:STANDARD
DTSTART:20251026T010000
RDATE:20260329T020000
TZOFFSETFROM:+0100
TZOFFSETTO:+0000
TZNAME:Europe/London GMT
END:STANDARD
BEGIN:STANDARD
DTSTART:20261025T010000
RDATE:20270328T020000
TZOFFSETFROM:+0100
TZOFFSETTO:+0000
TZNAME:Europe/London GMT
END:STANDARD
BEGIN:STANDARD
DTSTART:20271031T010000
RDATE:20280326T020000
TZOFFSETFROM:+0100
TZOFFSETTO:+0000
TZNAME:Europe/London GMT
END:STANDARD
BEGIN:STANDARD
DTSTART:20281029T010000
RDATE:20290325T020000
TZOFFSETFROM:+0100
TZOFFSETTO:+0000
TZNAME:Europe/London GMT
END:STANDARD
BEGIN:STANDARD
DTSTART:20291028T010000
RDATE:20300331T020000
TZOFFSETFROM:+0100
TZOFFSETTO:+0000
TZNAME:Europe/London GMT
END:STANDARD
BEGIN:STANDARD
DTSTART:20301027T010000
RDATE:20310330T020000
TZOFFSETFROM:+0100
TZOFFSETTO:+0000
TZNAME:Europe/London GMT
END:STANDARD
BEGIN:DAYLIGHT
DTSTART:20210328T020000
RDATE:20211031T010000
TZOFFSETFROM:+0000
TZOFFSETTO:+0100
TZNAME:Europe/London BST
END:DAYLIGHT
BEGIN:DAYLIGHT
DTSTART:20220327T020000
RDATE:20221030T010000
TZOFFSETFROM:+0000
TZOFFSETTO:+0100
TZNAME:Europe/London BST
END:DAYLIGHT
BEGIN:DAYLIGHT
DTSTART:20230326T020000
RDATE:20231029T010000
TZOFFSETFROM:+0000
TZOFFSETTO:+0100
TZNAME:Europe/London BST
END:DAYLIGHT
BEGIN:DAYLIGHT
DTSTART:20240331T020000
RDATE:20241027T010000
TZOFFSETFROM:+0000
TZOFFSETTO:+0100
TZNAME:Europe/London BST
END:DAYLIGHT
BEGIN:DAYLIGHT
DTSTART:20250330T020000
RDATE:20251026T010000
TZOFFSETFROM:+0000
TZOFFSETTO:+0100
TZNAME:Europe/London BST
END:DAYLIGHT
BEGIN:DAYLIGHT
DTSTART:20260329T020000
RDATE:20261025T010000
TZOFFSETFROM:+0000
TZOFFSETTO:+0100
TZNAME:Europe/London BST
END:DAYLIGHT
BEGIN:DAYLIGHT
DTSTART:20270328T020000
RDATE:20271031T010000
TZOFFSETFROM:+0000
TZOFFSETTO:+0100
TZNAME:Europe/London BST
END:DAYLIGHT
BEGIN:DAYLIGHT
DTSTART:20280326T020000
RDATE:20281029T010000
TZOFFSETFROM:+0000
TZOFFSETTO:+0100
TZNAME:Europe/London BST
END:DAYLIGHT
BEGIN:DAYLIGHT
DTSTART:20290325T020000
RDATE:20291028T010000
TZOFFSETFROM:+0000
TZOFFSETTO:+0100
TZNAME:Europe/London BST
END:DAYLIGHT
BEGIN:DAYLIGHT
DTSTART:20300331T020000
RDATE:20301027T010000
TZOFFSETFROM:+0000
TZOFFSETTO:+0100
TZNAME:Europe/London BST
END:DAYLIGHT
END:VTIMEZONE
BEGIN:VEVENT
UID:ef5cf3cd3620950cc9e6de731dd10c8a
CATEGORIES:North
CREATED:20211009T144613
SUMMARY:Minor Methods Practice
LOCATION:Worth
URL;VALUE=URI:https://www.scacr.org/news-events/calendar/863/minor-methods-practice?tmpl=
 component
DESCRIPTION:Minor methods practice - from Plain Bob Minor to Surprise. Come along to ha
 ve a go at something new, get some extra practice in, or ring something you
  wouldn't have the opportunity to do at your own tower.  Plasee sign up (ht
 tps://forms.gle/JjPAGRbDJdRSiPh26) in advance (at least 24 hours before; if
  we don't have enough, we'll cancel). \nPlease note that under-18s must be 
 accompanied by an adult (parent, guardian or other nominated adult).\nThis 
 practice will be held at Worth, which has 2 windows that will be open in th
 e ringing room. Attendees who are not ringing in a touch may be asked to si
 t in the choir room below the ringing room, to prevent the ringing room fro
 m becoming over-crowded. Attendees are encouraged to take a lateral flow te
 st beforehand, and to use hand sanitiser before ringing; facemasks are opti
 onal. Bring an extra layer, in case of draughts!  \nSign up here (https://f
 orms.gle/JjPAGRbDJdRSiPh26)\n This event was imported from: https://www.sca
 cr.org/news-events/calendar/863/minor-methods-practice?tmpl=component (http
 s://www.scacr.org/news-events/calendar/863/minor-methods-practice?tmpl=comp
 onent)
X-ALT-DESC;FMTTYPE=text/html:<p>Minor methods practice - from Plain Bob Minor to Surprise. Come along to
  have a go at something new, get some extra practice in, or ring something 
 you wouldn't have the opportunity to do at your own tower.&nbsp;&nbsp;<stro
 ng>Plasee&nbsp;<a href="https://forms.gle/JjPAGRbDJdRSiPh26">sign up</a>&nb
 sp;in advance&nbsp;</strong>(at least 24 hours before; if we don't have eno
 ugh, we'll cancel).&nbsp;</p><p>Please note that under-18s must be accompan
 ied by an adult (parent, guardian or other nominated adult).</p><p>This pra
 ctice will be held at Worth, which has 2 windows that will be open in the r
 inging room. Attendees who are not ringing in a touch may be asked to sit i
 n the choir room below the ringing room, to prevent the ringing room from b
 ecoming over-crowded. Attendees are encouraged to take a lateral flow test 
 beforehand, and to use hand sanitiser before ringing; facemasks are optiona
 l. Bring an extra layer, in case of draughts!&nbsp;&nbsp;</p><p><a href="ht
 tps://forms.gle/JjPAGRbDJdRSiPh26"><strong>Sign up here</strong></a></p> <a
  href="https://www.scacr.org/news-events/calendar/863/minor-methods-practic
 e?tmpl=component">This event was imported from: https://www.scacr.org/news-
 events/calendar/863/minor-methods-practice?tmpl=component</a>CONTACT:This email address is being protected from spambots. You need JavaScript enabled to view it.
				document.getElementById('cloak22e73cf24209f603ef1f53a389d0d99c').innerHTML = '';
				var prefix = '&#109;a' + 'i&#108;' + '&#116;o';
				var path = 'hr' + 'ef' + '=';
				var addy22e73cf24209f603ef1f53a389d0d99c = 's&#101;c-n&#111;rth' + '&#64;';
				addy22e73cf24209f603ef1f53a389d0d99c = addy22e73cf24209f603ef1f53a389d0d99c + 'sc&#97;cr' + '&#46;' + '&#111;rg';
				var addy_text22e73cf24209f603ef1f53a389d0d99c = 's&#101;c-n&#111;rth' + '&#64;' + 'sc&#97;cr' + '&#46;' + '&#111;rg';document.getElementById('cloak22e73cf24209f603ef1f53a389d0d99c').innerHTML += '<a ' + path + '\'' + prefix + ':' + addy22e73cf24209f603ef1f53a389d0d99c + '\'>'+addy_text22e73cf24209f603ef1f53a389d0d99c+'';
		
DTSTAMP:20260422T063854
DTSTART;TZID=Europe/London:20211115T193000
DTEND;TZID=Europe/London:20211115T210000
SEQUENCE:0
TRANSP:OPAQUE
END:VEVENT
END:VCALENDAR