BEGIN:VCALENDAR
VERSION:2.0
PRODID:-//jEvents 2.0 for Joomla//EN
CALSCALE:GREGORIAN
METHOD:PUBLISH
BEGIN:VTIMEZONE
TZID:Europe/London
BEGIN:STANDARD
DTSTART:20201025T010000
RDATE:20210328T020000
TZOFFSETFROM:+0100
TZOFFSETTO:+0000
TZNAME:Europe/London GMT
END:STANDARD
BEGIN:STANDARD
DTSTART:20211031T010000
RDATE:20220327T020000
TZOFFSETFROM:+0100
TZOFFSETTO:+0000
TZNAME:Europe/London GMT
END:STANDARD
BEGIN:STANDARD
DTSTART:20221030T010000
RDATE:20230326T020000
TZOFFSETFROM:+0100
TZOFFSETTO:+0000
TZNAME:Europe/London GMT
END:STANDARD
BEGIN:STANDARD
DTSTART:20231029T010000
RDATE:20240331T020000
TZOFFSETFROM:+0100
TZOFFSETTO:+0000
TZNAME:Europe/London GMT
END:STANDARD
BEGIN:STANDARD
DTSTART:20241027T010000
RDATE:20250330T020000
TZOFFSETFROM:+0100
TZOFFSETTO:+0000
TZNAME:Europe/London GMT
END:STANDARD
BEGIN:STANDARD
DTSTART:20251026T010000
RDATE:20260329T020000
TZOFFSETFROM:+0100
TZOFFSETTO:+0000
TZNAME:Europe/London GMT
END:STANDARD
BEGIN:STANDARD
DTSTART:20261025T010000
RDATE:20270328T020000
TZOFFSETFROM:+0100
TZOFFSETTO:+0000
TZNAME:Europe/London GMT
END:STANDARD
BEGIN:STANDARD
DTSTART:20271031T010000
RDATE:20280326T020000
TZOFFSETFROM:+0100
TZOFFSETTO:+0000
TZNAME:Europe/London GMT
END:STANDARD
BEGIN:STANDARD
DTSTART:20281029T010000
RDATE:20290325T020000
TZOFFSETFROM:+0100
TZOFFSETTO:+0000
TZNAME:Europe/London GMT
END:STANDARD
BEGIN:STANDARD
DTSTART:20291028T010000
RDATE:20300331T020000
TZOFFSETFROM:+0100
TZOFFSETTO:+0000
TZNAME:Europe/London GMT
END:STANDARD
BEGIN:STANDARD
DTSTART:20301027T010000
RDATE:20310330T020000
TZOFFSETFROM:+0100
TZOFFSETTO:+0000
TZNAME:Europe/London GMT
END:STANDARD
BEGIN:DAYLIGHT
DTSTART:20201005T110000
RDATE:20201025T010000
TZOFFSETFROM:+0000
TZOFFSETTO:+0100
TZNAME:Europe/London BST
END:DAYLIGHT
BEGIN:DAYLIGHT
DTSTART:20210328T020000
RDATE:20211031T010000
TZOFFSETFROM:+0000
TZOFFSETTO:+0100
TZNAME:Europe/London BST
END:DAYLIGHT
BEGIN:DAYLIGHT
DTSTART:20220327T020000
RDATE:20221030T010000
TZOFFSETFROM:+0000
TZOFFSETTO:+0100
TZNAME:Europe/London BST
END:DAYLIGHT
BEGIN:DAYLIGHT
DTSTART:20230326T020000
RDATE:20231029T010000
TZOFFSETFROM:+0000
TZOFFSETTO:+0100
TZNAME:Europe/London BST
END:DAYLIGHT
BEGIN:DAYLIGHT
DTSTART:20240331T020000
RDATE:20241027T010000
TZOFFSETFROM:+0000
TZOFFSETTO:+0100
TZNAME:Europe/London BST
END:DAYLIGHT
BEGIN:DAYLIGHT
DTSTART:20250330T020000
RDATE:20251026T010000
TZOFFSETFROM:+0000
TZOFFSETTO:+0100
TZNAME:Europe/London BST
END:DAYLIGHT
BEGIN:DAYLIGHT
DTSTART:20260329T020000
RDATE:20261025T010000
TZOFFSETFROM:+0000
TZOFFSETTO:+0100
TZNAME:Europe/London BST
END:DAYLIGHT
BEGIN:DAYLIGHT
DTSTART:20270328T020000
RDATE:20271031T010000
TZOFFSETFROM:+0000
TZOFFSETTO:+0100
TZNAME:Europe/London BST
END:DAYLIGHT
BEGIN:DAYLIGHT
DTSTART:20280326T020000
RDATE:20281029T010000
TZOFFSETFROM:+0000
TZOFFSETTO:+0100
TZNAME:Europe/London BST
END:DAYLIGHT
BEGIN:DAYLIGHT
DTSTART:20290325T020000
RDATE:20291028T010000
TZOFFSETFROM:+0000
TZOFFSETTO:+0100
TZNAME:Europe/London BST
END:DAYLIGHT
BEGIN:DAYLIGHT
DTSTART:20300331T020000
RDATE:20301027T010000
TZOFFSETFROM:+0000
TZOFFSETTO:+0100
TZNAME:Europe/London BST
END:DAYLIGHT
END:VTIMEZONE
BEGIN:VEVENT
UID:13b78e3c3d42b8f705c3b3369ec05256
CATEGORIES:Other Event
CREATED:20210928T091219
SUMMARY:Codgers
LOCATION:Turners Hill/Ardingly
URL;VALUE=URI:https://www.scacr.org/news-events/calendar/861/codgers?tmpl=component
DESCRIPTION:Please note that masks should be worn when ringing!\nAlthough ground floor 
 rings have been suggested to reduce covid transmission Ardingly has a very 
 good ventilation.\nTurners Hill St Leonards 11.00 – 12.30 GF\nPub: The Crow
 n, Turners Hill\nArdingly St Peter 14.45 – 15.30 (Note later time than usua
 l due to funeral)\n This event was imported from: https://www.scacr.org/new
 s-events/calendar/861/codgers?tmpl=component (https://www.scacr.org/news-ev
 ents/calendar/861/codgers?tmpl=component)
X-ALT-DESC;FMTTYPE=text/html:<p>Please note that masks should be worn when ringing!</p><p>Although groun
 d floor rings have been suggested to reduce covid transmission Ardingly has
  a very good ventilation.</p><p>Turners Hill St Leonards 11.00 – 12.30 GF</
 p><p>Pub: The Crown, Turners Hill</p><p>Ardingly St Peter 14.45 – 15.30 (No
 te later time than usual due to funeral)</p> <a href="https://www.scacr.org
 /news-events/calendar/861/codgers?tmpl=component">This event was imported f
 rom: https://www.scacr.org/news-events/calendar/861/codgers?tmpl=component<
 /a>CONTACT:This email address is being protected from spambots. You need JavaScript enabled to view it.
				document.getElementById('cloakf79bee5561c8ecbcb9a9fb383d364ccd').innerHTML = '';
				var prefix = '&#109;a' + 'i&#108;' + '&#116;o';
				var path = 'hr' + 'ef' + '=';
				var addyf79bee5561c8ecbcb9a9fb383d364ccd = 'c&#111;dg&#101;rs' + '&#64;';
				addyf79bee5561c8ecbcb9a9fb383d364ccd = addyf79bee5561c8ecbcb9a9fb383d364ccd + 'sc&#97;cr' + '&#46;' + '&#111;rg';
				var addy_textf79bee5561c8ecbcb9a9fb383d364ccd = 'c&#111;dg&#101;rs' + '&#64;' + 'sc&#97;cr' + '&#46;' + '&#111;rg';document.getElementById('cloakf79bee5561c8ecbcb9a9fb383d364ccd').innerHTML += '<a ' + path + '\'' + prefix + ':' + addyf79bee5561c8ecbcb9a9fb383d364ccd + '\'>'+addy_textf79bee5561c8ecbcb9a9fb383d364ccd+'';
		
DTSTAMP:20260425T105520
DTSTART;TZID=Europe/London:20211006T110000
DTEND;TZID=Europe/London:20211006T153000
SEQUENCE:0
TRANSP:OPAQUE
END:VEVENT
END:VCALENDAR