BEGIN:VCALENDAR
VERSION:2.0
PRODID:-//jEvents 2.0 for Joomla//EN
CALSCALE:GREGORIAN
METHOD:PUBLISH
BEGIN:VTIMEZONE
TZID:Europe/London
BEGIN:STANDARD
DTSTART:20201025T010000
RDATE:20210328T020000
TZOFFSETFROM:+0100
TZOFFSETTO:+0000
TZNAME:Europe/London GMT
END:STANDARD
BEGIN:STANDARD
DTSTART:20211031T010000
RDATE:20220327T020000
TZOFFSETFROM:+0100
TZOFFSETTO:+0000
TZNAME:Europe/London GMT
END:STANDARD
BEGIN:STANDARD
DTSTART:20221030T010000
RDATE:20230326T020000
TZOFFSETFROM:+0100
TZOFFSETTO:+0000
TZNAME:Europe/London GMT
END:STANDARD
BEGIN:STANDARD
DTSTART:20231029T010000
RDATE:20240331T020000
TZOFFSETFROM:+0100
TZOFFSETTO:+0000
TZNAME:Europe/London GMT
END:STANDARD
BEGIN:STANDARD
DTSTART:20241027T010000
RDATE:20250330T020000
TZOFFSETFROM:+0100
TZOFFSETTO:+0000
TZNAME:Europe/London GMT
END:STANDARD
BEGIN:STANDARD
DTSTART:20251026T010000
RDATE:20260329T020000
TZOFFSETFROM:+0100
TZOFFSETTO:+0000
TZNAME:Europe/London GMT
END:STANDARD
BEGIN:STANDARD
DTSTART:20261025T010000
RDATE:20270328T020000
TZOFFSETFROM:+0100
TZOFFSETTO:+0000
TZNAME:Europe/London GMT
END:STANDARD
BEGIN:STANDARD
DTSTART:20271031T010000
RDATE:20280326T020000
TZOFFSETFROM:+0100
TZOFFSETTO:+0000
TZNAME:Europe/London GMT
END:STANDARD
BEGIN:STANDARD
DTSTART:20281029T010000
RDATE:20290325T020000
TZOFFSETFROM:+0100
TZOFFSETTO:+0000
TZNAME:Europe/London GMT
END:STANDARD
BEGIN:STANDARD
DTSTART:20291028T010000
RDATE:20300331T020000
TZOFFSETFROM:+0100
TZOFFSETTO:+0000
TZNAME:Europe/London GMT
END:STANDARD
BEGIN:STANDARD
DTSTART:20301027T010000
RDATE:20310330T020000
TZOFFSETFROM:+0100
TZOFFSETTO:+0000
TZNAME:Europe/London GMT
END:STANDARD
BEGIN:DAYLIGHT
DTSTART:20201010T193000
RDATE:20201025T010000
TZOFFSETFROM:+0000
TZOFFSETTO:+0100
TZNAME:Europe/London BST
END:DAYLIGHT
BEGIN:DAYLIGHT
DTSTART:20210328T020000
RDATE:20211031T010000
TZOFFSETFROM:+0000
TZOFFSETTO:+0100
TZNAME:Europe/London BST
END:DAYLIGHT
BEGIN:DAYLIGHT
DTSTART:20220327T020000
RDATE:20221030T010000
TZOFFSETFROM:+0000
TZOFFSETTO:+0100
TZNAME:Europe/London BST
END:DAYLIGHT
BEGIN:DAYLIGHT
DTSTART:20230326T020000
RDATE:20231029T010000
TZOFFSETFROM:+0000
TZOFFSETTO:+0100
TZNAME:Europe/London BST
END:DAYLIGHT
BEGIN:DAYLIGHT
DTSTART:20240331T020000
RDATE:20241027T010000
TZOFFSETFROM:+0000
TZOFFSETTO:+0100
TZNAME:Europe/London BST
END:DAYLIGHT
BEGIN:DAYLIGHT
DTSTART:20250330T020000
RDATE:20251026T010000
TZOFFSETFROM:+0000
TZOFFSETTO:+0100
TZNAME:Europe/London BST
END:DAYLIGHT
BEGIN:DAYLIGHT
DTSTART:20260329T020000
RDATE:20261025T010000
TZOFFSETFROM:+0000
TZOFFSETTO:+0100
TZNAME:Europe/London BST
END:DAYLIGHT
BEGIN:DAYLIGHT
DTSTART:20270328T020000
RDATE:20271031T010000
TZOFFSETFROM:+0000
TZOFFSETTO:+0100
TZNAME:Europe/London BST
END:DAYLIGHT
BEGIN:DAYLIGHT
DTSTART:20280326T020000
RDATE:20281029T010000
TZOFFSETFROM:+0000
TZOFFSETTO:+0100
TZNAME:Europe/London BST
END:DAYLIGHT
BEGIN:DAYLIGHT
DTSTART:20290325T020000
RDATE:20291028T010000
TZOFFSETFROM:+0000
TZOFFSETTO:+0100
TZNAME:Europe/London BST
END:DAYLIGHT
BEGIN:DAYLIGHT
DTSTART:20300331T020000
RDATE:20301027T010000
TZOFFSETFROM:+0000
TZOFFSETTO:+0100
TZNAME:Europe/London BST
END:DAYLIGHT
END:VTIMEZONE
BEGIN:VEVENT
UID:6ce7f8ba38d754224768ca8f2aca3746
CATEGORIES:North
CREATED:20210920T222146
SUMMARY:CANCELLED Moving on to Methods Practice
LOCATION:CANCELLED
URL;VALUE=URI:https://www.scacr.org/news-events/calendar/857/cancelled-moving-on-to-metho
 ds-practice?tmpl=component
DESCRIPTION:CANCELLED due to tower unavailability and petrol issues.\nAll welcome at th
 is practice - newer ringers looking to develop their skills and more experi
 enced ringers as helpers. This practice will include rounds and call change
 s, Kaleidoscope exercises, leading and listening skills, developing ropesig
 ht, intro to Plain Hunt, up to Grandsire and Plain Bob Doubles - depending 
 on who turns up. \nThis practice will be held at a tower with a well-ventil
 ated ringing room. Attendees are encouraged to take a lateral flow test bef
 orehand, and to use hand sanitiser before ringing; facemasks are optional. 
 Numbers of people in the ringing room will be limited.\n This event was imp
 orted from: https://www.scacr.org/news-events/calendar/857/cancelled-moving
 -on-to-methods-practice?tmpl=component (https://www.scacr.org/news-events/c
 alendar/857/cancelled-moving-on-to-methods-practice?tmpl=component)
X-ALT-DESC;FMTTYPE=text/html:<p>CANCELLED due to tower unavailability and petrol issues.</p><p>All welco
 me at this practice - newer ringers looking to develop their skills and mor
 e experienced ringers as helpers. This practice will include rounds and cal
 l changes, Kaleidoscope exercises, leading and listening skills, developing
  ropesight, intro to Plain Hunt, up to Grandsire and Plain Bob Doubles - de
 pending on who turns up.&nbsp;</p><p>This practice will be held at a tower 
 with a well-ventilated ringing room. Attendees are encouraged to take a lat
 eral flow test beforehand, and to use hand sanitiser before ringing; facema
 sks are optional. Numbers of people in the ringing room will be limited.</p
 > <a href="https://www.scacr.org/news-events/calendar/857/cancelled-moving-
 on-to-methods-practice?tmpl=component">This event was imported from: https:
 //www.scacr.org/news-events/calendar/857/cancelled-moving-on-to-methods-pra
 ctice?tmpl=component</a>CONTACT:This email address is being protected from spambots. You need JavaScript enabled to view it.
				document.getElementById('cloak6d8ae70c441cde79f650ed13ba8c21bf').innerHTML = '';
				var prefix = '&#109;a' + 'i&#108;' + '&#116;o';
				var path = 'hr' + 'ef' + '=';
				var addy6d8ae70c441cde79f650ed13ba8c21bf = 's&#101;c-n&#111;rth' + '&#64;';
				addy6d8ae70c441cde79f650ed13ba8c21bf = addy6d8ae70c441cde79f650ed13ba8c21bf + 'sc&#97;cr' + '&#46;' + '&#111;rg';
				var addy_text6d8ae70c441cde79f650ed13ba8c21bf = 's&#101;c-n&#111;rth' + '&#64;' + 'sc&#97;cr' + '&#46;' + '&#111;rg';document.getElementById('cloak6d8ae70c441cde79f650ed13ba8c21bf').innerHTML += '<a ' + path + '\'' + prefix + ':' + addy6d8ae70c441cde79f650ed13ba8c21bf + '\'>'+addy_text6d8ae70c441cde79f650ed13ba8c21bf+'';
		
DTSTAMP:20260420T130855
DTSTART;TZID=Europe/London:20211011T193000
DTEND;TZID=Europe/London:20211011T210000
SEQUENCE:0
TRANSP:OPAQUE
END:VEVENT
END:VCALENDAR