BEGIN:VCALENDAR
VERSION:2.0
PRODID:-//jEvents 2.0 for Joomla//EN
CALSCALE:GREGORIAN
METHOD:PUBLISH
BEGIN:VTIMEZONE
TZID:Europe/London
BEGIN:STANDARD
DTSTART:20200116T150000
RDATE:20200329T020000
TZOFFSETFROM:+0100
TZOFFSETTO:+0000
TZNAME:Europe/London GMT
END:STANDARD
BEGIN:STANDARD
DTSTART:20201025T010000
RDATE:20210328T020000
TZOFFSETFROM:+0100
TZOFFSETTO:+0000
TZNAME:Europe/London GMT
END:STANDARD
BEGIN:STANDARD
DTSTART:20211031T010000
RDATE:20220327T020000
TZOFFSETFROM:+0100
TZOFFSETTO:+0000
TZNAME:Europe/London GMT
END:STANDARD
BEGIN:STANDARD
DTSTART:20221030T010000
RDATE:20230326T020000
TZOFFSETFROM:+0100
TZOFFSETTO:+0000
TZNAME:Europe/London GMT
END:STANDARD
BEGIN:STANDARD
DTSTART:20231029T010000
RDATE:20240331T020000
TZOFFSETFROM:+0100
TZOFFSETTO:+0000
TZNAME:Europe/London GMT
END:STANDARD
BEGIN:STANDARD
DTSTART:20241027T010000
RDATE:20250330T020000
TZOFFSETFROM:+0100
TZOFFSETTO:+0000
TZNAME:Europe/London GMT
END:STANDARD
BEGIN:STANDARD
DTSTART:20251026T010000
RDATE:20260329T020000
TZOFFSETFROM:+0100
TZOFFSETTO:+0000
TZNAME:Europe/London GMT
END:STANDARD
BEGIN:STANDARD
DTSTART:20261025T010000
RDATE:20270328T020000
TZOFFSETFROM:+0100
TZOFFSETTO:+0000
TZNAME:Europe/London GMT
END:STANDARD
BEGIN:STANDARD
DTSTART:20271031T010000
RDATE:20280326T020000
TZOFFSETFROM:+0100
TZOFFSETTO:+0000
TZNAME:Europe/London GMT
END:STANDARD
BEGIN:STANDARD
DTSTART:20281029T010000
RDATE:20290325T020000
TZOFFSETFROM:+0100
TZOFFSETTO:+0000
TZNAME:Europe/London GMT
END:STANDARD
BEGIN:STANDARD
DTSTART:20291028T010000
RDATE:20300331T020000
TZOFFSETFROM:+0100
TZOFFSETTO:+0000
TZNAME:Europe/London GMT
END:STANDARD
BEGIN:STANDARD
DTSTART:20301027T010000
RDATE:20310330T020000
TZOFFSETFROM:+0100
TZOFFSETTO:+0000
TZNAME:Europe/London GMT
END:STANDARD
BEGIN:DAYLIGHT
DTSTART:20200329T020000
RDATE:20201025T010000
TZOFFSETFROM:+0000
TZOFFSETTO:+0100
TZNAME:Europe/London BST
END:DAYLIGHT
BEGIN:DAYLIGHT
DTSTART:20210328T020000
RDATE:20211031T010000
TZOFFSETFROM:+0000
TZOFFSETTO:+0100
TZNAME:Europe/London BST
END:DAYLIGHT
BEGIN:DAYLIGHT
DTSTART:20220327T020000
RDATE:20221030T010000
TZOFFSETFROM:+0000
TZOFFSETTO:+0100
TZNAME:Europe/London BST
END:DAYLIGHT
BEGIN:DAYLIGHT
DTSTART:20230326T020000
RDATE:20231029T010000
TZOFFSETFROM:+0000
TZOFFSETTO:+0100
TZNAME:Europe/London BST
END:DAYLIGHT
BEGIN:DAYLIGHT
DTSTART:20240331T020000
RDATE:20241027T010000
TZOFFSETFROM:+0000
TZOFFSETTO:+0100
TZNAME:Europe/London BST
END:DAYLIGHT
BEGIN:DAYLIGHT
DTSTART:20250330T020000
RDATE:20251026T010000
TZOFFSETFROM:+0000
TZOFFSETTO:+0100
TZNAME:Europe/London BST
END:DAYLIGHT
BEGIN:DAYLIGHT
DTSTART:20260329T020000
RDATE:20261025T010000
TZOFFSETFROM:+0000
TZOFFSETTO:+0100
TZNAME:Europe/London BST
END:DAYLIGHT
BEGIN:DAYLIGHT
DTSTART:20270328T020000
RDATE:20271031T010000
TZOFFSETFROM:+0000
TZOFFSETTO:+0100
TZNAME:Europe/London BST
END:DAYLIGHT
BEGIN:DAYLIGHT
DTSTART:20280326T020000
RDATE:20281029T010000
TZOFFSETFROM:+0000
TZOFFSETTO:+0100
TZNAME:Europe/London BST
END:DAYLIGHT
BEGIN:DAYLIGHT
DTSTART:20290325T020000
RDATE:20291028T010000
TZOFFSETFROM:+0000
TZOFFSETTO:+0100
TZNAME:Europe/London BST
END:DAYLIGHT
BEGIN:DAYLIGHT
DTSTART:20300331T020000
RDATE:20301027T010000
TZOFFSETFROM:+0000
TZOFFSETTO:+0100
TZNAME:Europe/London BST
END:DAYLIGHT
END:VTIMEZONE
BEGIN:VEVENT
UID:03473fa80eb89fbc1f280d0e640df762
CATEGORIES:Association Event
CREATED:20210103T144114
SUMMARY:Novices' and Minor Practice (Ringing Room)
LOCATION:Ringing Room and Zoom
URL;VALUE=URI:https://www.scacr.org/news-events/calendar/781/novices-and-minor-practice-r
 inging-room?tmpl=component
DESCRIPTION:The weekly Association Novices' Practices will resume on Saturday 9th Janua
 ry 2021. Join this friendly and supportive practice to have a go at Ringing
  Room, and progress your skills from rounds and call changes up to ringing 
 inside to Plain Doubles methods.\nWould you like to progress your knowledge
  and skills on doubles and minor methods over the coming weeks using Ringin
 gRoom and Zoom? Then the Moving on to Minor Practices are for you! As well 
 as the Saturday afternoon sessions, there will be some homework (writing me
 thods out and/or using Mobel/Abel). No previous knowledge of Ringing Room? 
 Don't worry, register to join a Novices' Practice first to learn the basics
  and have some fun!  Please do encourage your friends to join as learners o
 r helpers! You do not need to commit to attend every week.\nYou'll need to 
 fill in the Google forms for each practice in advance (deadline 5 pm the da
 y before) to join - contact Steph via This email address is being protected
  from spambots. You need JavaScript enabled to view it.
				document.getEle
 mentById('cloaka3d987d11a997aefde97c1b1d419ac92').innerHTML = '';
				var p
 refix = '&#109;a' + 'i&#108;' + '&#116;o';
				var path = 'hr' + 'ef' + '='
 ;
				var addya3d987d11a997aefde97c1b1d419ac92 = 's&#101;c-n&#111;rth' + '&
 #64;';
				addya3d987d11a997aefde97c1b1d419ac92 = addya3d987d11a997aefde97c
 1b1d419ac92 + 'sc&#97;cr' + '&#46;' + '&#111;rg';
				var addy_texta3d987d1
 1a997aefde97c1b1d419ac92 = 's&#101;c-n&#111;rth' + '&#64;' + 'sc&#97;cr' + 
 '&#46;' + '&#111;rg';document.getElementById('cloaka3d987d11a997aefde97c1b1
 d419ac92').innerHTML += '<a ' + path + '\'' + prefix + ':' + addya3d987d11a
 997aefde97c1b1d419ac92 + '\'>'+addy_texta3d987d11a997aefde97c1b1d419ac92+''
 ;
		 for details. Joining instructions will be sent a few hours in advance 
 to those who have registered.  \nNote the change of time of the Novices' Pr
 actice from last year!\n\n - Meet for a chat from 3 pm (please join by 3.20
  pm at the latest for the Novices' Practice)\n - 3.30-4.30 pm - Novices' Pr
 actice \n - 4.30-4.45 pm - break \n - 4.45-5.45 pm - Moving on to Minor Pra
 ctice This event was imported from: https://www.scacr.org/news-events/calen
 dar/781/novices-and-minor-practice-ringing-room?tmpl=component (https://www
 .scacr.org/news-events/calendar/781/novices-and-minor-practice-ringing-room
 ?tmpl=component)
X-ALT-DESC;FMTTYPE=text/html:<p>The weekly <strong>Association Novices' Practices</strong> will resume o
 n Saturday 9th January 2021. Join this friendly and supportive practice to 
 have a go at Ringing Room, and progress your skills from rounds and call ch
 anges up to ringing inside to Plain Doubles methods.</p><div dir="auto">Wou
 ld you like to progress your knowledge and skills on doubles and minor meth
 ods over the coming weeks using RingingRoom and Zoom? Then the <strong>Movi
 ng on to Minor Practices&nbsp;</strong>are for you!&nbsp;As well as the Sat
 urday afternoon sessions, there will be some homework (writing methods out 
 and/or using Mobel/Abel).&nbsp;No previous knowledge of Ringing Room? Don't
  worry, register to join a Novices' Practice first to learn the basics and 
 have some fun!&nbsp;</div><div>&nbsp;</div><p>Please do encourage your frie
 nds to join as learners or helpers! You do not need to commit to attend eve
 ry week.</p><p><strong>You'll need to fill in the Google forms for each pra
 ctice in advance (deadline 5 pm the day before) to join - contact Steph via
  <span id="cloaka3d987d11a997aefde97c1b1d419ac92">This email address is bei
 ng protected from spambots. You need JavaScript enabled to view it.</span><
 script type='text/javascript'>
				document.getElementById('cloaka3d987d11a
 997aefde97c1b1d419ac92').innerHTML = '';
				var prefix = '&#109;a' + 'i&#1
 08;' + '&#116;o';
				var path = 'hr' + 'ef' + '=';
				var addya3d987d11a9
 97aefde97c1b1d419ac92 = 's&#101;c-n&#111;rth' + '&#64;';
				addya3d987d11a
 997aefde97c1b1d419ac92 = addya3d987d11a997aefde97c1b1d419ac92 + 'sc&#97;cr'
  + '&#46;' + '&#111;rg';
				var addy_texta3d987d11a997aefde97c1b1d419ac92 
 = 's&#101;c-n&#111;rth' + '&#64;' + 'sc&#97;cr' + '&#46;' + '&#111;rg';docu
 ment.getElementById('cloaka3d987d11a997aefde97c1b1d419ac92').innerHTML += '
 <a ' + path + '\'' + prefix + ':' + addya3d987d11a997aefde97c1b1d419ac92 + 
 '\'>'+addy_texta3d987d11a997aefde97c1b1d419ac92+'<\/a>';
		</script>&nbsp;f
 or details. </strong>Joining instructions will be sent a few hours in advan
 ce to those who have registered.&nbsp;&nbsp;</p><p>Note the change of time 
 of the Novices' Practice from last year!</p><ul><li>Meet for a chat from 3 
 pm (please join by 3.20 pm at the latest for the Novices' Practice)</li><li
 >3.30-4.30 pm - Novices' Practice&nbsp;</li><li>4.30-4.45 pm - break&nbsp;<
 /li><li>4.45-5.45 pm - Moving on to Minor Practice</li></ul> <a href="https
 ://www.scacr.org/news-events/calendar/781/novices-and-minor-practice-ringin
 g-room?tmpl=component">This event was imported from: https://www.scacr.org/
 news-events/calendar/781/novices-and-minor-practice-ringing-room?tmpl=compo
 nent</a>CONTACT:This email address is being protected from spambots. You need JavaScript enabled to view it.
				document.getElementById('cloakcb35fd0cd8f22e1e3ec73bb3a7e77895').innerHTML = '';
				var prefix = '&#109;a' + 'i&#108;' + '&#116;o';
				var path = 'hr' + 'ef' + '=';
				var addycb35fd0cd8f22e1e3ec73bb3a7e77895 = 's&#101;c-n&#111;rth' + '&#64;';
				addycb35fd0cd8f22e1e3ec73bb3a7e77895 = addycb35fd0cd8f22e1e3ec73bb3a7e77895 + 'sc&#97;cr' + '&#46;' + '&#111;rg';
				var addy_textcb35fd0cd8f22e1e3ec73bb3a7e77895 = 's&#101;c-n&#111;rth' + '&#64;' + 'sc&#97;cr' + '&#46;' + '&#111;rg';document.getElementById('cloakcb35fd0cd8f22e1e3ec73bb3a7e77895').innerHTML += '<a ' + path + '\'' + prefix + ':' + addycb35fd0cd8f22e1e3ec73bb3a7e77895 + '\'>'+addy_textcb35fd0cd8f22e1e3ec73bb3a7e77895+'';
		
DTSTAMP:20260420T065145
DTSTART;TZID=Europe/London:20210116T150000
DTEND;TZID=Europe/London:20210116T174500
SEQUENCE:0
TRANSP:OPAQUE
END:VEVENT
END:VCALENDAR