BEGIN:VCALENDAR
VERSION:2.0
PRODID:-//jEvents 2.0 for Joomla//EN
CALSCALE:GREGORIAN
METHOD:PUBLISH
BEGIN:VTIMEZONE
TZID:Europe/London
BEGIN:STANDARD
DTSTART:20191218T190000
RDATE:20200329T020000
TZOFFSETFROM:+0100
TZOFFSETTO:+0000
TZNAME:Europe/London GMT
END:STANDARD
BEGIN:STANDARD
DTSTART:20201025T010000
RDATE:20210328T020000
TZOFFSETFROM:+0100
TZOFFSETTO:+0000
TZNAME:Europe/London GMT
END:STANDARD
BEGIN:STANDARD
DTSTART:20211031T010000
RDATE:20220327T020000
TZOFFSETFROM:+0100
TZOFFSETTO:+0000
TZNAME:Europe/London GMT
END:STANDARD
BEGIN:STANDARD
DTSTART:20221030T010000
RDATE:20230326T020000
TZOFFSETFROM:+0100
TZOFFSETTO:+0000
TZNAME:Europe/London GMT
END:STANDARD
BEGIN:STANDARD
DTSTART:20231029T010000
RDATE:20240331T020000
TZOFFSETFROM:+0100
TZOFFSETTO:+0000
TZNAME:Europe/London GMT
END:STANDARD
BEGIN:STANDARD
DTSTART:20241027T010000
RDATE:20250330T020000
TZOFFSETFROM:+0100
TZOFFSETTO:+0000
TZNAME:Europe/London GMT
END:STANDARD
BEGIN:STANDARD
DTSTART:20251026T010000
RDATE:20260329T020000
TZOFFSETFROM:+0100
TZOFFSETTO:+0000
TZNAME:Europe/London GMT
END:STANDARD
BEGIN:STANDARD
DTSTART:20261025T010000
RDATE:20270328T020000
TZOFFSETFROM:+0100
TZOFFSETTO:+0000
TZNAME:Europe/London GMT
END:STANDARD
BEGIN:STANDARD
DTSTART:20271031T010000
RDATE:20280326T020000
TZOFFSETFROM:+0100
TZOFFSETTO:+0000
TZNAME:Europe/London GMT
END:STANDARD
BEGIN:STANDARD
DTSTART:20281029T010000
RDATE:20290325T020000
TZOFFSETFROM:+0100
TZOFFSETTO:+0000
TZNAME:Europe/London GMT
END:STANDARD
BEGIN:STANDARD
DTSTART:20291028T010000
RDATE:20300331T020000
TZOFFSETFROM:+0100
TZOFFSETTO:+0000
TZNAME:Europe/London GMT
END:STANDARD
BEGIN:STANDARD
DTSTART:20301027T010000
RDATE:20310330T020000
TZOFFSETFROM:+0100
TZOFFSETTO:+0000
TZNAME:Europe/London GMT
END:STANDARD
BEGIN:DAYLIGHT
DTSTART:20200329T020000
RDATE:20201025T010000
TZOFFSETFROM:+0000
TZOFFSETTO:+0100
TZNAME:Europe/London BST
END:DAYLIGHT
BEGIN:DAYLIGHT
DTSTART:20210328T020000
RDATE:20211031T010000
TZOFFSETFROM:+0000
TZOFFSETTO:+0100
TZNAME:Europe/London BST
END:DAYLIGHT
BEGIN:DAYLIGHT
DTSTART:20220327T020000
RDATE:20221030T010000
TZOFFSETFROM:+0000
TZOFFSETTO:+0100
TZNAME:Europe/London BST
END:DAYLIGHT
BEGIN:DAYLIGHT
DTSTART:20230326T020000
RDATE:20231029T010000
TZOFFSETFROM:+0000
TZOFFSETTO:+0100
TZNAME:Europe/London BST
END:DAYLIGHT
BEGIN:DAYLIGHT
DTSTART:20240331T020000
RDATE:20241027T010000
TZOFFSETFROM:+0000
TZOFFSETTO:+0100
TZNAME:Europe/London BST
END:DAYLIGHT
BEGIN:DAYLIGHT
DTSTART:20250330T020000
RDATE:20251026T010000
TZOFFSETFROM:+0000
TZOFFSETTO:+0100
TZNAME:Europe/London BST
END:DAYLIGHT
BEGIN:DAYLIGHT
DTSTART:20260329T020000
RDATE:20261025T010000
TZOFFSETFROM:+0000
TZOFFSETTO:+0100
TZNAME:Europe/London BST
END:DAYLIGHT
BEGIN:DAYLIGHT
DTSTART:20270328T020000
RDATE:20271031T010000
TZOFFSETFROM:+0000
TZOFFSETTO:+0100
TZNAME:Europe/London BST
END:DAYLIGHT
BEGIN:DAYLIGHT
DTSTART:20280326T020000
RDATE:20281029T010000
TZOFFSETFROM:+0000
TZOFFSETTO:+0100
TZNAME:Europe/London BST
END:DAYLIGHT
BEGIN:DAYLIGHT
DTSTART:20290325T020000
RDATE:20291028T010000
TZOFFSETFROM:+0000
TZOFFSETTO:+0100
TZNAME:Europe/London BST
END:DAYLIGHT
BEGIN:DAYLIGHT
DTSTART:20300331T020000
RDATE:20301027T010000
TZOFFSETFROM:+0000
TZOFFSETTO:+0100
TZNAME:Europe/London BST
END:DAYLIGHT
END:VTIMEZONE
BEGIN:VEVENT
UID:816f1937e2ac0758228039b428cbac61
CATEGORIES:Association Event
CREATED:20201107T184235
SUMMARY:Association Christmas Quiz
LOCATION:via Zoom
URL;VALUE=URI:https://www.scacr.org/news-events/calendar/764/association-christmas-quiz?t
 mpl=component
DESCRIPTION:Note change of date to the FRIDAY (to avoid the Strictly final)! You MUST r
 egister in advance to join - contact  (mailto:sec-north@scacr.org)This emai
 l address is being protected from spambots. You need JavaScript enabled to 
 view it.
				document.getElementById('cloak6673a85a2fad24bec53badb007c8129b
 ').innerHTML = '';
				var prefix = '&#109;a' + 'i&#108;' + '&#116;o';
				
 var path = 'hr' + 'ef' + '=';
				var addy6673a85a2fad24bec53badb007c8129b 
 = 's&#101;c-n&#111;rth' + '&#64;';
				addy6673a85a2fad24bec53badb007c8129b
  = addy6673a85a2fad24bec53badb007c8129b + 'sc&#97;cr' + '&#46;' + '&#111;rg
 ';
				var addy_text6673a85a2fad24bec53badb007c8129b = 's&#101;c-n&#111;rth
 ' + '&#64;' + 'sc&#97;cr' + '&#46;' + '&#111;rg';document.getElementById('c
 loak6673a85a2fad24bec53badb007c8129b').innerHTML += '<a ' + path + '\'' + p
 refix + ':' + addy6673a85a2fad24bec53badb007c8129b + '\'>'+addy_text6673a85
 a2fad24bec53badb007c8129b+'';
		 by 4 pm on 18th December (earlier is bette
 r!), then the link to join the Quiz will be sent to you. The Zoom app for m
 obile devices can be downloaded for free from the Google Play Store for And
 roid or App Store for Apple devices ("ZOOM Cloud Meetings"). For computers,
  download the application for for free online from  (https://zoom.us/signup
 ) (https://zoom.us/signup)https://zoom.us/signup (https://zoom.us/signup) (
 you will need to create an account first).  Alternatively, from a computer 
 you can use the Zoom web client in your internet browser.   Guide to Zoom Q
 uiz and Managing a Remote TeamFull Guide available to download (images/jeve
 nts/scacr_quiz_-_guide_to_using_zoom.pdf).  Here's a summary: Joining the Z
 oom Quiz\nTo join a meeting, you can either click on the link in an email i
 nvitation, or use a meeting ID number. You are not required to already have
  a Zoom account to be able to join a Zoom meeting. If you would like to fam
 iliarise yourself with Zoom before the quiz, then you can join a test meeti
 ng here:  (https://zoom.us/test)https://zoom.us/test (https://zoom.us/test)
  Joining as a Team\nIf you would like to join the quiz as part of a team, t
 hen there are three main ways to do this:\n\n - Form a team with people in 
 your household\n - Join the Zoom meeting with one computer between your tea
 m\n - You could label your video with your team name\n - Form a team over t
 exting/messaging\n - Set up a group chat (e.g. whatsapp, facebook messenger
 ) with all team members, and discuss answers via text\n - All team members 
 join the Zoom meeting separately to hear the questions, and can then confer
  over text\n - Form a team via a second video chat (possibly for the slight
 ly more computer literate!)\n - Set up a private Zoom call with your team m
 embers prior to joining the quiz\n - The team member hosting the private Zo
 om call joins the Quiz Zoom and then shares their screen with the other tea
 m membersAll team members should then be able to see the Quiz Zoom, and can
  discuss answers over video. FAQsDo I need a Zoom account to join the quiz?
 \nYou do not need an account to join a zoom meeting, as long as you have ei
 ther the meeting link, or the meeting ID and passcode.\nCan I join without 
 video?\nYou don’t need to have a webcam or video enabled to take part in th
 e quiz. The most important feature is that you have to have a speaker to en
 sure you can hear the audio (and questions!).\nCan I mute and unmute myself
 ?\nWhen you join the call the host will have all participants muted, this r
 educes background noise which can prevent other participants from being abl
 e to hear the host. Please try to ensure you remain on mute when possible, 
 especially if discussing the answers!\nWhat do I do if I need to ask a ques
 tion?\nIf you would like to ask a questions please either use the ‘raise ha
 nd’ feature in the participant pop-up, or alternatively use the chat box. O
 ne you have the host’s attention you can either unmute yourself to ask the 
 question, or type it into the chat box.\nCan I join the meeting before the 
 host has joined?\nYou will only be able to join the meeting once the host h
 as joined. You can use the link before then, however it will prompt you to 
 wait until the host has started the meeting, and then automatically join th
 e meeting once the host has joined.\nWill the questions be repeated?\nAll o
 f the questions will be read out twice, and will be shown on the screen in 
 case anyone has any audio issues. If you miss a question feel free to ask f
 or it again in the chat box at the end of the round.\nWill there be a break
  during the quiz?\nWe will have a break half way through to allow top-ups a
 nd refreshments.\nWho will be keeping score?\nEveryone will be marking thei
 r own answers, and keeping score for their own team.\n This event was impor
 ted from: https://www.scacr.org/news-events/calendar/764/association-christ
 mas-quiz?tmpl=component (https://www.scacr.org/news-events/calendar/764/ass
 ociation-christmas-quiz?tmpl=component)
X-ALT-DESC;FMTTYPE=text/html:<div><strong>Note change of date to the FRIDAY&nbsp;</strong>(to avoid the 
 Strictly final)!</div><div>&nbsp;</div><div><strong>You MUST register in ad
 vance to join - contact&nbsp;<span id="cloak210cb9f2d0a15e804c00d9fb5bd3e21
 2"><a href="mailto:sec-north@scacr.org"></a><span id="cloak6673a85a2fad24be
 c53badb007c8129b">This email address is being protected from spambots. You 
 need JavaScript enabled to view it.</span><script type='text/javascript'>
	
 			document.getElementById('cloak6673a85a2fad24bec53badb007c8129b').innerHT
 ML = '';
				var prefix = '&#109;a' + 'i&#108;' + '&#116;o';
				var path =
  'hr' + 'ef' + '=';
				var addy6673a85a2fad24bec53badb007c8129b = 's&#101;
 c-n&#111;rth' + '&#64;';
				addy6673a85a2fad24bec53badb007c8129b = addy667
 3a85a2fad24bec53badb007c8129b + 'sc&#97;cr' + '&#46;' + '&#111;rg';
				var
  addy_text6673a85a2fad24bec53badb007c8129b = 's&#101;c-n&#111;rth' + '&#64;
 ' + 'sc&#97;cr' + '&#46;' + '&#111;rg';document.getElementById('cloak6673a8
 5a2fad24bec53badb007c8129b').innerHTML += '<a ' + path + '\'' + prefix + ':
 ' + addy6673a85a2fad24bec53badb007c8129b + '\'>'+addy_text6673a85a2fad24bec
 53badb007c8129b+'<\/a>';
		</script></span></strong>&nbsp;by 4 pm on 18th D
 ecember (earlier is better!), then the link to join the Quiz will be sent t
 o you.</div><div>&nbsp;</div><div>The Zoom app for mobile devices can be do
 wnloaded for free from the Google Play Store for Android or App Store for A
 pple devices ("ZOOM Cloud Meetings"). For computers, download the applicati
 on for for free online from&nbsp;<a href="https://zoom.us/signup"></a><a hr
 ef="https://zoom.us/signup"></a><a href="https://zoom.us/signup">https://zo
 om.us/signup</a>&nbsp;(you will need to create an account first).&nbsp; Alt
 ernatively, from a computer you can use the Zoom web client in your interne
 t browser.&nbsp;&nbsp;</div><div>&nbsp;</div><div><strong>Guide to Zoom Qui
 z and Managing a Remote Team</strong></div><div><a href="https://www.scacr.
 org/images/jevents/scacr_quiz_-_guide_to_using_zoom.pdf">Full Guide availab
 le to download</a>.&nbsp; Here's a summary:</div><div>&nbsp;</div><div><em>
 <strong>Joining the Zoom Quiz</strong></em><br />To join a meeting, you can
  either click on the link in an email invitation, or use a meeting ID numbe
 r. You are not required to already have a Zoom account to be able to join a
  Zoom meeting.&nbsp;If you would like to familiarise yourself with Zoom bef
 ore the quiz, then you can join a test meeting here:&nbsp;<a href="https://
 zoom.us/test"></a><a href="https://zoom.us/test">https://zoom.us/test</a></
 div><div>&nbsp;</div><div><p><em><strong>Joining as a Team<br /></strong></
 em>If you would like to join the quiz as part of a team, then there are thr
 ee main ways to do this:</p><ul><li>Form a team with people in your househo
 ld<ul><li>Join the Zoom meeting with one computer between your team</li><li
 >You could label your video with your team name</li></ul></li><li>Form a te
 am over texting/messaging<ul><li>Set up a group chat (e.g. whatsapp, facebo
 ok messenger) with all team members, and discuss answers via text</li><li>A
 ll team members join the Zoom meeting separately to hear the questions, and
  can then confer over text</li></ul></li><li>Form a team via a second video
  chat (possibly for the slightly more computer literate!)<ul><li>Set up a p
 rivate Zoom call with your team members prior to joining the quiz</li><li>T
 he team member hosting the private Zoom call joins the Quiz Zoom and then s
 hares their screen with the other team members</li></ul></li></ul>All team 
 members should then be able to see the Quiz Zoom, and can discuss answers o
 ver video.</div><div>&nbsp;</div><div><em><strong>FAQs</strong></em></div><
 div><p><em>Do I need a Zoom account to join the quiz?</em><br />You do not 
 need an account to join a zoom meeting, as long as you have either the meet
 ing link, or the meeting ID and passcode.</p><p><em>Can I join without vide
 o?</em><br />You don’t need to have a webcam or video enabled to take part 
 in the quiz. The most important feature is that you have to have a speaker 
 to ensure you can hear the audio (and questions!).</p><p><em>Can I mute and
  unmute myself?</em><br />When you join the call the host will have all par
 ticipants muted, this reduces background noise which can prevent other part
 icipants from being able to hear the host. Please try to ensure you remain 
 on mute when possible, especially if discussing the answers!</p><p><em>What
  do I do if I need to ask a question?</em><br />If you would like to ask a 
 questions please either use the ‘raise hand’ feature in the participant pop
 -up, or alternatively use the chat box. One you have the host’s attention y
 ou can either unmute yourself to ask the question, or type it into the chat
  box.</p><p><em>Can I join the meeting before the host has joined?</em><br 
 />You will only be able to join the meeting once the host has joined. You c
 an use the link before then, however it will prompt you to wait until the h
 ost has started the meeting, and then automatically join the meeting once t
 he host has joined.</p><p><em>Will the questions be repeated?</em><br />All
  of the questions will be read out twice, and will be shown on the screen i
 n case anyone has any audio issues. If you miss a question feel free to ask
  for it again in the chat box at the end of the round.</p><p><em>Will there
  be a break during the quiz?</em><br />We will have a break half way throug
 h to allow top-ups and refreshments.</p><p><em>Who will be keeping score?</
 em><br />Everyone will be marking their own answers, and keeping score for 
 their own team.</p></div> <a href="https://www.scacr.org/news-events/calend
 ar/764/association-christmas-quiz?tmpl=component">This event was imported f
 rom: https://www.scacr.org/news-events/calendar/764/association-christmas-q
 uiz?tmpl=component</a>CONTACT:This email address is being protected from spambots. You need JavaScript enabled to view it.
				document.getElementById('cloak44b8cb80ad0cb20a8bd9ab381cf1961d').innerHTML = '';
				var prefix = '&#109;a' + 'i&#108;' + '&#116;o';
				var path = 'hr' + 'ef' + '=';
				var addy44b8cb80ad0cb20a8bd9ab381cf1961d = 's&#101;c-n&#111;rth' + '&#64;';
				addy44b8cb80ad0cb20a8bd9ab381cf1961d = addy44b8cb80ad0cb20a8bd9ab381cf1961d + 'sc&#97;cr' + '&#46;' + '&#111;rg';
				var addy_text44b8cb80ad0cb20a8bd9ab381cf1961d = 's&#101;c-n&#111;rth' + '&#64;' + 'sc&#97;cr' + '&#46;' + '&#111;rg';document.getElementById('cloak44b8cb80ad0cb20a8bd9ab381cf1961d').innerHTML += '<a ' + path + '\'' + prefix + ':' + addy44b8cb80ad0cb20a8bd9ab381cf1961d + '\'>'+addy_text44b8cb80ad0cb20a8bd9ab381cf1961d+'';
		
DTSTAMP:20260421T004629
DTSTART;TZID=Europe/London:20201218T190000
DTEND;TZID=Europe/London:20201218T210000
SEQUENCE:0
TRANSP:OPAQUE
END:VEVENT
END:VCALENDAR