BEGIN:VCALENDAR
VERSION:2.0
PRODID:-//jEvents 2.0 for Joomla//EN
CALSCALE:GREGORIAN
METHOD:PUBLISH
BEGIN:VTIMEZONE
TZID:Europe/London
BEGIN:STANDARD
DTSTART:20190307T100000
RDATE:20190331T020000
TZOFFSETFROM:+0100
TZOFFSETTO:+0000
TZNAME:Europe/London GMT
END:STANDARD
BEGIN:STANDARD
DTSTART:20191027T010000
RDATE:20200329T020000
TZOFFSETFROM:+0100
TZOFFSETTO:+0000
TZNAME:Europe/London GMT
END:STANDARD
BEGIN:STANDARD
DTSTART:20201025T010000
RDATE:20210328T020000
TZOFFSETFROM:+0100
TZOFFSETTO:+0000
TZNAME:Europe/London GMT
END:STANDARD
BEGIN:STANDARD
DTSTART:20211031T010000
RDATE:20220327T020000
TZOFFSETFROM:+0100
TZOFFSETTO:+0000
TZNAME:Europe/London GMT
END:STANDARD
BEGIN:STANDARD
DTSTART:20221030T010000
RDATE:20230326T020000
TZOFFSETFROM:+0100
TZOFFSETTO:+0000
TZNAME:Europe/London GMT
END:STANDARD
BEGIN:STANDARD
DTSTART:20231029T010000
RDATE:20240331T020000
TZOFFSETFROM:+0100
TZOFFSETTO:+0000
TZNAME:Europe/London GMT
END:STANDARD
BEGIN:STANDARD
DTSTART:20241027T010000
RDATE:20250330T020000
TZOFFSETFROM:+0100
TZOFFSETTO:+0000
TZNAME:Europe/London GMT
END:STANDARD
BEGIN:STANDARD
DTSTART:20251026T010000
RDATE:20260329T020000
TZOFFSETFROM:+0100
TZOFFSETTO:+0000
TZNAME:Europe/London GMT
END:STANDARD
BEGIN:STANDARD
DTSTART:20261025T010000
RDATE:20270328T020000
TZOFFSETFROM:+0100
TZOFFSETTO:+0000
TZNAME:Europe/London GMT
END:STANDARD
BEGIN:STANDARD
DTSTART:20271031T010000
RDATE:20280326T020000
TZOFFSETFROM:+0100
TZOFFSETTO:+0000
TZNAME:Europe/London GMT
END:STANDARD
BEGIN:STANDARD
DTSTART:20281029T010000
RDATE:20290325T020000
TZOFFSETFROM:+0100
TZOFFSETTO:+0000
TZNAME:Europe/London GMT
END:STANDARD
BEGIN:STANDARD
DTSTART:20291028T010000
RDATE:20300331T020000
TZOFFSETFROM:+0100
TZOFFSETTO:+0000
TZNAME:Europe/London GMT
END:STANDARD
BEGIN:STANDARD
DTSTART:20301027T010000
RDATE:20310330T020000
TZOFFSETFROM:+0100
TZOFFSETTO:+0000
TZNAME:Europe/London GMT
END:STANDARD
BEGIN:DAYLIGHT
DTSTART:20190331T020000
RDATE:20191027T010000
TZOFFSETFROM:+0000
TZOFFSETTO:+0100
TZNAME:Europe/London BST
END:DAYLIGHT
BEGIN:DAYLIGHT
DTSTART:20200329T020000
RDATE:20201025T010000
TZOFFSETFROM:+0000
TZOFFSETTO:+0100
TZNAME:Europe/London BST
END:DAYLIGHT
BEGIN:DAYLIGHT
DTSTART:20210328T020000
RDATE:20211031T010000
TZOFFSETFROM:+0000
TZOFFSETTO:+0100
TZNAME:Europe/London BST
END:DAYLIGHT
BEGIN:DAYLIGHT
DTSTART:20220327T020000
RDATE:20221030T010000
TZOFFSETFROM:+0000
TZOFFSETTO:+0100
TZNAME:Europe/London BST
END:DAYLIGHT
BEGIN:DAYLIGHT
DTSTART:20230326T020000
RDATE:20231029T010000
TZOFFSETFROM:+0000
TZOFFSETTO:+0100
TZNAME:Europe/London BST
END:DAYLIGHT
BEGIN:DAYLIGHT
DTSTART:20240331T020000
RDATE:20241027T010000
TZOFFSETFROM:+0000
TZOFFSETTO:+0100
TZNAME:Europe/London BST
END:DAYLIGHT
BEGIN:DAYLIGHT
DTSTART:20250330T020000
RDATE:20251026T010000
TZOFFSETFROM:+0000
TZOFFSETTO:+0100
TZNAME:Europe/London BST
END:DAYLIGHT
BEGIN:DAYLIGHT
DTSTART:20260329T020000
RDATE:20261025T010000
TZOFFSETFROM:+0000
TZOFFSETTO:+0100
TZNAME:Europe/London BST
END:DAYLIGHT
BEGIN:DAYLIGHT
DTSTART:20270328T020000
RDATE:20271031T010000
TZOFFSETFROM:+0000
TZOFFSETTO:+0100
TZNAME:Europe/London BST
END:DAYLIGHT
BEGIN:DAYLIGHT
DTSTART:20280326T020000
RDATE:20281029T010000
TZOFFSETFROM:+0000
TZOFFSETTO:+0100
TZNAME:Europe/London BST
END:DAYLIGHT
BEGIN:DAYLIGHT
DTSTART:20290325T020000
RDATE:20291028T010000
TZOFFSETFROM:+0000
TZOFFSETTO:+0100
TZNAME:Europe/London BST
END:DAYLIGHT
BEGIN:DAYLIGHT
DTSTART:20300331T020000
RDATE:20301027T010000
TZOFFSETFROM:+0000
TZOFFSETTO:+0100
TZNAME:Europe/London BST
END:DAYLIGHT
END:VTIMEZONE
BEGIN:VEVENT
UID:2d676d24a6145dd0e8c97cf764a40f40
CATEGORIES:North
CREATED:20191007T211857
SUMMARY:New Members' Welcome Event
LOCATION:Cowfold
URL;VALUE=URI:https://www.scacr.org/news-events/calendar/651/new-members-welcome-event?tm
 pl=component
DESCRIPTION:Have you joined the Association in the last year or two?  Come along to thi
 s friendly event to get to know some more people from the Association!  The
 re will be tea/coffee and cake, and ringing will be rounds onwards.  Feel f
 ree to bring your teacher/helper!\nWe're also looking for some more experie
 nced ringers to join in.\nIf you plan to come, can you please get in touch 
 so we know how many to expect (and how many cakes to make!) - contact Steph
  on This email address is being protected from spambots. You need JavaScrip
 t enabled to view it.
				document.getElementById('cloak52bb8b121ce34d2a234
 890774278c475').innerHTML = '';
				var prefix = '&#109;a' + 'i&#108;' + '&
 #116;o';
				var path = 'hr' + 'ef' + '=';
				var addy52bb8b121ce34d2a2348
 90774278c475 = 's&#101;c-n&#111;rth' + '&#64;';
				addy52bb8b121ce34d2a234
 890774278c475 = addy52bb8b121ce34d2a234890774278c475 + 'sc&#97;cr' + '&#46;
 ' + '&#111;rg';
				var addy_text52bb8b121ce34d2a234890774278c475 = 's&#101
 ;c-n&#111;rth' + '&#64;' + 'sc&#97;cr' + '&#46;' + '&#111;rg';document.getE
 lementById('cloak52bb8b121ce34d2a234890774278c475').innerHTML += '<a ' + pa
 th + '\'' + prefix + ':' + addy52bb8b121ce34d2a234890774278c475 + '\'>'+add
 y_text52bb8b121ce34d2a234890774278c475+'';
		 (or via Facebook) by Wednesda
 y 4th March.\n \n This event was imported from: https://www.scacr.org/news-
 events/calendar/651/new-members-welcome-event?tmpl=component (https://www.s
 cacr.org/news-events/calendar/651/new-members-welcome-event?tmpl=component)
X-ALT-DESC;FMTTYPE=text/html:<p>Have you joined the Association in the last year or two?&nbsp; Come alon
 g to this friendly event to get to know some more people from the Associati
 on!&nbsp; There will be tea/coffee and cake, and ringing will be rounds onw
 ards.&nbsp; Feel free to bring your teacher/helper!</p><p>We're also lookin
 g for some more experienced ringers to join in.</p><p>If you plan to come, 
 can you please get in touch so we know how many to expect (and how many cak
 es to make!) - contact Steph on <span id="cloak52bb8b121ce34d2a234890774278
 c475">This email address is being protected from spambots. You need JavaScr
 ipt enabled to view it.</span><script type='text/javascript'>
				document.
 getElementById('cloak52bb8b121ce34d2a234890774278c475').innerHTML = '';
			
 	var prefix = '&#109;a' + 'i&#108;' + '&#116;o';
				var path = 'hr' + 'ef'
  + '=';
				var addy52bb8b121ce34d2a234890774278c475 = 's&#101;c-n&#111;rth
 ' + '&#64;';
				addy52bb8b121ce34d2a234890774278c475 = addy52bb8b121ce34d2
 a234890774278c475 + 'sc&#97;cr' + '&#46;' + '&#111;rg';
				var addy_text52
 bb8b121ce34d2a234890774278c475 = 's&#101;c-n&#111;rth' + '&#64;' + 'sc&#97;
 cr' + '&#46;' + '&#111;rg';document.getElementById('cloak52bb8b121ce34d2a23
 4890774278c475').innerHTML += '<a ' + path + '\'' + prefix + ':' + addy52bb
 8b121ce34d2a234890774278c475 + '\'>'+addy_text52bb8b121ce34d2a234890774278c
 475+'<\/a>';
		</script>&nbsp;(or via Facebook) by Wednesday 4th March.</p>
 <p>&nbsp;</p> <a href="https://www.scacr.org/news-events/calendar/651/new-m
 embers-welcome-event?tmpl=component">This event was imported from: https://
 www.scacr.org/news-events/calendar/651/new-members-welcome-event?tmpl=compo
 nent</a>CONTACT:This email address is being protected from spambots. You need JavaScript enabled to view it.
				document.getElementById('cloake95105622a25d8057ee5fbc8b05d6c44').innerHTML = '';
				var prefix = '&#109;a' + 'i&#108;' + '&#116;o';
				var path = 'hr' + 'ef' + '=';
				var addye95105622a25d8057ee5fbc8b05d6c44 = 's&#101;c-n&#111;rth' + '&#64;';
				addye95105622a25d8057ee5fbc8b05d6c44 = addye95105622a25d8057ee5fbc8b05d6c44 + 'sc&#97;r' + '&#46;' + '&#111;rg';
				var addy_texte95105622a25d8057ee5fbc8b05d6c44 = 's&#101;c-n&#111;rth' + '&#64;' + 'sc&#97;r' + '&#46;' + '&#111;rg';document.getElementById('cloake95105622a25d8057ee5fbc8b05d6c44').innerHTML += '<a ' + path + '\'' + prefix + ':' + addye95105622a25d8057ee5fbc8b05d6c44 + '\'>'+addy_texte95105622a25d8057ee5fbc8b05d6c44+'';
		
DTSTAMP:20260420T133333
DTSTART;TZID=Europe/London:20200307T100000
DTEND;TZID=Europe/London:20200307T123000
SEQUENCE:0
TRANSP:OPAQUE
END:VEVENT
END:VCALENDAR