BEGIN:VCALENDAR
VERSION:2.0
PRODID:-//jEvents 2.0 for Joomla//EN
CALSCALE:GREGORIAN
METHOD:PUBLISH
BEGIN:VTIMEZONE
TZID:Europe/London
BEGIN:STANDARD
DTSTART:20181028T010000
RDATE:20190331T020000
TZOFFSETFROM:+0100
TZOFFSETTO:+0000
TZNAME:Europe/London GMT
END:STANDARD
BEGIN:STANDARD
DTSTART:20191027T010000
RDATE:20200329T020000
TZOFFSETFROM:+0100
TZOFFSETTO:+0000
TZNAME:Europe/London GMT
END:STANDARD
BEGIN:STANDARD
DTSTART:20201025T010000
RDATE:20210328T020000
TZOFFSETFROM:+0100
TZOFFSETTO:+0000
TZNAME:Europe/London GMT
END:STANDARD
BEGIN:STANDARD
DTSTART:20211031T010000
RDATE:20220327T020000
TZOFFSETFROM:+0100
TZOFFSETTO:+0000
TZNAME:Europe/London GMT
END:STANDARD
BEGIN:STANDARD
DTSTART:20221030T010000
RDATE:20230326T020000
TZOFFSETFROM:+0100
TZOFFSETTO:+0000
TZNAME:Europe/London GMT
END:STANDARD
BEGIN:STANDARD
DTSTART:20231029T010000
RDATE:20240331T020000
TZOFFSETFROM:+0100
TZOFFSETTO:+0000
TZNAME:Europe/London GMT
END:STANDARD
BEGIN:STANDARD
DTSTART:20241027T010000
RDATE:20250330T020000
TZOFFSETFROM:+0100
TZOFFSETTO:+0000
TZNAME:Europe/London GMT
END:STANDARD
BEGIN:STANDARD
DTSTART:20251026T010000
RDATE:20260329T020000
TZOFFSETFROM:+0100
TZOFFSETTO:+0000
TZNAME:Europe/London GMT
END:STANDARD
BEGIN:STANDARD
DTSTART:20261025T010000
RDATE:20270328T020000
TZOFFSETFROM:+0100
TZOFFSETTO:+0000
TZNAME:Europe/London GMT
END:STANDARD
BEGIN:STANDARD
DTSTART:20271031T010000
RDATE:20280326T020000
TZOFFSETFROM:+0100
TZOFFSETTO:+0000
TZNAME:Europe/London GMT
END:STANDARD
BEGIN:STANDARD
DTSTART:20281029T010000
RDATE:20290325T020000
TZOFFSETFROM:+0100
TZOFFSETTO:+0000
TZNAME:Europe/London GMT
END:STANDARD
BEGIN:STANDARD
DTSTART:20291028T010000
RDATE:20300331T020000
TZOFFSETFROM:+0100
TZOFFSETTO:+0000
TZNAME:Europe/London GMT
END:STANDARD
BEGIN:STANDARD
DTSTART:20301027T010000
RDATE:20310330T020000
TZOFFSETFROM:+0100
TZOFFSETTO:+0000
TZNAME:Europe/London GMT
END:STANDARD
BEGIN:DAYLIGHT
DTSTART:20180530T100000
RDATE:20181028T010000
TZOFFSETFROM:+0000
TZOFFSETTO:+0100
TZNAME:Europe/London BST
END:DAYLIGHT
BEGIN:DAYLIGHT
DTSTART:20190331T020000
RDATE:20191027T010000
TZOFFSETFROM:+0000
TZOFFSETTO:+0100
TZNAME:Europe/London BST
END:DAYLIGHT
BEGIN:DAYLIGHT
DTSTART:20200329T020000
RDATE:20201025T010000
TZOFFSETFROM:+0000
TZOFFSETTO:+0100
TZNAME:Europe/London BST
END:DAYLIGHT
BEGIN:DAYLIGHT
DTSTART:20210328T020000
RDATE:20211031T010000
TZOFFSETFROM:+0000
TZOFFSETTO:+0100
TZNAME:Europe/London BST
END:DAYLIGHT
BEGIN:DAYLIGHT
DTSTART:20220327T020000
RDATE:20221030T010000
TZOFFSETFROM:+0000
TZOFFSETTO:+0100
TZNAME:Europe/London BST
END:DAYLIGHT
BEGIN:DAYLIGHT
DTSTART:20230326T020000
RDATE:20231029T010000
TZOFFSETFROM:+0000
TZOFFSETTO:+0100
TZNAME:Europe/London BST
END:DAYLIGHT
BEGIN:DAYLIGHT
DTSTART:20240331T020000
RDATE:20241027T010000
TZOFFSETFROM:+0000
TZOFFSETTO:+0100
TZNAME:Europe/London BST
END:DAYLIGHT
BEGIN:DAYLIGHT
DTSTART:20250330T020000
RDATE:20251026T010000
TZOFFSETFROM:+0000
TZOFFSETTO:+0100
TZNAME:Europe/London BST
END:DAYLIGHT
BEGIN:DAYLIGHT
DTSTART:20260329T020000
RDATE:20261025T010000
TZOFFSETFROM:+0000
TZOFFSETTO:+0100
TZNAME:Europe/London BST
END:DAYLIGHT
BEGIN:DAYLIGHT
DTSTART:20270328T020000
RDATE:20271031T010000
TZOFFSETFROM:+0000
TZOFFSETTO:+0100
TZNAME:Europe/London BST
END:DAYLIGHT
BEGIN:DAYLIGHT
DTSTART:20280326T020000
RDATE:20281029T010000
TZOFFSETFROM:+0000
TZOFFSETTO:+0100
TZNAME:Europe/London BST
END:DAYLIGHT
BEGIN:DAYLIGHT
DTSTART:20290325T020000
RDATE:20291028T010000
TZOFFSETFROM:+0000
TZOFFSETTO:+0100
TZNAME:Europe/London BST
END:DAYLIGHT
BEGIN:DAYLIGHT
DTSTART:20300331T020000
RDATE:20301027T010000
TZOFFSETFROM:+0000
TZOFFSETTO:+0100
TZNAME:Europe/London BST
END:DAYLIGHT
END:VTIMEZONE
BEGIN:VEVENT
UID:d1974e505a49e0917dca3e80d6770dfb
CATEGORIES:Young Ringers Event
CREATED:20190428T215039
SUMMARY:Young Ringers' Outing
LOCATION:Ditchling\, Keymer\, Hassocks &amp; Hurstpierpoint
URL;VALUE=URI:https://www.scacr.org/news-events/calendar/596/young-ringers-outing?tmpl=co
 mponent
DESCRIPTION:Ringing at Ditchling (8 bells) 10am to 11am\nCake and coffee\nWalk to Keyme
 r\nRinging at Keymer (6 bells) 11.30am to 12.30pm\nPicnic in the park at Ha
 ssocks (bring your own)\nWalk to Hurstpierpoint\nRinging at The Wickham Rin
 g 2.30pm to 3.30pm\nEat cake\nRinging at Hurstpierpoint (8 bells) 4pm to 5p
 m\nEat cake if there is any left!\nPlease let me know if you would like to 
 come This email address is being protected from spambots. You need JavaScri
 pt enabled to view it.
				document.getElementById('cloak832287d10d1ad316d6
 34d5a9d01e966e').innerHTML = '';
				var prefix = '&#109;a' + 'i&#108;' + '
 &#116;o';
				var path = 'hr' + 'ef' + '=';
				var addy832287d10d1ad316d63
 4d5a9d01e966e = '&#97;nn&#101;fr&#97;nkl&#105;n' + '&#64;';
				addy832287d
 10d1ad316d634d5a9d01e966e = addy832287d10d1ad316d634d5a9d01e966e + 'h&#111;
 tm&#97;&#105;l' + '&#46;' + 'c&#111;' + '&#46;' + '&#117;k';
				var addy_t
 ext832287d10d1ad316d634d5a9d01e966e = '&#97;nn&#101;fr&#97;nkl&#105;n' + '&
 #64;' + 'h&#111;tm&#97;&#105;l' + '&#46;' + 'c&#111;' + '&#46;' + '&#117;k'
 ;document.getElementById('cloak832287d10d1ad316d634d5a9d01e966e').innerHTML
  += '<a ' + path + '\'' + prefix + ':' + addy832287d10d1ad316d634d5a9d01e96
 6e + '\'>'+addy_text832287d10d1ad316d634d5a9d01e966e+'';
		\n This event wa
 s imported from: https://www.scacr.org/news-events/calendar/596/young-ringe
 rs-outing?tmpl=component (https://www.scacr.org/news-events/calendar/596/yo
 ung-ringers-outing?tmpl=component)
X-ALT-DESC;FMTTYPE=text/html:<p>Ringing at Ditchling (8 bells) 10am to 11am</p><p>Cake and coffee</p><p>
 Walk to Keymer</p><p>Ringing at Keymer (6 bells) 11.30am to 12.30pm</p><p>P
 icnic in the park at Hassocks (bring your own)</p><p>Walk to Hurstpierpoint
 </p><p>Ringing at The Wickham Ring 2.30pm to 3.30pm</p><p>Eat cake</p><p>Ri
 nging at Hurstpierpoint (8 bells) 4pm to 5pm</p><p>Eat cake if there is any
  left!</p><p>Please let me know if you would like to come <span id="cloak83
 2287d10d1ad316d634d5a9d01e966e">This email address is being protected from 
 spambots. You need JavaScript enabled to view it.</span><script type='text/
 javascript'>
				document.getElementById('cloak832287d10d1ad316d634d5a9d01e
 966e').innerHTML = '';
				var prefix = '&#109;a' + 'i&#108;' + '&#116;o';

 				var path = 'hr' + 'ef' + '=';
				var addy832287d10d1ad316d634d5a9d01e9
 66e = '&#97;nn&#101;fr&#97;nkl&#105;n' + '&#64;';
				addy832287d10d1ad316d
 634d5a9d01e966e = addy832287d10d1ad316d634d5a9d01e966e + 'h&#111;tm&#97;&#1
 05;l' + '&#46;' + 'c&#111;' + '&#46;' + '&#117;k';
				var addy_text832287d
 10d1ad316d634d5a9d01e966e = '&#97;nn&#101;fr&#97;nkl&#105;n' + '&#64;' + 'h
 &#111;tm&#97;&#105;l' + '&#46;' + 'c&#111;' + '&#46;' + '&#117;k';document.
 getElementById('cloak832287d10d1ad316d634d5a9d01e966e').innerHTML += '<a ' 
 + path + '\'' + prefix + ':' + addy832287d10d1ad316d634d5a9d01e966e + '\'>'
 +addy_text832287d10d1ad316d634d5a9d01e966e+'<\/a>';
		</script></p> <a href
 ="https://www.scacr.org/news-events/calendar/596/young-ringers-outing?tmpl=
 component">This event was imported from: https://www.scacr.org/news-events/
 calendar/596/young-ringers-outing?tmpl=component</a>CONTACT:This email address is being protected from spambots. You need JavaScript enabled to view it.
				document.getElementById('cloak82db3740816fbcf44255e5a0865352ea').innerHTML = '';
				var prefix = '&#109;a' + 'i&#108;' + '&#116;o';
				var path = 'hr' + 'ef' + '=';
				var addy82db3740816fbcf44255e5a0865352ea = '&#97;nn&#101;fr&#97;nkl&#105;n' + '&#64;';
				addy82db3740816fbcf44255e5a0865352ea = addy82db3740816fbcf44255e5a0865352ea + 'h&#111;tm&#97;&#105;l' + '&#46;' + 'c&#111;' + '&#46;' + '&#117;k';
				var addy_text82db3740816fbcf44255e5a0865352ea = '&#97;nn&#101;fr&#97;nkl&#105;n' + '&#64;' + 'h&#111;tm&#97;&#105;l' + '&#46;' + 'c&#111;' + '&#46;' + '&#117;k';document.getElementById('cloak82db3740816fbcf44255e5a0865352ea').innerHTML += '<a ' + path + '\'' + prefix + ':' + addy82db3740816fbcf44255e5a0865352ea + '\'>'+addy_text82db3740816fbcf44255e5a0865352ea+'';
		
DTSTAMP:20260421T222721
DTSTART;TZID=Europe/London:20190531T100000
DTEND;TZID=Europe/London:20190531T170000
SEQUENCE:0
TRANSP:OPAQUE
END:VEVENT
END:VCALENDAR