BEGIN:VCALENDAR
VERSION:2.0
PRODID:-//jEvents 2.0 for Joomla//EN
CALSCALE:GREGORIAN
METHOD:PUBLISH
BEGIN:VTIMEZONE
TZID:Europe/London
BEGIN:STANDARD
DTSTART:20181028T010000
RDATE:20190331T020000
TZOFFSETFROM:+0100
TZOFFSETTO:+0000
TZNAME:Europe/London GMT
END:STANDARD
BEGIN:STANDARD
DTSTART:20191027T010000
RDATE:20200329T020000
TZOFFSETFROM:+0100
TZOFFSETTO:+0000
TZNAME:Europe/London GMT
END:STANDARD
BEGIN:STANDARD
DTSTART:20201025T010000
RDATE:20210328T020000
TZOFFSETFROM:+0100
TZOFFSETTO:+0000
TZNAME:Europe/London GMT
END:STANDARD
BEGIN:STANDARD
DTSTART:20211031T010000
RDATE:20220327T020000
TZOFFSETFROM:+0100
TZOFFSETTO:+0000
TZNAME:Europe/London GMT
END:STANDARD
BEGIN:STANDARD
DTSTART:20221030T010000
RDATE:20230326T020000
TZOFFSETFROM:+0100
TZOFFSETTO:+0000
TZNAME:Europe/London GMT
END:STANDARD
BEGIN:STANDARD
DTSTART:20231029T010000
RDATE:20240331T020000
TZOFFSETFROM:+0100
TZOFFSETTO:+0000
TZNAME:Europe/London GMT
END:STANDARD
BEGIN:STANDARD
DTSTART:20241027T010000
RDATE:20250330T020000
TZOFFSETFROM:+0100
TZOFFSETTO:+0000
TZNAME:Europe/London GMT
END:STANDARD
BEGIN:STANDARD
DTSTART:20251026T010000
RDATE:20260329T020000
TZOFFSETFROM:+0100
TZOFFSETTO:+0000
TZNAME:Europe/London GMT
END:STANDARD
BEGIN:STANDARD
DTSTART:20261025T010000
RDATE:20270328T020000
TZOFFSETFROM:+0100
TZOFFSETTO:+0000
TZNAME:Europe/London GMT
END:STANDARD
BEGIN:STANDARD
DTSTART:20271031T010000
RDATE:20280326T020000
TZOFFSETFROM:+0100
TZOFFSETTO:+0000
TZNAME:Europe/London GMT
END:STANDARD
BEGIN:STANDARD
DTSTART:20281029T010000
RDATE:20290325T020000
TZOFFSETFROM:+0100
TZOFFSETTO:+0000
TZNAME:Europe/London GMT
END:STANDARD
BEGIN:STANDARD
DTSTART:20291028T010000
RDATE:20300331T020000
TZOFFSETFROM:+0100
TZOFFSETTO:+0000
TZNAME:Europe/London GMT
END:STANDARD
BEGIN:STANDARD
DTSTART:20301027T010000
RDATE:20310330T020000
TZOFFSETFROM:+0100
TZOFFSETTO:+0000
TZNAME:Europe/London GMT
END:STANDARD
BEGIN:DAYLIGHT
DTSTART:20180625T193000
RDATE:20181028T010000
TZOFFSETFROM:+0000
TZOFFSETTO:+0100
TZNAME:Europe/London BST
END:DAYLIGHT
BEGIN:DAYLIGHT
DTSTART:20190331T020000
RDATE:20191027T010000
TZOFFSETFROM:+0000
TZOFFSETTO:+0100
TZNAME:Europe/London BST
END:DAYLIGHT
BEGIN:DAYLIGHT
DTSTART:20200329T020000
RDATE:20201025T010000
TZOFFSETFROM:+0000
TZOFFSETTO:+0100
TZNAME:Europe/London BST
END:DAYLIGHT
BEGIN:DAYLIGHT
DTSTART:20210328T020000
RDATE:20211031T010000
TZOFFSETFROM:+0000
TZOFFSETTO:+0100
TZNAME:Europe/London BST
END:DAYLIGHT
BEGIN:DAYLIGHT
DTSTART:20220327T020000
RDATE:20221030T010000
TZOFFSETFROM:+0000
TZOFFSETTO:+0100
TZNAME:Europe/London BST
END:DAYLIGHT
BEGIN:DAYLIGHT
DTSTART:20230326T020000
RDATE:20231029T010000
TZOFFSETFROM:+0000
TZOFFSETTO:+0100
TZNAME:Europe/London BST
END:DAYLIGHT
BEGIN:DAYLIGHT
DTSTART:20240331T020000
RDATE:20241027T010000
TZOFFSETFROM:+0000
TZOFFSETTO:+0100
TZNAME:Europe/London BST
END:DAYLIGHT
BEGIN:DAYLIGHT
DTSTART:20250330T020000
RDATE:20251026T010000
TZOFFSETFROM:+0000
TZOFFSETTO:+0100
TZNAME:Europe/London BST
END:DAYLIGHT
BEGIN:DAYLIGHT
DTSTART:20260329T020000
RDATE:20261025T010000
TZOFFSETFROM:+0000
TZOFFSETTO:+0100
TZNAME:Europe/London BST
END:DAYLIGHT
BEGIN:DAYLIGHT
DTSTART:20270328T020000
RDATE:20271031T010000
TZOFFSETFROM:+0000
TZOFFSETTO:+0100
TZNAME:Europe/London BST
END:DAYLIGHT
BEGIN:DAYLIGHT
DTSTART:20280326T020000
RDATE:20281029T010000
TZOFFSETFROM:+0000
TZOFFSETTO:+0100
TZNAME:Europe/London BST
END:DAYLIGHT
BEGIN:DAYLIGHT
DTSTART:20290325T020000
RDATE:20291028T010000
TZOFFSETFROM:+0000
TZOFFSETTO:+0100
TZNAME:Europe/London BST
END:DAYLIGHT
BEGIN:DAYLIGHT
DTSTART:20300331T020000
RDATE:20301027T010000
TZOFFSETFROM:+0000
TZOFFSETTO:+0100
TZNAME:Europe/London BST
END:DAYLIGHT
END:VTIMEZONE
BEGIN:VEVENT
UID:055be02fd85e22e4a6835611df74871f
CATEGORIES:East
CREATED:20190404T190920
SUMMARY:Progressing in minor practice
LOCATION:pevensey
URL;VALUE=URI:https://www.scacr.org/news-events/calendar/580/progressing-in-minor-practic
 e?tmpl=component
DESCRIPTION:Pevensey Wednesday 26th June 7.30 - 9.0\nPauline has suggested we have a ne
 w method - Durham S Minor - to add to Oxford Treble Bob, which we have been
  working on, as well as a plain method (Plain Bob or St Clements) for those
  who want a plain method and for anyone who wants to plain hunt the treble.
 \nAll welcome - look forward to seeing you.\n This event was imported from:
  https://www.scacr.org/news-events/calendar/580/progressing-in-minor-practi
 ce?tmpl=component (https://www.scacr.org/news-events/calendar/580/progressi
 ng-in-minor-practice?tmpl=component)
X-ALT-DESC;FMTTYPE=text/html:<p>Pevensey Wednesday 26th June 7.30 - 9.0</p><p>Pauline has suggested we h
 ave a new method - Durham S Minor - to add to Oxford Treble Bob, which we h
 ave been working on, as well as a plain method (Plain Bob or St Clements) f
 or those who want a plain method and for anyone who wants to plain hunt the
  treble.</p><div class="text_exposed_show"><p>All welcome - look forward to
  seeing you.</p></div> <a href="https://www.scacr.org/news-events/calendar/
 580/progressing-in-minor-practice?tmpl=component">This event was imported f
 rom: https://www.scacr.org/news-events/calendar/580/progressing-in-minor-pr
 actice?tmpl=component</a>CONTACT:This email address is being protected from spambots. You need JavaScript enabled to view it.
				document.getElementById('cloakb494a78e536170d794e85f0b47a706ae').innerHTML = '';
				var prefix = '&#109;a' + 'i&#108;' + '&#116;o';
				var path = 'hr' + 'ef' + '=';
				var addyb494a78e536170d794e85f0b47a706ae = 'n&#105;ckc&#97;ntb&#101;lls' + '&#64;';
				addyb494a78e536170d794e85f0b47a706ae = addyb494a78e536170d794e85f0b47a706ae + '&#111;&#117;tl&#111;&#111;k' + '&#46;' + 'c&#111;m';
				var addy_textb494a78e536170d794e85f0b47a706ae = 'n&#105;ckc&#97;ntb&#101;lls' + '&#64;' + '&#111;&#117;tl&#111;&#111;k' + '&#46;' + 'c&#111;m';document.getElementById('cloakb494a78e536170d794e85f0b47a706ae').innerHTML += '<a ' + path + '\'' + prefix + ':' + addyb494a78e536170d794e85f0b47a706ae + '\'>'+addy_textb494a78e536170d794e85f0b47a706ae+'';
		/ This email address is being protected from spambots. You need JavaScript enabled to view it.
				document.getElementById('cloak7b1fe13ffe6a1186519df8782dee06a3').innerHTML = '';
				var prefix = '&#109;a' + 'i&#108;' + '&#116;o';
				var path = 'hr' + 'ef' + '=';
				var addy7b1fe13ffe6a1186519df8782dee06a3 = '&#101;v&#101;nts&#101;&#97;st' + '&#64;';
				addy7b1fe13ffe6a1186519df8782dee06a3 = addy7b1fe13ffe6a1186519df8782dee06a3 + 'sc&#97;cr' + '&#46;' + '&#111;rg';
				var addy_text7b1fe13ffe6a1186519df8782dee06a3 = '&#101;v&#101;nts&#101;&#97;st' + '&#64;' + 'sc&#97;cr' + '&#46;' + '&#111;rg';document.getElementById('cloak7b1fe13ffe6a1186519df8782dee06a3').innerHTML += '<a ' + path + '\'' + prefix + ':' + addy7b1fe13ffe6a1186519df8782dee06a3 + '\'>'+addy_text7b1fe13ffe6a1186519df8782dee06a3+'';
		
DTSTAMP:20260422T015345
DTSTART;TZID=Europe/London:20190626T193000
DTEND;TZID=Europe/London:20190626T210000
SEQUENCE:0
TRANSP:OPAQUE
END:VEVENT
END:VCALENDAR