BEGIN:VCALENDAR
VERSION:2.0
PRODID:-//jEvents 2.0 for Joomla//EN
CALSCALE:GREGORIAN
METHOD:PUBLISH
BEGIN:VTIMEZONE
TZID:Europe/London
BEGIN:STANDARD
DTSTART:20171029T010000
RDATE:20180325T020000
TZOFFSETFROM:+0100
TZOFFSETTO:+0000
TZNAME:Europe/London GMT
END:STANDARD
BEGIN:STANDARD
DTSTART:20181028T010000
RDATE:20190331T020000
TZOFFSETFROM:+0100
TZOFFSETTO:+0000
TZNAME:Europe/London GMT
END:STANDARD
BEGIN:STANDARD
DTSTART:20191027T010000
RDATE:20200329T020000
TZOFFSETFROM:+0100
TZOFFSETTO:+0000
TZNAME:Europe/London GMT
END:STANDARD
BEGIN:STANDARD
DTSTART:20201025T010000
RDATE:20210328T020000
TZOFFSETFROM:+0100
TZOFFSETTO:+0000
TZNAME:Europe/London GMT
END:STANDARD
BEGIN:STANDARD
DTSTART:20211031T010000
RDATE:20220327T020000
TZOFFSETFROM:+0100
TZOFFSETTO:+0000
TZNAME:Europe/London GMT
END:STANDARD
BEGIN:STANDARD
DTSTART:20221030T010000
RDATE:20230326T020000
TZOFFSETFROM:+0100
TZOFFSETTO:+0000
TZNAME:Europe/London GMT
END:STANDARD
BEGIN:STANDARD
DTSTART:20231029T010000
RDATE:20240331T020000
TZOFFSETFROM:+0100
TZOFFSETTO:+0000
TZNAME:Europe/London GMT
END:STANDARD
BEGIN:STANDARD
DTSTART:20241027T010000
RDATE:20250330T020000
TZOFFSETFROM:+0100
TZOFFSETTO:+0000
TZNAME:Europe/London GMT
END:STANDARD
BEGIN:STANDARD
DTSTART:20251026T010000
RDATE:20260329T020000
TZOFFSETFROM:+0100
TZOFFSETTO:+0000
TZNAME:Europe/London GMT
END:STANDARD
BEGIN:STANDARD
DTSTART:20261025T010000
RDATE:20270328T020000
TZOFFSETFROM:+0100
TZOFFSETTO:+0000
TZNAME:Europe/London GMT
END:STANDARD
BEGIN:STANDARD
DTSTART:20271031T010000
RDATE:20280326T020000
TZOFFSETFROM:+0100
TZOFFSETTO:+0000
TZNAME:Europe/London GMT
END:STANDARD
BEGIN:STANDARD
DTSTART:20281029T010000
RDATE:20290325T020000
TZOFFSETFROM:+0100
TZOFFSETTO:+0000
TZNAME:Europe/London GMT
END:STANDARD
BEGIN:STANDARD
DTSTART:20291028T010000
RDATE:20300331T020000
TZOFFSETFROM:+0100
TZOFFSETTO:+0000
TZNAME:Europe/London GMT
END:STANDARD
BEGIN:STANDARD
DTSTART:20301027T010000
RDATE:20310330T020000
TZOFFSETFROM:+0100
TZOFFSETTO:+0000
TZNAME:Europe/London GMT
END:STANDARD
BEGIN:DAYLIGHT
DTSTART:20170703T190000
RDATE:20171029T010000
TZOFFSETFROM:+0000
TZOFFSETTO:+0100
TZNAME:Europe/London BST
END:DAYLIGHT
BEGIN:DAYLIGHT
DTSTART:20180325T020000
RDATE:20181028T010000
TZOFFSETFROM:+0000
TZOFFSETTO:+0100
TZNAME:Europe/London BST
END:DAYLIGHT
BEGIN:DAYLIGHT
DTSTART:20190331T020000
RDATE:20191027T010000
TZOFFSETFROM:+0000
TZOFFSETTO:+0100
TZNAME:Europe/London BST
END:DAYLIGHT
BEGIN:DAYLIGHT
DTSTART:20200329T020000
RDATE:20201025T010000
TZOFFSETFROM:+0000
TZOFFSETTO:+0100
TZNAME:Europe/London BST
END:DAYLIGHT
BEGIN:DAYLIGHT
DTSTART:20210328T020000
RDATE:20211031T010000
TZOFFSETFROM:+0000
TZOFFSETTO:+0100
TZNAME:Europe/London BST
END:DAYLIGHT
BEGIN:DAYLIGHT
DTSTART:20220327T020000
RDATE:20221030T010000
TZOFFSETFROM:+0000
TZOFFSETTO:+0100
TZNAME:Europe/London BST
END:DAYLIGHT
BEGIN:DAYLIGHT
DTSTART:20230326T020000
RDATE:20231029T010000
TZOFFSETFROM:+0000
TZOFFSETTO:+0100
TZNAME:Europe/London BST
END:DAYLIGHT
BEGIN:DAYLIGHT
DTSTART:20240331T020000
RDATE:20241027T010000
TZOFFSETFROM:+0000
TZOFFSETTO:+0100
TZNAME:Europe/London BST
END:DAYLIGHT
BEGIN:DAYLIGHT
DTSTART:20250330T020000
RDATE:20251026T010000
TZOFFSETFROM:+0000
TZOFFSETTO:+0100
TZNAME:Europe/London BST
END:DAYLIGHT
BEGIN:DAYLIGHT
DTSTART:20260329T020000
RDATE:20261025T010000
TZOFFSETFROM:+0000
TZOFFSETTO:+0100
TZNAME:Europe/London BST
END:DAYLIGHT
BEGIN:DAYLIGHT
DTSTART:20270328T020000
RDATE:20271031T010000
TZOFFSETFROM:+0000
TZOFFSETTO:+0100
TZNAME:Europe/London BST
END:DAYLIGHT
BEGIN:DAYLIGHT
DTSTART:20280326T020000
RDATE:20281029T010000
TZOFFSETFROM:+0000
TZOFFSETTO:+0100
TZNAME:Europe/London BST
END:DAYLIGHT
BEGIN:DAYLIGHT
DTSTART:20290325T020000
RDATE:20291028T010000
TZOFFSETFROM:+0000
TZOFFSETTO:+0100
TZNAME:Europe/London BST
END:DAYLIGHT
BEGIN:DAYLIGHT
DTSTART:20300331T020000
RDATE:20301027T010000
TZOFFSETFROM:+0000
TZOFFSETTO:+0100
TZNAME:Europe/London BST
END:DAYLIGHT
END:VTIMEZONE
BEGIN:VEVENT
UID:fb7aee82d8549c66cfff6d20f848c654
CATEGORIES:East
CREATED:20180619T093144
SUMMARY:Plain bob doubles training
LOCATION:Alfriston
URL;VALUE=URI:https://www.scacr.org/news-events/calendar/429/plain-bob-doubles-training?t
 mpl=component
DESCRIPTION:<p style="margin-top: 0px; margin-bottom: 0px;"><strong>Plain Bob Doubles t
 raining</strong>: This will be at Alfriston on Wednesday 4th July, starting
  at 7.0. Please look at the method before attending, but there will be a th
 eory session followed by putting it into practice. Any questions please con
 tact <a href="mailto:alfriston@scacr.org."><span id="cloak4d107a4de9a806188
 a73803ea893b45d">This email address is being protected from spambots. You n
 eed JavaScript enabled to view it.</span><script type='text/javascript'>
		
 		document.getElementById('cloak4d107a4de9a806188a73803ea893b45d').innerHTM
 L = '';
				var prefix = '&#109;a' + 'i&#108;' + '&#116;o';
				var path = 
 'hr' + 'ef' + '=';
				var addy4d107a4de9a806188a73803ea893b45d = '&#97;lfr
 &#105;st&#111;n' + '&#64;';
				addy4d107a4de9a806188a73803ea893b45d = addy
 4d107a4de9a806188a73803ea893b45d + 'sc&#97;cr' + '&#46;' + '&#111;rg';
				
 var addy_text4d107a4de9a806188a73803ea893b45d = '&#97;lfr&#105;st&#111;n' +
  '&#64;' + 'sc&#97;cr' + '&#46;' + '&#111;rg';document.getElementById('cloa
 k4d107a4de9a806188a73803ea893b45d').innerHTML += '<a ' + path + '\'' + pref
 ix + ':' + addy4d107a4de9a806188a73803ea893b45d + '\'>'+addy_text4d107a4de9
 a806188a73803ea893b45d+'<\/a>';
		</script>.</a></p><p style="margin-top: 0
 px; margin-bottom: 0px;">If successful there will be further sessions, for 
 further ringing this method for those who attend this time, and to give oth
 ers the chance to come or learn and practice other doubles methods.</p> <a 
 href="https://www.scacr.org/news-events/calendar/429/plain-bob-doubles-trai
 ning?tmpl=component">This event was imported from: https://www.scacr.org/ne
 ws-events/calendar/429/plain-bob-doubles-training?tmpl=component</a>CONTACT:This email address is being protected from spambots. You need JavaScript enabled to view it.
				document.getElementById('cloakd53f34467e1a1a4ab49550a66421126c').innerHTML = '';
				var prefix = '&#109;a' + 'i&#108;' + '&#116;o';
				var path = 'hr' + 'ef' + '=';
				var addyd53f34467e1a1a4ab49550a66421126c = '&#97;lfr&#105;st&#111;n' + '&#64;';
				addyd53f34467e1a1a4ab49550a66421126c = addyd53f34467e1a1a4ab49550a66421126c + 'sc&#97;cr' + '&#46;' + '&#111;rg';
				var addy_textd53f34467e1a1a4ab49550a66421126c = '&#97;lfr&#105;st&#111;n' + '&#64;' + 'sc&#97;cr' + '&#46;' + '&#111;rg';document.getElementById('cloakd53f34467e1a1a4ab49550a66421126c').innerHTML += '<a ' + path + '\'' + prefix + ':' + addyd53f34467e1a1a4ab49550a66421126c + '\'>'+addy_textd53f34467e1a1a4ab49550a66421126c+'';
		
DTSTAMP:20260421T185631
DTSTART;TZID=Europe/London:20180704T190000
DTEND;TZID=Europe/London:20180704T210000
SEQUENCE:0
TRANSP:OPAQUE
END:VEVENT
END:VCALENDAR