BEGIN:VCALENDAR
VERSION:2.0
PRODID:-//jEvents 2.0 for Joomla//EN
CALSCALE:GREGORIAN
METHOD:PUBLISH
BEGIN:VTIMEZONE
TZID:Europe/London
BEGIN:STANDARD
DTSTART:20171029T010000
RDATE:20180325T020000
TZOFFSETFROM:+0100
TZOFFSETTO:+0000
TZNAME:Europe/London GMT
END:STANDARD
BEGIN:STANDARD
DTSTART:20181028T010000
RDATE:20190331T020000
TZOFFSETFROM:+0100
TZOFFSETTO:+0000
TZNAME:Europe/London GMT
END:STANDARD
BEGIN:STANDARD
DTSTART:20191027T010000
RDATE:20200329T020000
TZOFFSETFROM:+0100
TZOFFSETTO:+0000
TZNAME:Europe/London GMT
END:STANDARD
BEGIN:STANDARD
DTSTART:20201025T010000
RDATE:20210328T020000
TZOFFSETFROM:+0100
TZOFFSETTO:+0000
TZNAME:Europe/London GMT
END:STANDARD
BEGIN:STANDARD
DTSTART:20211031T010000
RDATE:20220327T020000
TZOFFSETFROM:+0100
TZOFFSETTO:+0000
TZNAME:Europe/London GMT
END:STANDARD
BEGIN:STANDARD
DTSTART:20221030T010000
RDATE:20230326T020000
TZOFFSETFROM:+0100
TZOFFSETTO:+0000
TZNAME:Europe/London GMT
END:STANDARD
BEGIN:STANDARD
DTSTART:20231029T010000
RDATE:20240331T020000
TZOFFSETFROM:+0100
TZOFFSETTO:+0000
TZNAME:Europe/London GMT
END:STANDARD
BEGIN:STANDARD
DTSTART:20241027T010000
RDATE:20250330T020000
TZOFFSETFROM:+0100
TZOFFSETTO:+0000
TZNAME:Europe/London GMT
END:STANDARD
BEGIN:STANDARD
DTSTART:20251026T010000
RDATE:20260329T020000
TZOFFSETFROM:+0100
TZOFFSETTO:+0000
TZNAME:Europe/London GMT
END:STANDARD
BEGIN:STANDARD
DTSTART:20261025T010000
RDATE:20270328T020000
TZOFFSETFROM:+0100
TZOFFSETTO:+0000
TZNAME:Europe/London GMT
END:STANDARD
BEGIN:STANDARD
DTSTART:20271031T010000
RDATE:20280326T020000
TZOFFSETFROM:+0100
TZOFFSETTO:+0000
TZNAME:Europe/London GMT
END:STANDARD
BEGIN:STANDARD
DTSTART:20281029T010000
RDATE:20290325T020000
TZOFFSETFROM:+0100
TZOFFSETTO:+0000
TZNAME:Europe/London GMT
END:STANDARD
BEGIN:STANDARD
DTSTART:20291028T010000
RDATE:20300331T020000
TZOFFSETFROM:+0100
TZOFFSETTO:+0000
TZNAME:Europe/London GMT
END:STANDARD
BEGIN:STANDARD
DTSTART:20301027T010000
RDATE:20310330T020000
TZOFFSETFROM:+0100
TZOFFSETTO:+0000
TZNAME:Europe/London GMT
END:STANDARD
BEGIN:DAYLIGHT
DTSTART:20170518T080000
RDATE:20171029T010000
TZOFFSETFROM:+0000
TZOFFSETTO:+0100
TZNAME:Europe/London BST
END:DAYLIGHT
BEGIN:DAYLIGHT
DTSTART:20180325T020000
RDATE:20181028T010000
TZOFFSETFROM:+0000
TZOFFSETTO:+0100
TZNAME:Europe/London BST
END:DAYLIGHT
BEGIN:DAYLIGHT
DTSTART:20190331T020000
RDATE:20191027T010000
TZOFFSETFROM:+0000
TZOFFSETTO:+0100
TZNAME:Europe/London BST
END:DAYLIGHT
BEGIN:DAYLIGHT
DTSTART:20200329T020000
RDATE:20201025T010000
TZOFFSETFROM:+0000
TZOFFSETTO:+0100
TZNAME:Europe/London BST
END:DAYLIGHT
BEGIN:DAYLIGHT
DTSTART:20210328T020000
RDATE:20211031T010000
TZOFFSETFROM:+0000
TZOFFSETTO:+0100
TZNAME:Europe/London BST
END:DAYLIGHT
BEGIN:DAYLIGHT
DTSTART:20220327T020000
RDATE:20221030T010000
TZOFFSETFROM:+0000
TZOFFSETTO:+0100
TZNAME:Europe/London BST
END:DAYLIGHT
BEGIN:DAYLIGHT
DTSTART:20230326T020000
RDATE:20231029T010000
TZOFFSETFROM:+0000
TZOFFSETTO:+0100
TZNAME:Europe/London BST
END:DAYLIGHT
BEGIN:DAYLIGHT
DTSTART:20240331T020000
RDATE:20241027T010000
TZOFFSETFROM:+0000
TZOFFSETTO:+0100
TZNAME:Europe/London BST
END:DAYLIGHT
BEGIN:DAYLIGHT
DTSTART:20250330T020000
RDATE:20251026T010000
TZOFFSETFROM:+0000
TZOFFSETTO:+0100
TZNAME:Europe/London BST
END:DAYLIGHT
BEGIN:DAYLIGHT
DTSTART:20260329T020000
RDATE:20261025T010000
TZOFFSETFROM:+0000
TZOFFSETTO:+0100
TZNAME:Europe/London BST
END:DAYLIGHT
BEGIN:DAYLIGHT
DTSTART:20270328T020000
RDATE:20271031T010000
TZOFFSETFROM:+0000
TZOFFSETTO:+0100
TZNAME:Europe/London BST
END:DAYLIGHT
BEGIN:DAYLIGHT
DTSTART:20280326T020000
RDATE:20281029T010000
TZOFFSETFROM:+0000
TZOFFSETTO:+0100
TZNAME:Europe/London BST
END:DAYLIGHT
BEGIN:DAYLIGHT
DTSTART:20290325T020000
RDATE:20291028T010000
TZOFFSETFROM:+0000
TZOFFSETTO:+0100
TZNAME:Europe/London BST
END:DAYLIGHT
BEGIN:DAYLIGHT
DTSTART:20300331T020000
RDATE:20301027T010000
TZOFFSETFROM:+0000
TZOFFSETTO:+0100
TZNAME:Europe/London BST
END:DAYLIGHT
END:VTIMEZONE
BEGIN:VEVENT
UID:41dbcf49420a95fd7ee82b9aa494cff6
CATEGORIES:West, South, North, Joint Event
CREATED:20180313T230251
SUMMARY:Ring & Ride - Mini Outing along the Downs Link
LOCATION:Sussex Downs link - Slinfold\, Henfield\, Upper Beeding\, Steyning
URL;VALUE=URI:https://www.scacr.org/news-events/calendar/375/ring-ride-mini-outing-along-
 the-downs-link?tmpl=component
DESCRIPTION:9.30-10.30 am – Slinfold: ringing with coffee &amp; cake\n11.30-12.30 – rin
 ging at Henfield\n12.30-13.40 – lunch in Henfield (picnic or pub lunch)\n14
 .15-15.40 – Upper Beeding: ringing followed by refreshments in the hall \n1
 6.00-16.45 – ringing at Steyning\nThe cycle route is very flat, almost comp
 letely traffic free, and will be led at a gentle pace (about 10 mph). Join 
 us for the whole route or just part of it (there are several places along t
 he route to park). Download an information pack with the route (images/news
 /2018/downslink_map.pdf).  We advise bringing a spare inner tube, bike lock
 , water, clothing layers appropriate for the weather, and some change for t
 ower donations and refreshments.\nRinging will be rounds onwards - all welc
 ome!  Non-ringing friends/family are also very welcome to come along.\nPub 
 lunch will be in the White Hart, close to the church in Henfield.  Sandwich
 es, light bites and full meals will be available, as well as real ale!  Nam
 es for pub lunch to This email address is being protected from spambots. Yo
 u need JavaScript enabled to view it.
				document.getElementById('cloak926
 9b61658c0e66c16fa912c9539fd7f').innerHTML = '';
				var prefix = '&#109;a' 
 + 'i&#108;' + '&#116;o';
				var path = 'hr' + 'ef' + '=';
				var addy9269
 b61658c0e66c16fa912c9539fd7f = 's&#101;c-n&#111;rth' + '&#64;';
				addy926
 9b61658c0e66c16fa912c9539fd7f = addy9269b61658c0e66c16fa912c9539fd7f + 'sc&
 #97;cr' + '&#46;' + '&#111;rg';
				var addy_text9269b61658c0e66c16fa912c95
 39fd7f = 's&#101;c-n&#111;rth' + '&#64;' + 'sc&#97;cr' + '&#46;' + '&#111;r
 g';document.getElementById('cloak9269b61658c0e66c16fa912c9539fd7f').innerHT
 ML += '<a ' + path + '\'' + prefix + ':' + addy9269b61658c0e66c16fa912c9539
 fd7f + '\'>'+addy_text9269b61658c0e66c16fa912c9539fd7f+'';
		 by Thursday 1
 7th May please. \n This event was imported from: https://www.scacr.org/news
 -events/calendar/375/ring-ride-mini-outing-along-the-downs-link?tmpl=compon
 ent (https://www.scacr.org/news-events/calendar/375/ring-ride-mini-outing-a
 long-the-downs-link?tmpl=component)
X-ALT-DESC;FMTTYPE=text/html:<p>9.30-10.30 am – Slinfold: ringing with coffee &amp; cake<br />11.30-12.3
 0 – ringing at Henfield<br />12.30-13.40 – lunch in Henfield (picnic or pub
  lunch)<br />14.15-15.40 – Upper Beeding: ringing followed by refreshments 
 in the hall&nbsp;<br />16.00-16.45 – ringing at Steyning</p><p>The cycle ro
 ute is very flat, almost completely traffic free, and will be led at a gent
 le pace (about 10 mph). Join us for the whole route or just part of it (the
 re are several places along the route to park). <a href="https://www.scacr.
 org/images/news/2018/downslink_map.pdf">Download an information pack with t
 he route</a>.&nbsp; We advise bringing a spare inner tube, bike lock, water
 , clothing layers appropriate for the weather, and some change for tower do
 nations and refreshments.</p><p>Ringing will be rounds onwards - all welcom
 e!&nbsp; Non-ringing friends/family are also very welcome to come along.</p
 ><p>Pub lunch will be in the White Hart, close to the church in Henfield.&n
 bsp; Sandwiches, light bites and full meals will be available, as well as r
 eal ale!&nbsp; Names for pub lunch to <span id="cloak9269b61658c0e66c16fa91
 2c9539fd7f">This email address is being protected from spambots. You need J
 avaScript enabled to view it.</span><script type='text/javascript'>
				doc
 ument.getElementById('cloak9269b61658c0e66c16fa912c9539fd7f').innerHTML = '
 ';
				var prefix = '&#109;a' + 'i&#108;' + '&#116;o';
				var path = 'hr' 
 + 'ef' + '=';
				var addy9269b61658c0e66c16fa912c9539fd7f = 's&#101;c-n&#1
 11;rth' + '&#64;';
				addy9269b61658c0e66c16fa912c9539fd7f = addy9269b6165
 8c0e66c16fa912c9539fd7f + 'sc&#97;cr' + '&#46;' + '&#111;rg';
				var addy_
 text9269b61658c0e66c16fa912c9539fd7f = 's&#101;c-n&#111;rth' + '&#64;' + 's
 c&#97;cr' + '&#46;' + '&#111;rg';document.getElementById('cloak9269b61658c0
 e66c16fa912c9539fd7f').innerHTML += '<a ' + path + '\'' + prefix + ':' + ad
 dy9269b61658c0e66c16fa912c9539fd7f + '\'>'+addy_text9269b61658c0e66c16fa912
 c9539fd7f+'<\/a>';
		</script>&nbsp;by Thursday 17th May please.&nbsp;</p> 
 <a href="https://www.scacr.org/news-events/calendar/375/ring-ride-mini-outi
 ng-along-the-downs-link?tmpl=component">This event was imported from: https
 ://www.scacr.org/news-events/calendar/375/ring-ride-mini-outing-along-the-d
 owns-link?tmpl=component</a>CONTACT:This email address is being protected from spambots. You need JavaScript enabled to view it.
				document.getElementById('cloakaeaf2425c690e6f17a7f0be373763110').innerHTML = '';
				var prefix = '&#109;a' + 'i&#108;' + '&#116;o';
				var path = 'hr' + 'ef' + '=';
				var addyaeaf2425c690e6f17a7f0be373763110 = 's&#101;c-n&#111;rth' + '&#64;';
				addyaeaf2425c690e6f17a7f0be373763110 = addyaeaf2425c690e6f17a7f0be373763110 + 'sc&#97;cr' + '&#46;' + '&#111;rg';
				var addy_textaeaf2425c690e6f17a7f0be373763110 = 's&#101;c-n&#111;rth' + '&#64;' + 'sc&#97;cr' + '&#46;' + '&#111;rg';document.getElementById('cloakaeaf2425c690e6f17a7f0be373763110').innerHTML += '<a ' + path + '\'' + prefix + ':' + addyaeaf2425c690e6f17a7f0be373763110 + '\'>'+addy_textaeaf2425c690e6f17a7f0be373763110+'';
		
DTSTAMP:20260420T133331
DTSTART;TZID=Europe/London:20180519T080000
DTEND;TZID=Europe/London:20180519T170000
SEQUENCE:0
TRANSP:OPAQUE
END:VEVENT
END:VCALENDAR