BEGIN:VCALENDAR
VERSION:2.0
PRODID:-//jEvents 2.0 for Joomla//EN
CALSCALE:GREGORIAN
METHOD:PUBLISH
BEGIN:VTIMEZONE
TZID:Europe/London
BEGIN:STANDARD
DTSTART:20170309T100000
RDATE:20170326T020000
TZOFFSETFROM:+0100
TZOFFSETTO:+0000
TZNAME:Europe/London GMT
END:STANDARD
BEGIN:STANDARD
DTSTART:20171029T010000
RDATE:20180325T020000
TZOFFSETFROM:+0100
TZOFFSETTO:+0000
TZNAME:Europe/London GMT
END:STANDARD
BEGIN:STANDARD
DTSTART:20181028T010000
RDATE:20190331T020000
TZOFFSETFROM:+0100
TZOFFSETTO:+0000
TZNAME:Europe/London GMT
END:STANDARD
BEGIN:STANDARD
DTSTART:20191027T010000
RDATE:20200329T020000
TZOFFSETFROM:+0100
TZOFFSETTO:+0000
TZNAME:Europe/London GMT
END:STANDARD
BEGIN:STANDARD
DTSTART:20201025T010000
RDATE:20210328T020000
TZOFFSETFROM:+0100
TZOFFSETTO:+0000
TZNAME:Europe/London GMT
END:STANDARD
BEGIN:STANDARD
DTSTART:20211031T010000
RDATE:20220327T020000
TZOFFSETFROM:+0100
TZOFFSETTO:+0000
TZNAME:Europe/London GMT
END:STANDARD
BEGIN:STANDARD
DTSTART:20221030T010000
RDATE:20230326T020000
TZOFFSETFROM:+0100
TZOFFSETTO:+0000
TZNAME:Europe/London GMT
END:STANDARD
BEGIN:STANDARD
DTSTART:20231029T010000
RDATE:20240331T020000
TZOFFSETFROM:+0100
TZOFFSETTO:+0000
TZNAME:Europe/London GMT
END:STANDARD
BEGIN:STANDARD
DTSTART:20241027T010000
RDATE:20250330T020000
TZOFFSETFROM:+0100
TZOFFSETTO:+0000
TZNAME:Europe/London GMT
END:STANDARD
BEGIN:STANDARD
DTSTART:20251026T010000
RDATE:20260329T020000
TZOFFSETFROM:+0100
TZOFFSETTO:+0000
TZNAME:Europe/London GMT
END:STANDARD
BEGIN:STANDARD
DTSTART:20261025T010000
RDATE:20270328T020000
TZOFFSETFROM:+0100
TZOFFSETTO:+0000
TZNAME:Europe/London GMT
END:STANDARD
BEGIN:STANDARD
DTSTART:20271031T010000
RDATE:20280326T020000
TZOFFSETFROM:+0100
TZOFFSETTO:+0000
TZNAME:Europe/London GMT
END:STANDARD
BEGIN:STANDARD
DTSTART:20281029T010000
RDATE:20290325T020000
TZOFFSETFROM:+0100
TZOFFSETTO:+0000
TZNAME:Europe/London GMT
END:STANDARD
BEGIN:STANDARD
DTSTART:20291028T010000
RDATE:20300331T020000
TZOFFSETFROM:+0100
TZOFFSETTO:+0000
TZNAME:Europe/London GMT
END:STANDARD
BEGIN:STANDARD
DTSTART:20301027T010000
RDATE:20310330T020000
TZOFFSETFROM:+0100
TZOFFSETTO:+0000
TZNAME:Europe/London GMT
END:STANDARD
BEGIN:DAYLIGHT
DTSTART:20170326T020000
RDATE:20171029T010000
TZOFFSETFROM:+0000
TZOFFSETTO:+0100
TZNAME:Europe/London BST
END:DAYLIGHT
BEGIN:DAYLIGHT
DTSTART:20180325T020000
RDATE:20181028T010000
TZOFFSETFROM:+0000
TZOFFSETTO:+0100
TZNAME:Europe/London BST
END:DAYLIGHT
BEGIN:DAYLIGHT
DTSTART:20190331T020000
RDATE:20191027T010000
TZOFFSETFROM:+0000
TZOFFSETTO:+0100
TZNAME:Europe/London BST
END:DAYLIGHT
BEGIN:DAYLIGHT
DTSTART:20200329T020000
RDATE:20201025T010000
TZOFFSETFROM:+0000
TZOFFSETTO:+0100
TZNAME:Europe/London BST
END:DAYLIGHT
BEGIN:DAYLIGHT
DTSTART:20210328T020000
RDATE:20211031T010000
TZOFFSETFROM:+0000
TZOFFSETTO:+0100
TZNAME:Europe/London BST
END:DAYLIGHT
BEGIN:DAYLIGHT
DTSTART:20220327T020000
RDATE:20221030T010000
TZOFFSETFROM:+0000
TZOFFSETTO:+0100
TZNAME:Europe/London BST
END:DAYLIGHT
BEGIN:DAYLIGHT
DTSTART:20230326T020000
RDATE:20231029T010000
TZOFFSETFROM:+0000
TZOFFSETTO:+0100
TZNAME:Europe/London BST
END:DAYLIGHT
BEGIN:DAYLIGHT
DTSTART:20240331T020000
RDATE:20241027T010000
TZOFFSETFROM:+0000
TZOFFSETTO:+0100
TZNAME:Europe/London BST
END:DAYLIGHT
BEGIN:DAYLIGHT
DTSTART:20250330T020000
RDATE:20251026T010000
TZOFFSETFROM:+0000
TZOFFSETTO:+0100
TZNAME:Europe/London BST
END:DAYLIGHT
BEGIN:DAYLIGHT
DTSTART:20260329T020000
RDATE:20261025T010000
TZOFFSETFROM:+0000
TZOFFSETTO:+0100
TZNAME:Europe/London BST
END:DAYLIGHT
BEGIN:DAYLIGHT
DTSTART:20270328T020000
RDATE:20271031T010000
TZOFFSETFROM:+0000
TZOFFSETTO:+0100
TZNAME:Europe/London BST
END:DAYLIGHT
BEGIN:DAYLIGHT
DTSTART:20280326T020000
RDATE:20281029T010000
TZOFFSETFROM:+0000
TZOFFSETTO:+0100
TZNAME:Europe/London BST
END:DAYLIGHT
BEGIN:DAYLIGHT
DTSTART:20290325T020000
RDATE:20291028T010000
TZOFFSETFROM:+0000
TZOFFSETTO:+0100
TZNAME:Europe/London BST
END:DAYLIGHT
BEGIN:DAYLIGHT
DTSTART:20300331T020000
RDATE:20301027T010000
TZOFFSETFROM:+0000
TZOFFSETTO:+0100
TZNAME:Europe/London BST
END:DAYLIGHT
END:VTIMEZONE
BEGIN:VEVENT
UID:ffb12cd6185c213397fde83c92eb8ac8
CATEGORIES:West
CREATED:20180107T170437
SUMMARY:Ringing Up and Down morning for learners
LOCATION:Shipley
URL;VALUE=URI:https://www.scacr.org/news-events/calendar/352/ringing-up-and-down-morning-
 for-learners?tmpl=component
DESCRIPTION:Shipley has a dumb bell, so Graham will help you to learn to ring either do
 wn or up as required without a bell sounding outside. \nThe first thing to 
 learn is to ring down safely. Students wishing to learn to ring up are also
  welcome as of course the bell has to be rung up again after being rung dow
 n.\nShould you know how to ring down and up then there may be an opportunit
 y to ring down in three's on the bells.\nNumbers will be restricted so stud
 ents can have several goes, so let Graham Hills know if you wish to come an
 d reserve you a place.\n(This email address is being protected from spambot
 s. You need JavaScript enabled to view it.
				document.getElementById('clo
 akedcb862a62686c0b1d819a619e5e3baa').innerHTML = '';
				var prefix = '&#10
 9;a' + 'i&#108;' + '&#116;o';
				var path = 'hr' + 'ef' + '=';
				var add
 yedcb862a62686c0b1d819a619e5e3baa = 'gr.h&#105;lls' + '&#64;';
				addyedcb
 862a62686c0b1d819a619e5e3baa = addyedcb862a62686c0b1d819a619e5e3baa + 'y&#9
 7;h&#111;&#111;' + '&#46;' + 'c&#111;m';
				var addy_textedcb862a62686c0b1
 d819a619e5e3baa = 'gr.h&#105;lls' + '&#64;' + 'y&#97;h&#111;&#111;' + '&#46
 ;' + 'c&#111;m';document.getElementById('cloakedcb862a62686c0b1d819a619e5e3
 baa').innerHTML += '<a ' + path + '\'' + prefix + ':' + addyedcb862a62686c0
 b1d819a619e5e3baa + '\'>'+addy_textedcb862a62686c0b1d819a619e5e3baa+'';
		 
 or 01903-266980) \n This event was imported from: https://www.scacr.org/new
 s-events/calendar/352/ringing-up-and-down-morning-for-learners?tmpl=compone
 nt (https://www.scacr.org/news-events/calendar/352/ringing-up-and-down-morn
 ing-for-learners?tmpl=component)
X-ALT-DESC;FMTTYPE=text/html:<p>Shipley has a dumb bell, so Graham will help you to learn to ring either
  down or up as required without a bell sounding outside.&nbsp;</p><p>The fi
 rst thing to learn is to ring down safely. Students wishing to learn to rin
 g up are also welcome as of course the bell has to be rung up again after b
 eing rung down.</p><p>Should you know how to ring down&nbsp;and up then the
 re may be an opportunity to ring down in three's on the bells.</p><p>Number
 s will be restricted so students can have several goes, so let Graham Hills
  know if you wish to come and reserve you a place.</p><p>(<span id="cloaked
 cb862a62686c0b1d819a619e5e3baa">This email address is being protected from 
 spambots. You need JavaScript enabled to view it.</span><script type='text/
 javascript'>
				document.getElementById('cloakedcb862a62686c0b1d819a619e5e
 3baa').innerHTML = '';
				var prefix = '&#109;a' + 'i&#108;' + '&#116;o';

 				var path = 'hr' + 'ef' + '=';
				var addyedcb862a62686c0b1d819a619e5e3
 baa = 'gr.h&#105;lls' + '&#64;';
				addyedcb862a62686c0b1d819a619e5e3baa =
  addyedcb862a62686c0b1d819a619e5e3baa + 'y&#97;h&#111;&#111;' + '&#46;' + '
 c&#111;m';
				var addy_textedcb862a62686c0b1d819a619e5e3baa = 'gr.h&#105;l
 ls' + '&#64;' + 'y&#97;h&#111;&#111;' + '&#46;' + 'c&#111;m';document.getEl
 ementById('cloakedcb862a62686c0b1d819a619e5e3baa').innerHTML += '<a ' + pat
 h + '\'' + prefix + ':' + addyedcb862a62686c0b1d819a619e5e3baa + '\'>'+addy
 _textedcb862a62686c0b1d819a619e5e3baa+'<\/a>';
		</script> or 01903-266980)
 &nbsp;</p> <a href="https://www.scacr.org/news-events/calendar/352/ringing-
 up-and-down-morning-for-learners?tmpl=component">This event was imported fr
 om: https://www.scacr.org/news-events/calendar/352/ringing-up-and-down-morn
 ing-for-learners?tmpl=component</a>CONTACT:Graham Hills (This email address is being protected from spambots. You need JavaScript enabled to view it.
				document.getElementById('cloak809306e5a0969ee8b817c3dd71451354').innerHTML = '';
				var prefix = '&#109;a' + 'i&#108;' + '&#116;o';
				var path = 'hr' + 'ef' + '=';
				var addy809306e5a0969ee8b817c3dd71451354 = 'gr.h&#105;lls' + '&#64;';
				addy809306e5a0969ee8b817c3dd71451354 = addy809306e5a0969ee8b817c3dd71451354 + 'y&#97;h&#111;&#111;' + '&#46;' + 'c&#111;m';
				var addy_text809306e5a0969ee8b817c3dd71451354 = 'gr.h&#105;lls' + '&#64;' + 'y&#97;h&#111;&#111;' + '&#46;' + 'c&#111;m';document.getElementById('cloak809306e5a0969ee8b817c3dd71451354').innerHTML += '<a ' + path + '\'' + prefix + ':' + addy809306e5a0969ee8b817c3dd71451354 + '\'>'+addy_text809306e5a0969ee8b817c3dd71451354+'';
		 or 01903-266980)
DTSTAMP:20260420T133335
DTSTART;TZID=Europe/London:20180310T100000
DTEND;TZID=Europe/London:20180310T120000
SEQUENCE:0
TRANSP:OPAQUE
END:VEVENT
END:VCALENDAR