BEGIN:VCALENDAR
VERSION:2.0
PRODID:-//jEvents 2.0 for Joomla//EN
CALSCALE:GREGORIAN
METHOD:PUBLISH
BEGIN:VTIMEZONE
TZID:Europe/London
BEGIN:STANDARD
DTSTART:20180222T143000
RDATE:20180325T020000
TZOFFSETFROM:+0100
TZOFFSETTO:+0000
TZNAME:Europe/London GMT
END:STANDARD
BEGIN:STANDARD
DTSTART:20181028T010000
RDATE:20190331T020000
TZOFFSETFROM:+0100
TZOFFSETTO:+0000
TZNAME:Europe/London GMT
END:STANDARD
BEGIN:STANDARD
DTSTART:20191027T010000
RDATE:20200329T020000
TZOFFSETFROM:+0100
TZOFFSETTO:+0000
TZNAME:Europe/London GMT
END:STANDARD
BEGIN:STANDARD
DTSTART:20201025T010000
RDATE:20210328T020000
TZOFFSETFROM:+0100
TZOFFSETTO:+0000
TZNAME:Europe/London GMT
END:STANDARD
BEGIN:STANDARD
DTSTART:20211031T010000
RDATE:20220327T020000
TZOFFSETFROM:+0100
TZOFFSETTO:+0000
TZNAME:Europe/London GMT
END:STANDARD
BEGIN:STANDARD
DTSTART:20221030T010000
RDATE:20230326T020000
TZOFFSETFROM:+0100
TZOFFSETTO:+0000
TZNAME:Europe/London GMT
END:STANDARD
BEGIN:STANDARD
DTSTART:20231029T010000
RDATE:20240331T020000
TZOFFSETFROM:+0100
TZOFFSETTO:+0000
TZNAME:Europe/London GMT
END:STANDARD
BEGIN:STANDARD
DTSTART:20241027T010000
RDATE:20250330T020000
TZOFFSETFROM:+0100
TZOFFSETTO:+0000
TZNAME:Europe/London GMT
END:STANDARD
BEGIN:STANDARD
DTSTART:20251026T010000
RDATE:20260329T020000
TZOFFSETFROM:+0100
TZOFFSETTO:+0000
TZNAME:Europe/London GMT
END:STANDARD
BEGIN:STANDARD
DTSTART:20261025T010000
RDATE:20270328T020000
TZOFFSETFROM:+0100
TZOFFSETTO:+0000
TZNAME:Europe/London GMT
END:STANDARD
BEGIN:STANDARD
DTSTART:20271031T010000
RDATE:20280326T020000
TZOFFSETFROM:+0100
TZOFFSETTO:+0000
TZNAME:Europe/London GMT
END:STANDARD
BEGIN:STANDARD
DTSTART:20281029T010000
RDATE:20290325T020000
TZOFFSETFROM:+0100
TZOFFSETTO:+0000
TZNAME:Europe/London GMT
END:STANDARD
BEGIN:STANDARD
DTSTART:20291028T010000
RDATE:20300331T020000
TZOFFSETFROM:+0100
TZOFFSETTO:+0000
TZNAME:Europe/London GMT
END:STANDARD
BEGIN:STANDARD
DTSTART:20301027T010000
RDATE:20310330T020000
TZOFFSETFROM:+0100
TZOFFSETTO:+0000
TZNAME:Europe/London GMT
END:STANDARD
BEGIN:DAYLIGHT
DTSTART:20180325T020000
RDATE:20181028T010000
TZOFFSETFROM:+0000
TZOFFSETTO:+0100
TZNAME:Europe/London BST
END:DAYLIGHT
BEGIN:DAYLIGHT
DTSTART:20190331T020000
RDATE:20191027T010000
TZOFFSETFROM:+0000
TZOFFSETTO:+0100
TZNAME:Europe/London BST
END:DAYLIGHT
BEGIN:DAYLIGHT
DTSTART:20200329T020000
RDATE:20201025T010000
TZOFFSETFROM:+0000
TZOFFSETTO:+0100
TZNAME:Europe/London BST
END:DAYLIGHT
BEGIN:DAYLIGHT
DTSTART:20210328T020000
RDATE:20211031T010000
TZOFFSETFROM:+0000
TZOFFSETTO:+0100
TZNAME:Europe/London BST
END:DAYLIGHT
BEGIN:DAYLIGHT
DTSTART:20220327T020000
RDATE:20221030T010000
TZOFFSETFROM:+0000
TZOFFSETTO:+0100
TZNAME:Europe/London BST
END:DAYLIGHT
BEGIN:DAYLIGHT
DTSTART:20230326T020000
RDATE:20231029T010000
TZOFFSETFROM:+0000
TZOFFSETTO:+0100
TZNAME:Europe/London BST
END:DAYLIGHT
BEGIN:DAYLIGHT
DTSTART:20240331T020000
RDATE:20241027T010000
TZOFFSETFROM:+0000
TZOFFSETTO:+0100
TZNAME:Europe/London BST
END:DAYLIGHT
BEGIN:DAYLIGHT
DTSTART:20250330T020000
RDATE:20251026T010000
TZOFFSETFROM:+0000
TZOFFSETTO:+0100
TZNAME:Europe/London BST
END:DAYLIGHT
BEGIN:DAYLIGHT
DTSTART:20260329T020000
RDATE:20261025T010000
TZOFFSETFROM:+0000
TZOFFSETTO:+0100
TZNAME:Europe/London BST
END:DAYLIGHT
BEGIN:DAYLIGHT
DTSTART:20270328T020000
RDATE:20271031T010000
TZOFFSETFROM:+0000
TZOFFSETTO:+0100
TZNAME:Europe/London BST
END:DAYLIGHT
BEGIN:DAYLIGHT
DTSTART:20280326T020000
RDATE:20281029T010000
TZOFFSETFROM:+0000
TZOFFSETTO:+0100
TZNAME:Europe/London BST
END:DAYLIGHT
BEGIN:DAYLIGHT
DTSTART:20290325T020000
RDATE:20291028T010000
TZOFFSETFROM:+0000
TZOFFSETTO:+0100
TZNAME:Europe/London BST
END:DAYLIGHT
BEGIN:DAYLIGHT
DTSTART:20300331T020000
RDATE:20301027T010000
TZOFFSETFROM:+0000
TZOFFSETTO:+0100
TZNAME:Europe/London BST
END:DAYLIGHT
END:VTIMEZONE
BEGIN:VEVENT
UID:74f7f9f10431b5f81ad4f9e7454f6d8f
CATEGORIES:East
CREATED:20171124T104704
SUMMARY:East District Annual Meeting (ADM) - Battle
LOCATION:https://www.scacr.org/towers/directory/157-battle-st-mary-the-virgin
URL;VALUE=URI:https://www.scacr.org/news-events/calendar/298/east-district-annual-meeting
 -adm-battle?tmpl=component
DESCRIPTION:All Eastern District Ringers are invited to come along to the ADM at Battle
  on Saturday 23rd February. It’s a chance for new members to meet ringers f
 rom all across the district and to maybe have a go on some different bells.
  Ringing from 2.30 pm - all standards welcome, from rounds to surprise majo
 r - followed by a splendid ringers' tea at 4pm and a brief meeting. Please 
 come and support your district and committee - everyone is welcome.\nIf you
 're a new member, come along to be welcomed to SCACR and receive your membe
 rship certificate and association membership book.\n\n Hope to see as many 
 of you there as possible\nNames for tea please to Marion This email address
  is being protected from spambots. You need JavaScript enabled to view it.

 				document.getElementById('cloakeb8e1e12adb31d0214ee6da861c2e9dc').innerH
 TML = '';
				var prefix = '&#109;a' + 'i&#108;' + '&#116;o';
				var path 
 = 'hr' + 'ef' + '=';
				var addyeb8e1e12adb31d0214ee6da861c2e9dc = 's&#101
 ;c-&#101;&#97;st' + '&#64;';
				addyeb8e1e12adb31d0214ee6da861c2e9dc = add
 yeb8e1e12adb31d0214ee6da861c2e9dc + 'sc&#97;cr' + '&#46;' + '&#111;rg';
			
 	var addy_texteb8e1e12adb31d0214ee6da861c2e9dc = 's&#101;c-&#101;&#97;st' +
  '&#64;' + 'sc&#97;cr' + '&#46;' + '&#111;rg';document.getElementById('cloa
 keb8e1e12adb31d0214ee6da861c2e9dc').innerHTML += '<a ' + path + '\'' + pref
 ix + ':' + addyeb8e1e12adb31d0214ee6da861c2e9dc + '\'>'+addy_texteb8e1e12ad
 b31d0214ee6da861c2e9dc+'';
		 \n2.30pm Ringing at St Mary’s Battle TN33 0AN
 \n4pm Tea followed by the meeting\nThe meeting Agenda will include: approva
 l of last year’s ADM Minutes (media/com_acymailing/upload/2018_02_24_adm_mi
 nutes_east.pdf), the Report from the Secretary of 2018 (media/com_acymailin
 g/upload/2019_02_23_eastern_district_secretary_report.pdf) to be approved f
 or publication in the SCACR Handbook, welcome of new members to SCACR, pres
 entation of New Members’ Certificates &amp; membership books, election of y
 our committee for the Eastern District (everyone has to be re-elected), nom
 inate SCACR Association Officers (New Trustee, Safeguarding Officer and 5th
  Central Council Rep needed - volunteers welcome just ask what is involved)
 , and any other business you wish to bring up.\nBest wishes\nMarion Holland
 s (This email address is being protected from spambots. You need JavaScript
  enabled to view it.
				document.getElementById('cloakf466cb05cae85ce9736c
 1c3527af63ee').innerHTML = '';
				var prefix = '&#109;a' + 'i&#108;' + '&#
 116;o';
				var path = 'hr' + 'ef' + '=';
				var addyf466cb05cae85ce9736c1
 c3527af63ee = 's&#101;c-&#101;&#97;st' + '&#64;';
				addyf466cb05cae85ce97
 36c1c3527af63ee = addyf466cb05cae85ce9736c1c3527af63ee + 'sc&#97;cr' + '&#4
 6;' + '&#111;rg';
				var addy_textf466cb05cae85ce9736c1c3527af63ee = 's&#1
 01;c-&#101;&#97;st' + '&#64;' + 'sc&#97;cr' + '&#46;' + '&#111;rg';document
 .getElementById('cloakf466cb05cae85ce9736c1c3527af63ee').innerHTML += '<a '
  + path + '\'' + prefix + ':' + addyf466cb05cae85ce9736c1c3527af63ee + '\'>
 '+addy_textf466cb05cae85ce9736c1c3527af63ee+'';
		)\n This event was import
 ed from: https://www.scacr.org/news-events/calendar/298/east-district-annua
 l-meeting-adm-battle?tmpl=component (https://www.scacr.org/news-events/cale
 ndar/298/east-district-annual-meeting-adm-battle?tmpl=component)
X-ALT-DESC;FMTTYPE=text/html:<p>All Eastern District Ringers are invited to come along to the ADM at Bat
 tle on Saturday 23rd February. It’s a chance for new members to meet ringer
 s from all across the district and to maybe have a go on some different bel
 ls.&nbsp;Ringing from 2.30 pm - all standards welcome, from rounds to surpr
 ise major - followed by a splendid ringers' tea at 4pm and a brief meeting.
  Please come and support your district and committee - everyone is welcome.
 </p><p>If you're a new member, come along to be welcomed to SCACR and recei
 ve your membership certificate and association membership book.</p><p><br /
 > Hope to see as many of you there as possible</p><p>Names for tea please t
 o Marion <span id="cloakeb8e1e12adb31d0214ee6da861c2e9dc">This email addres
 s is being protected from spambots. You need JavaScript enabled to view it.
 </span><script type='text/javascript'>
				document.getElementById('cloakeb
 8e1e12adb31d0214ee6da861c2e9dc').innerHTML = '';
				var prefix = '&#109;a'
  + 'i&#108;' + '&#116;o';
				var path = 'hr' + 'ef' + '=';
				var addyeb8
 e1e12adb31d0214ee6da861c2e9dc = 's&#101;c-&#101;&#97;st' + '&#64;';
				add
 yeb8e1e12adb31d0214ee6da861c2e9dc = addyeb8e1e12adb31d0214ee6da861c2e9dc + 
 'sc&#97;cr' + '&#46;' + '&#111;rg';
				var addy_texteb8e1e12adb31d0214ee6d
 a861c2e9dc = 's&#101;c-&#101;&#97;st' + '&#64;' + 'sc&#97;cr' + '&#46;' + '
 &#111;rg';document.getElementById('cloakeb8e1e12adb31d0214ee6da861c2e9dc').
 innerHTML += '<a ' + path + '\'' + prefix + ':' + addyeb8e1e12adb31d0214ee6
 da861c2e9dc + '\'>'+addy_texteb8e1e12adb31d0214ee6da861c2e9dc+'<\/a>';
		</
 script>&nbsp;</p><p>2.30pm Ringing&nbsp;at St Mary’s Battle TN33 0AN</p><p>
 4pm&nbsp;Tea&nbsp;followed by the meeting</p><p>The meeting Agenda will inc
 lude: approval of last year’s <a href="https://www.scacr.org/media/com_acym
 ailing/upload/2018_02_24_adm_minutes_east.pdf">ADM Minutes</a>, the <a href
 ="https://www.scacr.org/media/com_acymailing/upload/2019_02_23_eastern_dist
 rict_secretary_report.pdf">Report from the Secretary of 2018</a> to be appr
 oved for publication in the SCACR Handbook, welcome of new members to SCACR
 , presentation of New Members’ Certificates &amp; membership books, electio
 n of your committee for the Eastern District (everyone has to be re-elected
 ), nominate SCACR Association Officers (New Trustee, Safeguarding Officer a
 nd 5th Central Council Rep needed - volunteers welcome just ask what is inv
 olved), and any other business you wish to bring up.</p><p>Best wishes</p><
 p>Marion Hollands (<span id="cloakf466cb05cae85ce9736c1c3527af63ee">This em
 ail address is being protected from spambots. You need JavaScript enabled t
 o view it.</span><script type='text/javascript'>
				document.getElementByI
 d('cloakf466cb05cae85ce9736c1c3527af63ee').innerHTML = '';
				var prefix =
  '&#109;a' + 'i&#108;' + '&#116;o';
				var path = 'hr' + 'ef' + '=';
				v
 ar addyf466cb05cae85ce9736c1c3527af63ee = 's&#101;c-&#101;&#97;st' + '&#64;
 ';
				addyf466cb05cae85ce9736c1c3527af63ee = addyf466cb05cae85ce9736c1c352
 7af63ee + 'sc&#97;cr' + '&#46;' + '&#111;rg';
				var addy_textf466cb05cae8
 5ce9736c1c3527af63ee = 's&#101;c-&#101;&#97;st' + '&#64;' + 'sc&#97;cr' + '
 &#46;' + '&#111;rg';document.getElementById('cloakf466cb05cae85ce9736c1c352
 7af63ee').innerHTML += '<a ' + path + '\'' + prefix + ':' + addyf466cb05cae
 85ce9736c1c3527af63ee + '\'>'+addy_textf466cb05cae85ce9736c1c3527af63ee+'<\
 /a>';
		</script>)</p> <a href="https://www.scacr.org/news-events/calendar/
 298/east-district-annual-meeting-adm-battle?tmpl=component">This event was 
 imported from: https://www.scacr.org/news-events/calendar/298/east-district
 -annual-meeting-adm-battle?tmpl=component</a>CONTACT:This email address is being protected from spambots. You need JavaScript enabled to view it.
				document.getElementById('cloakb62e614a9cf74e447a9f7b904800ce65').innerHTML = '';
				var prefix = '&#109;a' + 'i&#108;' + '&#116;o';
				var path = 'hr' + 'ef' + '=';
				var addyb62e614a9cf74e447a9f7b904800ce65 = 's&#101;c-&#101;&#97;st' + '&#64;';
				addyb62e614a9cf74e447a9f7b904800ce65 = addyb62e614a9cf74e447a9f7b904800ce65 + 'sc&#97;cr' + '&#46;' + '&#111;rg';
				var addy_textb62e614a9cf74e447a9f7b904800ce65 = 's&#101;c-&#101;&#97;st' + '&#64;' + 'sc&#97;cr' + '&#46;' + '&#111;rg';document.getElementById('cloakb62e614a9cf74e447a9f7b904800ce65').innerHTML += '<a ' + path + '\'' + prefix + ':' + addyb62e614a9cf74e447a9f7b904800ce65 + '\'>'+addy_textb62e614a9cf74e447a9f7b904800ce65+'';
		
DTSTAMP:20260424T091835
DTSTART;TZID=Europe/London:20190223T143000
SEQUENCE:0
TRANSP:OPAQUE
END:VEVENT
END:VCALENDAR