BEGIN:VCALENDAR
VERSION:2.0
PRODID:-//jEvents 2.0 for Joomla//EN
CALSCALE:GREGORIAN
METHOD:PUBLISH
BEGIN:VTIMEZONE
TZID:Europe/London
BEGIN:STANDARD
DTSTART:20170112T150000
RDATE:20170326T020000
TZOFFSETFROM:+0100
TZOFFSETTO:+0000
TZNAME:Europe/London GMT
END:STANDARD
BEGIN:STANDARD
DTSTART:20171029T010000
RDATE:20180325T020000
TZOFFSETFROM:+0100
TZOFFSETTO:+0000
TZNAME:Europe/London GMT
END:STANDARD
BEGIN:STANDARD
DTSTART:20181028T010000
RDATE:20190331T020000
TZOFFSETFROM:+0100
TZOFFSETTO:+0000
TZNAME:Europe/London GMT
END:STANDARD
BEGIN:STANDARD
DTSTART:20191027T010000
RDATE:20200329T020000
TZOFFSETFROM:+0100
TZOFFSETTO:+0000
TZNAME:Europe/London GMT
END:STANDARD
BEGIN:STANDARD
DTSTART:20201025T010000
RDATE:20210328T020000
TZOFFSETFROM:+0100
TZOFFSETTO:+0000
TZNAME:Europe/London GMT
END:STANDARD
BEGIN:STANDARD
DTSTART:20211031T010000
RDATE:20220327T020000
TZOFFSETFROM:+0100
TZOFFSETTO:+0000
TZNAME:Europe/London GMT
END:STANDARD
BEGIN:STANDARD
DTSTART:20221030T010000
RDATE:20230326T020000
TZOFFSETFROM:+0100
TZOFFSETTO:+0000
TZNAME:Europe/London GMT
END:STANDARD
BEGIN:STANDARD
DTSTART:20231029T010000
RDATE:20240331T020000
TZOFFSETFROM:+0100
TZOFFSETTO:+0000
TZNAME:Europe/London GMT
END:STANDARD
BEGIN:STANDARD
DTSTART:20241027T010000
RDATE:20250330T020000
TZOFFSETFROM:+0100
TZOFFSETTO:+0000
TZNAME:Europe/London GMT
END:STANDARD
BEGIN:STANDARD
DTSTART:20251026T010000
RDATE:20260329T020000
TZOFFSETFROM:+0100
TZOFFSETTO:+0000
TZNAME:Europe/London GMT
END:STANDARD
BEGIN:STANDARD
DTSTART:20261025T010000
RDATE:20270328T020000
TZOFFSETFROM:+0100
TZOFFSETTO:+0000
TZNAME:Europe/London GMT
END:STANDARD
BEGIN:STANDARD
DTSTART:20271031T010000
RDATE:20280326T020000
TZOFFSETFROM:+0100
TZOFFSETTO:+0000
TZNAME:Europe/London GMT
END:STANDARD
BEGIN:STANDARD
DTSTART:20281029T010000
RDATE:20290325T020000
TZOFFSETFROM:+0100
TZOFFSETTO:+0000
TZNAME:Europe/London GMT
END:STANDARD
BEGIN:STANDARD
DTSTART:20291028T010000
RDATE:20300331T020000
TZOFFSETFROM:+0100
TZOFFSETTO:+0000
TZNAME:Europe/London GMT
END:STANDARD
BEGIN:STANDARD
DTSTART:20301027T010000
RDATE:20310330T020000
TZOFFSETFROM:+0100
TZOFFSETTO:+0000
TZNAME:Europe/London GMT
END:STANDARD
BEGIN:DAYLIGHT
DTSTART:20170326T020000
RDATE:20171029T010000
TZOFFSETFROM:+0000
TZOFFSETTO:+0100
TZNAME:Europe/London BST
END:DAYLIGHT
BEGIN:DAYLIGHT
DTSTART:20180325T020000
RDATE:20181028T010000
TZOFFSETFROM:+0000
TZOFFSETTO:+0100
TZNAME:Europe/London BST
END:DAYLIGHT
BEGIN:DAYLIGHT
DTSTART:20190331T020000
RDATE:20191027T010000
TZOFFSETFROM:+0000
TZOFFSETTO:+0100
TZNAME:Europe/London BST
END:DAYLIGHT
BEGIN:DAYLIGHT
DTSTART:20200329T020000
RDATE:20201025T010000
TZOFFSETFROM:+0000
TZOFFSETTO:+0100
TZNAME:Europe/London BST
END:DAYLIGHT
BEGIN:DAYLIGHT
DTSTART:20210328T020000
RDATE:20211031T010000
TZOFFSETFROM:+0000
TZOFFSETTO:+0100
TZNAME:Europe/London BST
END:DAYLIGHT
BEGIN:DAYLIGHT
DTSTART:20220327T020000
RDATE:20221030T010000
TZOFFSETFROM:+0000
TZOFFSETTO:+0100
TZNAME:Europe/London BST
END:DAYLIGHT
BEGIN:DAYLIGHT
DTSTART:20230326T020000
RDATE:20231029T010000
TZOFFSETFROM:+0000
TZOFFSETTO:+0100
TZNAME:Europe/London BST
END:DAYLIGHT
BEGIN:DAYLIGHT
DTSTART:20240331T020000
RDATE:20241027T010000
TZOFFSETFROM:+0000
TZOFFSETTO:+0100
TZNAME:Europe/London BST
END:DAYLIGHT
BEGIN:DAYLIGHT
DTSTART:20250330T020000
RDATE:20251026T010000
TZOFFSETFROM:+0000
TZOFFSETTO:+0100
TZNAME:Europe/London BST
END:DAYLIGHT
BEGIN:DAYLIGHT
DTSTART:20260329T020000
RDATE:20261025T010000
TZOFFSETFROM:+0000
TZOFFSETTO:+0100
TZNAME:Europe/London BST
END:DAYLIGHT
BEGIN:DAYLIGHT
DTSTART:20270328T020000
RDATE:20271031T010000
TZOFFSETFROM:+0000
TZOFFSETTO:+0100
TZNAME:Europe/London BST
END:DAYLIGHT
BEGIN:DAYLIGHT
DTSTART:20280326T020000
RDATE:20281029T010000
TZOFFSETFROM:+0000
TZOFFSETTO:+0100
TZNAME:Europe/London BST
END:DAYLIGHT
BEGIN:DAYLIGHT
DTSTART:20290325T020000
RDATE:20291028T010000
TZOFFSETFROM:+0000
TZOFFSETTO:+0100
TZNAME:Europe/London BST
END:DAYLIGHT
BEGIN:DAYLIGHT
DTSTART:20300331T020000
RDATE:20301027T010000
TZOFFSETFROM:+0000
TZOFFSETTO:+0100
TZNAME:Europe/London BST
END:DAYLIGHT
END:VTIMEZONE
BEGIN:VEVENT
UID:ec44a3f97dcaaad4e82a52ae330774dd
CATEGORIES:West
CREATED:20171116T090844
SUMMARY:Saturday Get Together
LOCATION:Midhurst
URL;VALUE=URI:https://www.scacr.org/news-events/calendar/282/saturday-get-together?tmpl=c
 omponent
DESCRIPTION:An afternoon gathering to ring from 3pm until 4.30pm then afternoon tea and
  chat with other ringers.  Please join us, all abilities welcome.\nNames fo
 r tea to David Hall (This email address is being protected from spambots. Y
 ou need JavaScript enabled to view it.
				document.getElementById('cloak51
 923638b12fc7f5b1e223c42f4a0b50').innerHTML = '';
				var prefix = '&#109;a'
  + 'i&#108;' + '&#116;o';
				var path = 'hr' + 'ef' + '=';
				var addy519
 23638b12fc7f5b1e223c42f4a0b50 = '&#101;v&#101;nts-w&#101;st' + '&#64;';
			
 	addy51923638b12fc7f5b1e223c42f4a0b50 = addy51923638b12fc7f5b1e223c42f4a0b5
 0 + 'sc&#97;cr' + '&#46;' + '&#111;rg';
				var addy_text51923638b12fc7f5b1
 e223c42f4a0b50 = '&#101;v&#101;nts-w&#101;st' + '&#64;' + 'sc&#97;cr' + '&#
 46;' + '&#111;rg';document.getElementById('cloak51923638b12fc7f5b1e223c42f4
 a0b50').innerHTML += '<a ' + path + '\'' + prefix + ':' + addy51923638b12fc
 7f5b1e223c42f4a0b50 + '\'>'+addy_text51923638b12fc7f5b1e223c42f4a0b50+'';
	
 	) by Wednesday, 10th January, 2018 please.\n This event was imported from:
  https://www.scacr.org/news-events/calendar/282/saturday-get-together?tmpl=
 component (https://www.scacr.org/news-events/calendar/282/saturday-get-toge
 ther?tmpl=component)
X-ALT-DESC;FMTTYPE=text/html:<p>An afternoon gathering to ring from 3pm until 4.30pm then afternoon tea 
 and chat with other ringers.&nbsp; Please join us, all abilities welcome.</
 p><p>Names for tea to David Hall (<span id="cloak51923638b12fc7f5b1e223c42f
 4a0b50">This email address is being protected from spambots. You need JavaS
 cript enabled to view it.</span><script type='text/javascript'>
				documen
 t.getElementById('cloak51923638b12fc7f5b1e223c42f4a0b50').innerHTML = '';
	
 			var prefix = '&#109;a' + 'i&#108;' + '&#116;o';
				var path = 'hr' + 'e
 f' + '=';
				var addy51923638b12fc7f5b1e223c42f4a0b50 = '&#101;v&#101;nts-
 w&#101;st' + '&#64;';
				addy51923638b12fc7f5b1e223c42f4a0b50 = addy519236
 38b12fc7f5b1e223c42f4a0b50 + 'sc&#97;cr' + '&#46;' + '&#111;rg';
				var ad
 dy_text51923638b12fc7f5b1e223c42f4a0b50 = '&#101;v&#101;nts-w&#101;st' + '&
 #64;' + 'sc&#97;cr' + '&#46;' + '&#111;rg';document.getElementById('cloak51
 923638b12fc7f5b1e223c42f4a0b50').innerHTML += '<a ' + path + '\'' + prefix 
 + ':' + addy51923638b12fc7f5b1e223c42f4a0b50 + '\'>'+addy_text51923638b12fc
 7f5b1e223c42f4a0b50+'<\/a>';
		</script>) by Wednesday, 10th January, 2018 
 please.</p> <a href="https://www.scacr.org/news-events/calendar/282/saturda
 y-get-together?tmpl=component">This event was imported from: https://www.sc
 acr.org/news-events/calendar/282/saturday-get-together?tmpl=component</a>CONTACT:David Hall (This email address is being protected from spambots. You need JavaScript enabled to view it.
				document.getElementById('cloak7474aeb0f913b304a407446286d6f55d').innerHTML = '';
				var prefix = '&#109;a' + 'i&#108;' + '&#116;o';
				var path = 'hr' + 'ef' + '=';
				var addy7474aeb0f913b304a407446286d6f55d = '&#101;v&#101;nts-w&#101;st' + '&#64;';
				addy7474aeb0f913b304a407446286d6f55d = addy7474aeb0f913b304a407446286d6f55d + 'sc&#97;cr' + '&#46;' + '&#111;rg';
				var addy_text7474aeb0f913b304a407446286d6f55d = '&#101;v&#101;nts-w&#101;st' + '&#64;' + 'sc&#97;cr' + '&#46;' + '&#111;rg';document.getElementById('cloak7474aeb0f913b304a407446286d6f55d').innerHTML += '<a ' + path + '\'' + prefix + ':' + addy7474aeb0f913b304a407446286d6f55d + '\'>'+addy_text7474aeb0f913b304a407446286d6f55d+'';
		)
DTSTAMP:20260424T102543
DTSTART;TZID=Europe/London:20180113T150000
DTEND;TZID=Europe/London:20180113T170000
SEQUENCE:0
TRANSP:OPAQUE
END:VEVENT
END:VCALENDAR