BEGIN:VCALENDAR
VERSION:2.0
PRODID:-//jEvents 2.0 for Joomla//EN
CALSCALE:GREGORIAN
METHOD:PUBLISH
BEGIN:VTIMEZONE
TZID:Europe/London
BEGIN:STANDARD
DTSTART:20251026T010000
RDATE:20260329T020000
TZOFFSETFROM:+0100
TZOFFSETTO:+0000
TZNAME:Europe/London GMT
END:STANDARD
BEGIN:STANDARD
DTSTART:20261025T010000
RDATE:20270328T020000
TZOFFSETFROM:+0100
TZOFFSETTO:+0000
TZNAME:Europe/London GMT
END:STANDARD
BEGIN:STANDARD
DTSTART:20271031T010000
RDATE:20280326T020000
TZOFFSETFROM:+0100
TZOFFSETTO:+0000
TZNAME:Europe/London GMT
END:STANDARD
BEGIN:STANDARD
DTSTART:20281029T010000
RDATE:20290325T020000
TZOFFSETFROM:+0100
TZOFFSETTO:+0000
TZNAME:Europe/London GMT
END:STANDARD
BEGIN:STANDARD
DTSTART:20291028T010000
RDATE:20300331T020000
TZOFFSETFROM:+0100
TZOFFSETTO:+0000
TZNAME:Europe/London GMT
END:STANDARD
BEGIN:STANDARD
DTSTART:20301027T010000
RDATE:20310330T020000
TZOFFSETFROM:+0100
TZOFFSETTO:+0000
TZNAME:Europe/London GMT
END:STANDARD
BEGIN:DAYLIGHT
DTSTART:20250612T000000
RDATE:20251026T010000
TZOFFSETFROM:+0000
TZOFFSETTO:+0100
TZNAME:Europe/London BST
END:DAYLIGHT
BEGIN:DAYLIGHT
DTSTART:20260329T020000
RDATE:20261025T010000
TZOFFSETFROM:+0000
TZOFFSETTO:+0100
TZNAME:Europe/London BST
END:DAYLIGHT
BEGIN:DAYLIGHT
DTSTART:20270328T020000
RDATE:20271031T010000
TZOFFSETFROM:+0000
TZOFFSETTO:+0100
TZNAME:Europe/London BST
END:DAYLIGHT
BEGIN:DAYLIGHT
DTSTART:20280326T020000
RDATE:20281029T010000
TZOFFSETFROM:+0000
TZOFFSETTO:+0100
TZNAME:Europe/London BST
END:DAYLIGHT
BEGIN:DAYLIGHT
DTSTART:20290325T020000
RDATE:20291028T010000
TZOFFSETFROM:+0000
TZOFFSETTO:+0100
TZNAME:Europe/London BST
END:DAYLIGHT
BEGIN:DAYLIGHT
DTSTART:20300331T020000
RDATE:20301027T010000
TZOFFSETFROM:+0000
TZOFFSETTO:+0100
TZNAME:Europe/London BST
END:DAYLIGHT
END:VTIMEZONE
BEGIN:VEVENT
UID:337d4d1067a4eb96afe88bb89cf11f7d
CATEGORIES:West
CREATED:20260414T121759
SUMMARY:Ring and a  Circular  Walk or a Circular Walk and Ring!
LOCATION:To be confirmed.
URL;VALUE=URI:https://www.scacr.org/news-events/calendar/1635/ring-and-a-circular-walk-or
 -a-circular-walk-and-ring?tmpl=component
DESCRIPTION:A date for your diary - a circular walk with some ringing!  Venue and times
  to be confirmed so watch this space!\n This event was imported from: https
 ://www.scacr.org/news-events/calendar/1635/ring-and-a-circular-walk-or-a-ci
 rcular-walk-and-ring?tmpl=component (https://www.scacr.org/news-events/cale
 ndar/1635/ring-and-a-circular-walk-or-a-circular-walk-and-ring?tmpl=compone
 nt)
X-ALT-DESC;FMTTYPE=text/html:<p>A date for your diary - a circular walk with some ringing!&nbsp; Venue a
 nd times to be confirmed so watch this space!</p> <a href="https://www.scac
 r.org/news-events/calendar/1635/ring-and-a-circular-walk-or-a-circular-walk
 -and-ring?tmpl=component">This event was imported from: https://www.scacr.o
 rg/news-events/calendar/1635/ring-and-a-circular-walk-or-a-circular-walk-an
 d-ring?tmpl=component</a>CONTACT:This email address is being protected from spambots. You need JavaScript enabled to view it.
				document.getElementById('cloak13df204b0397d01ee08225398929e718').innerHTML = '';
				var prefix = '&#109;a' + 'i&#108;' + '&#116;o';
				var path = 'hr' + 'ef' + '=';
				var addy13df204b0397d01ee08225398929e718 = 's&#101;c-w&#101;st' + '&#64;';
				addy13df204b0397d01ee08225398929e718 = addy13df204b0397d01ee08225398929e718 + 'sc&#97;cr' + '&#46;' + '&#111;rg';
				var addy_text13df204b0397d01ee08225398929e718 = 's&#101;c-w&#101;st' + '&#64;' + 'sc&#97;cr' + '&#46;' + '&#111;rg';document.getElementById('cloak13df204b0397d01ee08225398929e718').innerHTML += '<a ' + path + '\'' + prefix + ':' + addy13df204b0397d01ee08225398929e718 + '\'>'+addy_text13df204b0397d01ee08225398929e718+'';
		  or 07890804339
DTSTAMP:20260422T181357
DTSTART;TZID=Europe/London;VALUE=DATE:20260613
DTEND;TZID=Europe/London;VALUE=DATE:20260614
SEQUENCE:0
TRANSP:OPAQUE
END:VEVENT
END:VCALENDAR