BEGIN:VCALENDAR
VERSION:2.0
PRODID:-//jEvents 2.0 for Joomla//EN
CALSCALE:GREGORIAN
METHOD:PUBLISH
BEGIN:VTIMEZONE
TZID:Europe/London
BEGIN:STANDARD
DTSTART:20251026T010000
RDATE:20260329T020000
TZOFFSETFROM:+0100
TZOFFSETTO:+0000
TZNAME:Europe/London GMT
END:STANDARD
BEGIN:STANDARD
DTSTART:20261025T010000
RDATE:20270328T020000
TZOFFSETFROM:+0100
TZOFFSETTO:+0000
TZNAME:Europe/London GMT
END:STANDARD
BEGIN:STANDARD
DTSTART:20271031T010000
RDATE:20280326T020000
TZOFFSETFROM:+0100
TZOFFSETTO:+0000
TZNAME:Europe/London GMT
END:STANDARD
BEGIN:STANDARD
DTSTART:20281029T010000
RDATE:20290325T020000
TZOFFSETFROM:+0100
TZOFFSETTO:+0000
TZNAME:Europe/London GMT
END:STANDARD
BEGIN:STANDARD
DTSTART:20291028T010000
RDATE:20300331T020000
TZOFFSETFROM:+0100
TZOFFSETTO:+0000
TZNAME:Europe/London GMT
END:STANDARD
BEGIN:STANDARD
DTSTART:20301027T010000
RDATE:20310330T020000
TZOFFSETFROM:+0100
TZOFFSETTO:+0000
TZNAME:Europe/London GMT
END:STANDARD
BEGIN:DAYLIGHT
DTSTART:20250503T193000
RDATE:20251026T010000
TZOFFSETFROM:+0000
TZOFFSETTO:+0100
TZNAME:Europe/London BST
END:DAYLIGHT
BEGIN:DAYLIGHT
DTSTART:20260329T020000
RDATE:20261025T010000
TZOFFSETFROM:+0000
TZOFFSETTO:+0100
TZNAME:Europe/London BST
END:DAYLIGHT
BEGIN:DAYLIGHT
DTSTART:20270328T020000
RDATE:20271031T010000
TZOFFSETFROM:+0000
TZOFFSETTO:+0100
TZNAME:Europe/London BST
END:DAYLIGHT
BEGIN:DAYLIGHT
DTSTART:20280326T020000
RDATE:20281029T010000
TZOFFSETFROM:+0000
TZOFFSETTO:+0100
TZNAME:Europe/London BST
END:DAYLIGHT
BEGIN:DAYLIGHT
DTSTART:20290325T020000
RDATE:20291028T010000
TZOFFSETFROM:+0000
TZOFFSETTO:+0100
TZNAME:Europe/London BST
END:DAYLIGHT
BEGIN:DAYLIGHT
DTSTART:20300331T020000
RDATE:20301027T010000
TZOFFSETFROM:+0000
TZOFFSETTO:+0100
TZNAME:Europe/London BST
END:DAYLIGHT
END:VTIMEZONE
BEGIN:VEVENT
UID:b7c4d03729bbe378d793b847a6216e22
CATEGORIES:North
CREATED:20260414T091017
SUMMARY:ND Advanced (Surprise Major) Practice
LOCATION:Rudgwick\, Holy Trinity
URL;VALUE=URI:https://www.scacr.org/news-events/calendar/1634/nd-advanced-surprise-major-
 practice?tmpl=component
DESCRIPTION:Join us at Rudgwick, Holy Trinity from 7.30pm - 9.00pm on Monday 4th May fo
 r the next installment of the Northern District advanced practice!\nThese p
 ractices are held on the first Monday of each month across various towers i
 n the district, and will focus on repertoire across the Core 7 group of sur
 prise major methods, alongside ad-hoc requests across the Standard 8 where 
 available. Stedman Triples will also be used for striking practice. \nIf yo
 u would like to come along, please reach out to David Perkins at This email
  address is being protected from spambots. You need JavaScript enabled to v
 iew it.
				document.getElementById('cloak70e3e649f589ed3b9941ebef1afc9223'
 ).innerHTML = '';
				var prefix = '&#109;a' + 'i&#108;' + '&#116;o';
				v
 ar path = 'hr' + 'ef' + '=';
				var addy70e3e649f589ed3b9941ebef1afc9223 =
  'd&#97;v&#105;dp&#101;rk&#105;ns2010' + '&#64;';
				addy70e3e649f589ed3b9
 941ebef1afc9223 = addy70e3e649f589ed3b9941ebef1afc9223 + 'h&#111;tm&#97;&#1
 05;l' + '&#46;' + 'c&#111;' + '&#46;' + '&#117;k';
				var addy_text70e3e64
 9f589ed3b9941ebef1afc9223 = 'd&#97;v&#105;dp&#101;rk&#105;ns2010' + '&#64;'
  + 'h&#111;tm&#97;&#105;l' + '&#46;' + 'c&#111;' + '&#46;' + '&#117;k';docu
 ment.getElementById('cloak70e3e649f589ed3b9941ebef1afc9223').innerHTML += '
 <a ' + path + '\'' + prefix + ':' + addy70e3e649f589ed3b9941ebef1afc9223 + 
 '\'>'+addy_text70e3e649f589ed3b9941ebef1afc9223+'';
		 to let him know, alo
 ng with any method requests! We look forward to seeing you there!\n\n\n Thi
 s event was imported from: https://www.scacr.org/news-events/calendar/1634/
 nd-advanced-surprise-major-practice?tmpl=component (https://www.scacr.org/n
 ews-events/calendar/1634/nd-advanced-surprise-major-practice?tmpl=component
 )
X-ALT-DESC;FMTTYPE=text/html:<p><span data-removefontsize="true" data-originalcomputedfontsize="16">Join
  us at&nbsp;<strong><span data-removefontsize="true" data-originalcomputedf
 ontsize="16">Rudgwick, Holy Trinity</span>&nbsp;</strong>from&nbsp;<strong>
 7.30pm - 9.00pm</strong>&nbsp;on&nbsp;<strong data-removefontsize="true" da
 ta-originalcomputedfontsize="16">Monday 4th May</strong>&nbsp;for the next 
 installment of the Northern District advanced practice!</span></p><p><span 
 data-removefontsize="true" data-originalcomputedfontsize="16">These practic
 es are held on the first Monday of each month across various towers in the 
 district, and will focus on repertoire across the Core 7 group of surprise 
 major methods, alongside ad-hoc requests across the Standard 8 where availa
 ble. Stedman Triples will also be used for striking practice.&nbsp;</span><
 /p><p><span data-removefontsize="true" data-originalcomputedfontsize="16">I
 f you would like to come along, please reach out to David Perkins at&nbsp;<
 span id="m_5376621554009946108m_1764095929491275741gmail-cloakff7fa596bf3e3
 183042491d06b158f7d"><span id="cloak398aa1ed4393a16a51d94ca45cf0a565"><span
  id="cloak70e3e649f589ed3b9941ebef1afc9223">This email address is being pro
 tected from spambots. You need JavaScript enabled to view it.</span><script
  type='text/javascript'>
				document.getElementById('cloak70e3e649f589ed3b
 9941ebef1afc9223').innerHTML = '';
				var prefix = '&#109;a' + 'i&#108;' +
  '&#116;o';
				var path = 'hr' + 'ef' + '=';
				var addy70e3e649f589ed3b9
 941ebef1afc9223 = 'd&#97;v&#105;dp&#101;rk&#105;ns2010' + '&#64;';
				addy
 70e3e649f589ed3b9941ebef1afc9223 = addy70e3e649f589ed3b9941ebef1afc9223 + '
 h&#111;tm&#97;&#105;l' + '&#46;' + 'c&#111;' + '&#46;' + '&#117;k';
				var
  addy_text70e3e649f589ed3b9941ebef1afc9223 = 'd&#97;v&#105;dp&#101;rk&#105;
 ns2010' + '&#64;' + 'h&#111;tm&#97;&#105;l' + '&#46;' + 'c&#111;' + '&#46;'
  + '&#117;k';document.getElementById('cloak70e3e649f589ed3b9941ebef1afc9223
 ').innerHTML += '<a ' + path + '\'' + prefix + ':' + addy70e3e649f589ed3b99
 41ebef1afc9223 + '\'>'+addy_text70e3e649f589ed3b9941ebef1afc9223+'<\/a>';
	
 	</script></span></span>&nbsp;to let him know, along with any method reques
 ts!&nbsp;</span><span data-removefontsize="true" data-originalcomputedfonts
 ize="16">We look forward to seeing you there!</span></p><p><br /><span data
 -removefontsize="true" data-originalcomputedfontsize="16"></span></p> <a hr
 ef="https://www.scacr.org/news-events/calendar/1634/nd-advanced-surprise-ma
 jor-practice?tmpl=component">This event was imported from: https://www.scac
 r.org/news-events/calendar/1634/nd-advanced-surprise-major-practice?tmpl=co
 mponent</a>CONTACT:This email address is being protected from spambots. You need JavaScript enabled to view it.
				document.getElementById('cloak469abf3de3d4e83a8a1b7e9c550a8e1b').innerHTML = '';
				var prefix = '&#109;a' + 'i&#108;' + '&#116;o';
				var path = 'hr' + 'ef' + '=';
				var addy469abf3de3d4e83a8a1b7e9c550a8e1b = 'd&#97;v&#105;dp&#101;rk&#105;ns2010' + '&#64;';
				addy469abf3de3d4e83a8a1b7e9c550a8e1b = addy469abf3de3d4e83a8a1b7e9c550a8e1b + 'h&#111;tm&#97;&#105;l' + '&#46;' + 'c&#111;' + '&#46;' + '&#117;k';
				var addy_text469abf3de3d4e83a8a1b7e9c550a8e1b = 'd&#97;v&#105;dp&#101;rk&#105;ns2010' + '&#64;' + 'h&#111;tm&#97;&#105;l' + '&#46;' + 'c&#111;' + '&#46;' + '&#117;k';document.getElementById('cloak469abf3de3d4e83a8a1b7e9c550a8e1b').innerHTML += '<a ' + path + '\'' + prefix + ':' + addy469abf3de3d4e83a8a1b7e9c550a8e1b + '\'>'+addy_text469abf3de3d4e83a8a1b7e9c550a8e1b+'';
		
DTSTAMP:20260422T181357
DTSTART;TZID=Europe/London:20260504T193000
DTEND;TZID=Europe/London:20260504T210000
SEQUENCE:0
TRANSP:OPAQUE
END:VEVENT
END:VCALENDAR