BEGIN:VCALENDAR
VERSION:2.0
PRODID:-//jEvents 2.0 for Joomla//EN
CALSCALE:GREGORIAN
METHOD:PUBLISH
BEGIN:VTIMEZONE
TZID:Europe/London
BEGIN:STANDARD
DTSTART:20251026T010000
RDATE:20260329T020000
TZOFFSETFROM:+0100
TZOFFSETTO:+0000
TZNAME:Europe/London GMT
END:STANDARD
BEGIN:STANDARD
DTSTART:20261025T010000
RDATE:20270328T020000
TZOFFSETFROM:+0100
TZOFFSETTO:+0000
TZNAME:Europe/London GMT
END:STANDARD
BEGIN:STANDARD
DTSTART:20271031T010000
RDATE:20280326T020000
TZOFFSETFROM:+0100
TZOFFSETTO:+0000
TZNAME:Europe/London GMT
END:STANDARD
BEGIN:STANDARD
DTSTART:20281029T010000
RDATE:20290325T020000
TZOFFSETFROM:+0100
TZOFFSETTO:+0000
TZNAME:Europe/London GMT
END:STANDARD
BEGIN:STANDARD
DTSTART:20291028T010000
RDATE:20300331T020000
TZOFFSETFROM:+0100
TZOFFSETTO:+0000
TZNAME:Europe/London GMT
END:STANDARD
BEGIN:STANDARD
DTSTART:20301027T010000
RDATE:20310330T020000
TZOFFSETFROM:+0100
TZOFFSETTO:+0000
TZNAME:Europe/London GMT
END:STANDARD
BEGIN:DAYLIGHT
DTSTART:20250626T101500
RDATE:20251026T010000
TZOFFSETFROM:+0000
TZOFFSETTO:+0100
TZNAME:Europe/London BST
END:DAYLIGHT
BEGIN:DAYLIGHT
DTSTART:20260329T020000
RDATE:20261025T010000
TZOFFSETFROM:+0000
TZOFFSETTO:+0100
TZNAME:Europe/London BST
END:DAYLIGHT
BEGIN:DAYLIGHT
DTSTART:20270328T020000
RDATE:20271031T010000
TZOFFSETFROM:+0000
TZOFFSETTO:+0100
TZNAME:Europe/London BST
END:DAYLIGHT
BEGIN:DAYLIGHT
DTSTART:20280326T020000
RDATE:20281029T010000
TZOFFSETFROM:+0000
TZOFFSETTO:+0100
TZNAME:Europe/London BST
END:DAYLIGHT
BEGIN:DAYLIGHT
DTSTART:20290325T020000
RDATE:20291028T010000
TZOFFSETFROM:+0000
TZOFFSETTO:+0100
TZNAME:Europe/London BST
END:DAYLIGHT
BEGIN:DAYLIGHT
DTSTART:20300331T020000
RDATE:20301027T010000
TZOFFSETFROM:+0000
TZOFFSETTO:+0100
TZNAME:Europe/London BST
END:DAYLIGHT
END:VTIMEZONE
BEGIN:VEVENT
UID:d440f25481b41625dd896aeaa5bfc0fd
CATEGORIES:West
CREATED:20260413T161829
SUMMARY:Surprise Minor Practice
LOCATION:St Mary's Church\, Walberton
URL;VALUE=URI:https://www.scacr.org/news-events/calendar/1632/surprise-minor-practice?tmp
 l=component
DESCRIPTION:<p>This is a regular monthly event giving ringers the opportunity to ring&n
 bsp; methods such as Plain courses and touches of Cambridge and Norwich and
  Plain courses of Beverley, London, Carlisle and Pure Treble Bob Hunt!!&nbs
 p; &nbsp;Refreshments are provided.&nbsp; Please contact <span id="cloak0c5
 72af72480cde5ceb0d7f2388acc14">This email address is being protected from s
 pambots. You need JavaScript enabled to view it.</span><script type='text/j
 avascript'>
				document.getElementById('cloak0c572af72480cde5ceb0d7f2388ac
 c14').innerHTML = '';
				var prefix = '&#109;a' + 'i&#108;' + '&#116;o';
	
 			var path = 'hr' + 'ef' + '=';
				var addy0c572af72480cde5ceb0d7f2388acc
 14 = 's&#101;c-w&#101;st' + '&#64;';
				addy0c572af72480cde5ceb0d7f2388acc
 14 = addy0c572af72480cde5ceb0d7f2388acc14 + 'sc&#97;cr' + '&#46;' + '&#111;
 rg';
				var addy_text0c572af72480cde5ceb0d7f2388acc14 = 's&#101;c-w&#101;s
 t' + '&#64;' + 'sc&#97;cr' + '&#46;' + '&#111;rg';document.getElementById('
 cloak0c572af72480cde5ceb0d7f2388acc14').innerHTML += '<a ' + path + '\'' + 
 prefix + ':' + addy0c572af72480cde5ceb0d7f2388acc14 + '\'>'+addy_text0c572a
 f72480cde5ceb0d7f2388acc14+'<\/a>';
		</script>&nbsp;if you would like refr
 eshments.</p><p>This month the plan is to ring Plain coures&nbsp; and touch
 es of Cambridge, and London.&nbsp; Beverley is also on the cards along with
  Bourne and Annabels London!</p> <a href="https://www.scacr.org/news-events
 /calendar/1632/surprise-minor-practice?tmpl=component">This event was impor
 ted from: https://www.scacr.org/news-events/calendar/1632/surprise-minor-pr
 actice?tmpl=component</a>CONTACT:This email address is being protected from spambots. You need JavaScript enabled to view it.
				document.getElementById('cloak7dc059c047333d1f3c925c96a96029df').innerHTML = '';
				var prefix = '&#109;a' + 'i&#108;' + '&#116;o';
				var path = 'hr' + 'ef' + '=';
				var addy7dc059c047333d1f3c925c96a96029df = 's&#101;c-w&#101;st' + '&#64;';
				addy7dc059c047333d1f3c925c96a96029df = addy7dc059c047333d1f3c925c96a96029df + 'sc&#97;cr' + '&#46;' + '&#111;rg';
				var addy_text7dc059c047333d1f3c925c96a96029df = 's&#101;c-w&#101;st' + '&#64;' + 'sc&#97;cr' + '&#46;' + '&#111;rg';document.getElementById('cloak7dc059c047333d1f3c925c96a96029df').innerHTML += '<a ' + path + '\'' + prefix + ':' + addy7dc059c047333d1f3c925c96a96029df + '\'>'+addy_text7dc059c047333d1f3c925c96a96029df+'';
		
DTSTAMP:20260422T181357
DTSTART;TZID=Europe/London:20260627T101500
DTEND;TZID=Europe/London:20260627T120000
SEQUENCE:0
TRANSP:OPAQUE
END:VEVENT
END:VCALENDAR