BEGIN:VCALENDAR
VERSION:2.0
PRODID:-//jEvents 2.0 for Joomla//EN
CALSCALE:GREGORIAN
METHOD:PUBLISH
BEGIN:VTIMEZONE
TZID:Europe/London
BEGIN:STANDARD
DTSTART:20251026T010000
RDATE:20260329T020000
TZOFFSETFROM:+0100
TZOFFSETTO:+0000
TZNAME:Europe/London GMT
END:STANDARD
BEGIN:STANDARD
DTSTART:20261025T010000
RDATE:20270328T020000
TZOFFSETFROM:+0100
TZOFFSETTO:+0000
TZNAME:Europe/London GMT
END:STANDARD
BEGIN:STANDARD
DTSTART:20271031T010000
RDATE:20280326T020000
TZOFFSETFROM:+0100
TZOFFSETTO:+0000
TZNAME:Europe/London GMT
END:STANDARD
BEGIN:STANDARD
DTSTART:20281029T010000
RDATE:20290325T020000
TZOFFSETFROM:+0100
TZOFFSETTO:+0000
TZNAME:Europe/London GMT
END:STANDARD
BEGIN:STANDARD
DTSTART:20291028T010000
RDATE:20300331T020000
TZOFFSETFROM:+0100
TZOFFSETTO:+0000
TZNAME:Europe/London GMT
END:STANDARD
BEGIN:STANDARD
DTSTART:20301027T010000
RDATE:20310330T020000
TZOFFSETFROM:+0100
TZOFFSETTO:+0000
TZNAME:Europe/London GMT
END:STANDARD
BEGIN:DAYLIGHT
DTSTART:20250522T101500
RDATE:20251026T010000
TZOFFSETFROM:+0000
TZOFFSETTO:+0100
TZNAME:Europe/London BST
END:DAYLIGHT
BEGIN:DAYLIGHT
DTSTART:20260329T020000
RDATE:20261025T010000
TZOFFSETFROM:+0000
TZOFFSETTO:+0100
TZNAME:Europe/London BST
END:DAYLIGHT
BEGIN:DAYLIGHT
DTSTART:20270328T020000
RDATE:20271031T010000
TZOFFSETFROM:+0000
TZOFFSETTO:+0100
TZNAME:Europe/London BST
END:DAYLIGHT
BEGIN:DAYLIGHT
DTSTART:20280326T020000
RDATE:20281029T010000
TZOFFSETFROM:+0000
TZOFFSETTO:+0100
TZNAME:Europe/London BST
END:DAYLIGHT
BEGIN:DAYLIGHT
DTSTART:20290325T020000
RDATE:20291028T010000
TZOFFSETFROM:+0000
TZOFFSETTO:+0100
TZNAME:Europe/London BST
END:DAYLIGHT
BEGIN:DAYLIGHT
DTSTART:20300331T020000
RDATE:20301027T010000
TZOFFSETFROM:+0000
TZOFFSETTO:+0100
TZNAME:Europe/London BST
END:DAYLIGHT
END:VTIMEZONE
BEGIN:VEVENT
UID:8242f1951e2b6859c15d997751a372d0
CATEGORIES:West
CREATED:20260413T161753
SUMMARY:Surprise Minor Practice
LOCATION:St Mary's Church\, Walberton
URL;VALUE=URI:https://www.scacr.org/news-events/calendar/1631/surprise-minor-practice?tmp
 l=component
DESCRIPTION:<p>This is a regular monthly event giving ringers the opportunity to ring&n
 bsp; methods such as Plain courses and touches of Cambridge and Norwich and
  Plain courses of Beverley, London, Carlisle and Pure Treble Bob Hunt!!&nbs
 p; &nbsp;Refreshments are provided.&nbsp; Please contact <span id="cloak9ec
 143fd4ed1912fdbe10f91926e9fd6">This email address is being protected from s
 pambots. You need JavaScript enabled to view it.</span><script type='text/j
 avascript'>
				document.getElementById('cloak9ec143fd4ed1912fdbe10f91926e9
 fd6').innerHTML = '';
				var prefix = '&#109;a' + 'i&#108;' + '&#116;o';
	
 			var path = 'hr' + 'ef' + '=';
				var addy9ec143fd4ed1912fdbe10f91926e9f
 d6 = 's&#101;c-w&#101;st' + '&#64;';
				addy9ec143fd4ed1912fdbe10f91926e9f
 d6 = addy9ec143fd4ed1912fdbe10f91926e9fd6 + 'sc&#97;cr' + '&#46;' + '&#111;
 rg';
				var addy_text9ec143fd4ed1912fdbe10f91926e9fd6 = 's&#101;c-w&#101;s
 t' + '&#64;' + 'sc&#97;cr' + '&#46;' + '&#111;rg';document.getElementById('
 cloak9ec143fd4ed1912fdbe10f91926e9fd6').innerHTML += '<a ' + path + '\'' + 
 prefix + ':' + addy9ec143fd4ed1912fdbe10f91926e9fd6 + '\'>'+addy_text9ec143
 fd4ed1912fdbe10f91926e9fd6+'<\/a>';
		</script>&nbsp;if you would like refr
 eshments.</p><p>This month the plan is to ring Plain coures&nbsp; and touch
 es of Cambridge, and London.&nbsp; Beverley is also on the cards along with
  Bourne and Annabels London!</p> <a href="https://www.scacr.org/news-events
 /calendar/1631/surprise-minor-practice?tmpl=component">This event was impor
 ted from: https://www.scacr.org/news-events/calendar/1631/surprise-minor-pr
 actice?tmpl=component</a>CONTACT:This email address is being protected from spambots. You need JavaScript enabled to view it.
				document.getElementById('cloak06684e8b25261fb90e38d5035c482b82').innerHTML = '';
				var prefix = '&#109;a' + 'i&#108;' + '&#116;o';
				var path = 'hr' + 'ef' + '=';
				var addy06684e8b25261fb90e38d5035c482b82 = 's&#101;c-w&#101;st' + '&#64;';
				addy06684e8b25261fb90e38d5035c482b82 = addy06684e8b25261fb90e38d5035c482b82 + 'sc&#97;cr' + '&#46;' + '&#111;rg';
				var addy_text06684e8b25261fb90e38d5035c482b82 = 's&#101;c-w&#101;st' + '&#64;' + 'sc&#97;cr' + '&#46;' + '&#111;rg';document.getElementById('cloak06684e8b25261fb90e38d5035c482b82').innerHTML += '<a ' + path + '\'' + prefix + ':' + addy06684e8b25261fb90e38d5035c482b82 + '\'>'+addy_text06684e8b25261fb90e38d5035c482b82+'';
		
DTSTAMP:20260420T151715
DTSTART;TZID=Europe/London:20260523T101500
DTEND;TZID=Europe/London:20260523T120000
SEQUENCE:0
TRANSP:OPAQUE
END:VEVENT
END:VCALENDAR