BEGIN:VCALENDAR
VERSION:2.0
PRODID:-//jEvents 2.0 for Joomla//EN
CALSCALE:GREGORIAN
METHOD:PUBLISH
BEGIN:VTIMEZONE
TZID:Europe/London
BEGIN:STANDARD
DTSTART:20251026T010000
RDATE:20260329T020000
TZOFFSETFROM:+0100
TZOFFSETTO:+0000
TZNAME:Europe/London GMT
END:STANDARD
BEGIN:STANDARD
DTSTART:20261025T010000
RDATE:20270328T020000
TZOFFSETFROM:+0100
TZOFFSETTO:+0000
TZNAME:Europe/London GMT
END:STANDARD
BEGIN:STANDARD
DTSTART:20271031T010000
RDATE:20280326T020000
TZOFFSETFROM:+0100
TZOFFSETTO:+0000
TZNAME:Europe/London GMT
END:STANDARD
BEGIN:STANDARD
DTSTART:20281029T010000
RDATE:20290325T020000
TZOFFSETFROM:+0100
TZOFFSETTO:+0000
TZNAME:Europe/London GMT
END:STANDARD
BEGIN:STANDARD
DTSTART:20291028T010000
RDATE:20300331T020000
TZOFFSETFROM:+0100
TZOFFSETTO:+0000
TZNAME:Europe/London GMT
END:STANDARD
BEGIN:STANDARD
DTSTART:20301027T010000
RDATE:20310330T020000
TZOFFSETFROM:+0100
TZOFFSETTO:+0000
TZNAME:Europe/London GMT
END:STANDARD
BEGIN:DAYLIGHT
DTSTART:20250604T193000
RDATE:20251026T010000
TZOFFSETFROM:+0000
TZOFFSETTO:+0100
TZNAME:Europe/London BST
END:DAYLIGHT
BEGIN:DAYLIGHT
DTSTART:20260329T020000
RDATE:20261025T010000
TZOFFSETFROM:+0000
TZOFFSETTO:+0100
TZNAME:Europe/London BST
END:DAYLIGHT
BEGIN:DAYLIGHT
DTSTART:20270328T020000
RDATE:20271031T010000
TZOFFSETFROM:+0000
TZOFFSETTO:+0100
TZNAME:Europe/London BST
END:DAYLIGHT
BEGIN:DAYLIGHT
DTSTART:20280326T020000
RDATE:20281029T010000
TZOFFSETFROM:+0000
TZOFFSETTO:+0100
TZNAME:Europe/London BST
END:DAYLIGHT
BEGIN:DAYLIGHT
DTSTART:20290325T020000
RDATE:20291028T010000
TZOFFSETFROM:+0000
TZOFFSETTO:+0100
TZNAME:Europe/London BST
END:DAYLIGHT
BEGIN:DAYLIGHT
DTSTART:20300331T020000
RDATE:20301027T010000
TZOFFSETFROM:+0000
TZOFFSETTO:+0100
TZNAME:Europe/London BST
END:DAYLIGHT
END:VTIMEZONE
BEGIN:VEVENT
UID:a3345a4a5e41ea2716fc4875bb78e731
CATEGORIES:West
CREATED:20260413T161049
SUMMARY:General 8 Bell Practice
LOCATION:St Nicholas Church\, Arundel. 
URL;VALUE=URI:https://www.scacr.org/news-events/calendar/1626/general-8-bell-practice?tmp
 l=component
DESCRIPTION: Come along and enjoy ringing on this lovely ring of 8 bells in a picturesq
 ue setting!   All levels are welcome !!  A great opportunity if you normall
 y ring on 6 bells, to stretch the mind into counting up to 8!  Rounds, call
  changes, Plain Hunt, Grandsire and Bob Triples can be practiced so do come
  and give it a try!\nAny queries contact Janice on 07890804339 or e mail Th
 is email address is being protected from spambots. You need JavaScript enab
 led to view it.
				document.getElementById('cloakbe3806a6c2b6f2080d1137ebe
 24bf636').innerHTML = '';
				var prefix = '&#109;a' + 'i&#108;' + '&#116;o
 ';
				var path = 'hr' + 'ef' + '=';
				var addybe3806a6c2b6f2080d1137ebe2
 4bf636 = 's&#101;c-w&#101;st' + '&#64;';
				addybe3806a6c2b6f2080d1137ebe2
 4bf636 = addybe3806a6c2b6f2080d1137ebe24bf636 + 'sc&#97;cr' + '&#46;' + '&#
 111;rg';
				var addy_textbe3806a6c2b6f2080d1137ebe24bf636 = 's&#101;c-w&#1
 01;st' + '&#64;' + 'sc&#97;cr' + '&#46;' + '&#111;rg';document.getElementBy
 Id('cloakbe3806a6c2b6f2080d1137ebe24bf636').innerHTML += '<a ' + path + '\'
 ' + prefix + ':' + addybe3806a6c2b6f2080d1137ebe24bf636 + '\'>'+addy_textbe
 3806a6c2b6f2080d1137ebe24bf636+'';
		\n This event was imported from: https
 ://www.scacr.org/news-events/calendar/1626/general-8-bell-practice?tmpl=com
 ponent (https://www.scacr.org/news-events/calendar/1626/general-8-bell-prac
 tice?tmpl=component)
X-ALT-DESC;FMTTYPE=text/html:<p>&nbsp;Come along and enjoy ringing on this lovely ring of 8 bells in a p
 icturesque setting!&nbsp; &nbsp;All levels are welcome !!&nbsp; A great opp
 ortunity if you normally ring on 6 bells, to stretch the mind into counting
  up to 8!&nbsp; Rounds, call changes, Plain Hunt, Grandsire and Bob Triples
  can be practiced so do come and give it a try!</p><p>Any queries contact J
 anice on 07890804339 or e mail <span id="cloakbe3806a6c2b6f2080d1137ebe24bf
 636">This email address is being protected from spambots. You need JavaScri
 pt enabled to view it.</span><script type='text/javascript'>
				document.g
 etElementById('cloakbe3806a6c2b6f2080d1137ebe24bf636').innerHTML = '';
				
 var prefix = '&#109;a' + 'i&#108;' + '&#116;o';
				var path = 'hr' + 'ef' 
 + '=';
				var addybe3806a6c2b6f2080d1137ebe24bf636 = 's&#101;c-w&#101;st' 
 + '&#64;';
				addybe3806a6c2b6f2080d1137ebe24bf636 = addybe3806a6c2b6f2080
 d1137ebe24bf636 + 'sc&#97;cr' + '&#46;' + '&#111;rg';
				var addy_textbe38
 06a6c2b6f2080d1137ebe24bf636 = 's&#101;c-w&#101;st' + '&#64;' + 'sc&#97;cr'
  + '&#46;' + '&#111;rg';document.getElementById('cloakbe3806a6c2b6f2080d113
 7ebe24bf636').innerHTML += '<a ' + path + '\'' + prefix + ':' + addybe3806a
 6c2b6f2080d1137ebe24bf636 + '\'>'+addy_textbe3806a6c2b6f2080d1137ebe24bf636
 +'<\/a>';
		</script></p> <a href="https://www.scacr.org/news-events/calend
 ar/1626/general-8-bell-practice?tmpl=component">This event was imported fro
 m: https://www.scacr.org/news-events/calendar/1626/general-8-bell-practice?
 tmpl=component</a>CONTACT:This email address is being protected from spambots. You need JavaScript enabled to view it.
				document.getElementById('cloak8dd5def4dedeffae4ef41d99769912b2').innerHTML = '';
				var prefix = '&#109;a' + 'i&#108;' + '&#116;o';
				var path = 'hr' + 'ef' + '=';
				var addy8dd5def4dedeffae4ef41d99769912b2 = 's&#101;c-w&#101;st' + '&#64;';
				addy8dd5def4dedeffae4ef41d99769912b2 = addy8dd5def4dedeffae4ef41d99769912b2 + 'sc&#97;cr' + '&#46;' + '&#111;rg';
				var addy_text8dd5def4dedeffae4ef41d99769912b2 = 's&#101;c-w&#101;st' + '&#64;' + 'sc&#97;cr' + '&#46;' + '&#111;rg';document.getElementById('cloak8dd5def4dedeffae4ef41d99769912b2').innerHTML += '<a ' + path + '\'' + prefix + ':' + addy8dd5def4dedeffae4ef41d99769912b2 + '\'>'+addy_text8dd5def4dedeffae4ef41d99769912b2+'';
		
DTSTAMP:20260420T085936
DTSTART;TZID=Europe/London:20260605T193000
DTEND;TZID=Europe/London:20260605T210000
SEQUENCE:0
TRANSP:OPAQUE
END:VEVENT
END:VCALENDAR