BEGIN:VCALENDAR
VERSION:2.0
PRODID:-//jEvents 2.0 for Joomla//EN
CALSCALE:GREGORIAN
METHOD:PUBLISH
BEGIN:VTIMEZONE
TZID:Europe/London
BEGIN:STANDARD
DTSTART:20251026T010000
RDATE:20260329T020000
TZOFFSETFROM:+0100
TZOFFSETTO:+0000
TZNAME:Europe/London GMT
END:STANDARD
BEGIN:STANDARD
DTSTART:20261025T010000
RDATE:20270328T020000
TZOFFSETFROM:+0100
TZOFFSETTO:+0000
TZNAME:Europe/London GMT
END:STANDARD
BEGIN:STANDARD
DTSTART:20271031T010000
RDATE:20280326T020000
TZOFFSETFROM:+0100
TZOFFSETTO:+0000
TZNAME:Europe/London GMT
END:STANDARD
BEGIN:STANDARD
DTSTART:20281029T010000
RDATE:20290325T020000
TZOFFSETFROM:+0100
TZOFFSETTO:+0000
TZNAME:Europe/London GMT
END:STANDARD
BEGIN:STANDARD
DTSTART:20291028T010000
RDATE:20300331T020000
TZOFFSETFROM:+0100
TZOFFSETTO:+0000
TZNAME:Europe/London GMT
END:STANDARD
BEGIN:STANDARD
DTSTART:20301027T010000
RDATE:20310330T020000
TZOFFSETFROM:+0100
TZOFFSETTO:+0000
TZNAME:Europe/London GMT
END:STANDARD
BEGIN:DAYLIGHT
DTSTART:20250330T190000
RDATE:20251026T010000
TZOFFSETFROM:+0000
TZOFFSETTO:+0100
TZNAME:Europe/London BST
END:DAYLIGHT
BEGIN:DAYLIGHT
DTSTART:20260329T020000
RDATE:20261025T010000
TZOFFSETFROM:+0000
TZOFFSETTO:+0100
TZNAME:Europe/London BST
END:DAYLIGHT
BEGIN:DAYLIGHT
DTSTART:20270328T020000
RDATE:20271031T010000
TZOFFSETFROM:+0000
TZOFFSETTO:+0100
TZNAME:Europe/London BST
END:DAYLIGHT
BEGIN:DAYLIGHT
DTSTART:20280326T020000
RDATE:20281029T010000
TZOFFSETFROM:+0000
TZOFFSETTO:+0100
TZNAME:Europe/London BST
END:DAYLIGHT
BEGIN:DAYLIGHT
DTSTART:20290325T020000
RDATE:20291028T010000
TZOFFSETFROM:+0000
TZOFFSETTO:+0100
TZNAME:Europe/London BST
END:DAYLIGHT
BEGIN:DAYLIGHT
DTSTART:20300331T020000
RDATE:20301027T010000
TZOFFSETFROM:+0000
TZOFFSETTO:+0100
TZNAME:Europe/London BST
END:DAYLIGHT
END:VTIMEZONE
BEGIN:VEVENT
UID:06703e924dd7d965f3a501b3240c7e47
CATEGORIES:East
CREATED:20260303T121731
SUMMARY:Eastern District Quiz and Supper
LOCATION:Hailsham Civic Hall
URL;VALUE=URI:https://www.scacr.org/news-events/calendar/1617/eastern-district-quiz-and-s
 upper?tmpl=component
DESCRIPTION:Quiz and supper at Hailsham Civic Hall (by the Leisure Centre). \nDoors ope
 n 7:00 for 7:30 start - application forms have been sent out - contact Mari
 on (This email address is being protected from spambots. You need JavaScrip
 t enabled to view it.
				document.getElementById('cloak0ee96f0d9b03c3135c5
 1697b364c30aa').innerHTML = '';
				var prefix = '&#109;a' + 'i&#108;' + '&
 #116;o';
				var path = 'hr' + 'ef' + '=';
				var addy0ee96f0d9b03c3135c51
 697b364c30aa = 'Mch&#111;ll&#97;nds2' + '&#64;';
				addy0ee96f0d9b03c3135c
 51697b364c30aa = addy0ee96f0d9b03c3135c51697b364c30aa + 'bt&#105;nt&#101;rn
 &#101;t' + '&#46;' + 'c&#111;m';
				var addy_text0ee96f0d9b03c3135c51697b3
 64c30aa = 'Mch&#111;ll&#97;nds2' + '&#64;' + 'bt&#105;nt&#101;rn&#101;t' + 
 '&#46;' + 'c&#111;m';document.getElementById('cloak0ee96f0d9b03c3135c51697b
 364c30aa').innerHTML += '<a ' + path + '\'' + prefix + ':' + addy0ee96f0d9b
 03c3135c51697b364c30aa + '\'>'+addy_text0ee96f0d9b03c3135c51697b364c30aa+''
 ;
		) if you need one for your tower!\nAlthough most towers fall silent for
  Holy Week, this isn't an excuse to have a week off as once again the Easte
 rn District Quiz will be taking place at Hailsham Civic Hall on Tuesday 31s
 t March.\nAs usual the evening will feature questions in various rounds and
  will have a break midway for a fish and chip supper\n This event was impor
 ted from: https://www.scacr.org/news-events/calendar/1617/eastern-district-
 quiz-and-supper?tmpl=component (https://www.scacr.org/news-events/calendar/
 1617/eastern-district-quiz-and-supper?tmpl=component)
X-ALT-DESC;FMTTYPE=text/html:<p><strong>Quiz and supper at Hailsham Civic Hall (by the Leisure Centre). 
 </strong></p><p>Doors open 7:00 for 7:30 start - application forms have bee
 n sent out - contact Marion (<span id="cloak0ee96f0d9b03c3135c51697b364c30a
 a">This email address is being protected from spambots. You need JavaScript
  enabled to view it.</span><script type='text/javascript'>
				document.get
 ElementById('cloak0ee96f0d9b03c3135c51697b364c30aa').innerHTML = '';
				va
 r prefix = '&#109;a' + 'i&#108;' + '&#116;o';
				var path = 'hr' + 'ef' + 
 '=';
				var addy0ee96f0d9b03c3135c51697b364c30aa = 'Mch&#111;ll&#97;nds2' 
 + '&#64;';
				addy0ee96f0d9b03c3135c51697b364c30aa = addy0ee96f0d9b03c3135
 c51697b364c30aa + 'bt&#105;nt&#101;rn&#101;t' + '&#46;' + 'c&#111;m';
				v
 ar addy_text0ee96f0d9b03c3135c51697b364c30aa = 'Mch&#111;ll&#97;nds2' + '&#
 64;' + 'bt&#105;nt&#101;rn&#101;t' + '&#46;' + 'c&#111;m';document.getEleme
 ntById('cloak0ee96f0d9b03c3135c51697b364c30aa').innerHTML += '<a ' + path +
  '\'' + prefix + ':' + addy0ee96f0d9b03c3135c51697b364c30aa + '\'>'+addy_te
 xt0ee96f0d9b03c3135c51697b364c30aa+'<\/a>';
		</script>) if you need one fo
 r your tower!</p><p>Although most towers fall silent for Holy Week, this is
 n't an excuse to have a week off as once again the Eastern District Quiz wi
 ll be taking place at Hailsham Civic Hall on Tuesday 31st March.</p><p>As u
 sual the evening will feature questions in various rounds and will have a b
 reak midway for a fish and chip supper</p> <a href="https://www.scacr.org/n
 ews-events/calendar/1617/eastern-district-quiz-and-supper?tmpl=component">T
 his event was imported from: https://www.scacr.org/news-events/calendar/161
 7/eastern-district-quiz-and-supper?tmpl=component</a>CONTACT:This email address is being protected from spambots. You need JavaScript enabled to view it.
				document.getElementById('cloak547bda975e2a8d91cf11761e253baca7').innerHTML = '';
				var prefix = '&#109;a' + 'i&#108;' + '&#116;o';
				var path = 'hr' + 'ef' + '=';
				var addy547bda975e2a8d91cf11761e253baca7 = 's&#101;c-&#101;&#97;st' + '&#64;';
				addy547bda975e2a8d91cf11761e253baca7 = addy547bda975e2a8d91cf11761e253baca7 + 'sc&#97;cr' + '&#46;' + '&#111;rg';
				var addy_text547bda975e2a8d91cf11761e253baca7 = 's&#101;c-&#101;&#97;st' + '&#64;' + 'sc&#97;cr' + '&#46;' + '&#111;rg';document.getElementById('cloak547bda975e2a8d91cf11761e253baca7').innerHTML += '<a ' + path + '\'' + prefix + ':' + addy547bda975e2a8d91cf11761e253baca7 + '\'>'+addy_text547bda975e2a8d91cf11761e253baca7+'';
		
DTSTAMP:20260420T133323
DTSTART;TZID=Europe/London:20260331T190000
SEQUENCE:0
TRANSP:OPAQUE
END:VEVENT
END:VCALENDAR