BEGIN:VCALENDAR
VERSION:2.0
PRODID:-//jEvents 2.0 for Joomla//EN
CALSCALE:GREGORIAN
METHOD:PUBLISH
BEGIN:VTIMEZONE
TZID:Europe/London
BEGIN:STANDARD
DTSTART:20250327T090000
RDATE:20250330T020000
TZOFFSETFROM:+0100
TZOFFSETTO:+0000
TZNAME:Europe/London GMT
END:STANDARD
BEGIN:STANDARD
DTSTART:20251026T010000
RDATE:20260329T020000
TZOFFSETFROM:+0100
TZOFFSETTO:+0000
TZNAME:Europe/London GMT
END:STANDARD
BEGIN:STANDARD
DTSTART:20261025T010000
RDATE:20270328T020000
TZOFFSETFROM:+0100
TZOFFSETTO:+0000
TZNAME:Europe/London GMT
END:STANDARD
BEGIN:STANDARD
DTSTART:20271031T010000
RDATE:20280326T020000
TZOFFSETFROM:+0100
TZOFFSETTO:+0000
TZNAME:Europe/London GMT
END:STANDARD
BEGIN:STANDARD
DTSTART:20281029T010000
RDATE:20290325T020000
TZOFFSETFROM:+0100
TZOFFSETTO:+0000
TZNAME:Europe/London GMT
END:STANDARD
BEGIN:STANDARD
DTSTART:20291028T010000
RDATE:20300331T020000
TZOFFSETFROM:+0100
TZOFFSETTO:+0000
TZNAME:Europe/London GMT
END:STANDARD
BEGIN:STANDARD
DTSTART:20301027T010000
RDATE:20310330T020000
TZOFFSETFROM:+0100
TZOFFSETTO:+0000
TZNAME:Europe/London GMT
END:STANDARD
BEGIN:DAYLIGHT
DTSTART:20250330T020000
RDATE:20251026T010000
TZOFFSETFROM:+0000
TZOFFSETTO:+0100
TZNAME:Europe/London BST
END:DAYLIGHT
BEGIN:DAYLIGHT
DTSTART:20260329T020000
RDATE:20261025T010000
TZOFFSETFROM:+0000
TZOFFSETTO:+0100
TZNAME:Europe/London BST
END:DAYLIGHT
BEGIN:DAYLIGHT
DTSTART:20270328T020000
RDATE:20271031T010000
TZOFFSETFROM:+0000
TZOFFSETTO:+0100
TZNAME:Europe/London BST
END:DAYLIGHT
BEGIN:DAYLIGHT
DTSTART:20280326T020000
RDATE:20281029T010000
TZOFFSETFROM:+0000
TZOFFSETTO:+0100
TZNAME:Europe/London BST
END:DAYLIGHT
BEGIN:DAYLIGHT
DTSTART:20290325T020000
RDATE:20291028T010000
TZOFFSETFROM:+0000
TZOFFSETTO:+0100
TZNAME:Europe/London BST
END:DAYLIGHT
BEGIN:DAYLIGHT
DTSTART:20300331T020000
RDATE:20301027T010000
TZOFFSETFROM:+0000
TZOFFSETTO:+0100
TZNAME:Europe/London BST
END:DAYLIGHT
END:VTIMEZONE
BEGIN:VEVENT
UID:0c416eb2a1a891314b6b08dbc8cafeac
CATEGORIES:East
CREATED:20260303T121001
SUMMARY:Three Tower Practice
LOCATION:Warbleton\, Dallington\, Burwash
URL;VALUE=URI:https://www.scacr.org/news-events/calendar/1616/three-tower-practice?tmpl=c
 omponent
DESCRIPTION:Three tower outing at Warbleton, Dallington and Burwash.\n\n - 09:45-10:30 
 - Warbleton\n - 11:00-11:45 - Dallington\n - 12:15-13:15 -  BurwashFollowed
  by lunch at Batemans or a pub, for those who fancy it! There is also the o
 ption of a Lenten Lunch at Dallington at midday; if you'd like to have this
  and then join us at Burwash then please email Steve Pilfold so he can pass
  numbers on. More details nearer the time. This event was imported from: ht
 tps://www.scacr.org/news-events/calendar/1616/three-tower-practice?tmpl=com
 ponent (https://www.scacr.org/news-events/calendar/1616/three-tower-practic
 e?tmpl=component)
X-ALT-DESC;FMTTYPE=text/html:<p>Three tower outing at Warbleton, Dallington and Burwash.</p><ul><li>09:4
 5-10:30 - Warbleton</li><li>11:00-11:45 - Dallington</li><li>12:15-13:15 -&
 nbsp; Burwash</li></ul><div>Followed by lunch at Batemans or a pub, for tho
 se who fancy it!</div><div>&nbsp;</div><div>There is also the option of a L
 enten Lunch at Dallington at midday; if you'd like to have this and then jo
 in us at Burwash then please email Steve Pilfold so he can pass numbers on.
 </div><div>&nbsp;</div><div>More details nearer the time.</div> <a href="ht
 tps://www.scacr.org/news-events/calendar/1616/three-tower-practice?tmpl=com
 ponent">This event was imported from: https://www.scacr.org/news-events/cal
 endar/1616/three-tower-practice?tmpl=component</a>CONTACT:This email address is being protected from spambots. You need JavaScript enabled to view it.
				document.getElementById('cloakb873e69725be4873fc8674cdc0bd1570').innerHTML = '';
				var prefix = '&#109;a' + 'i&#108;' + '&#116;o';
				var path = 'hr' + 'ef' + '=';
				var addyb873e69725be4873fc8674cdc0bd1570 = 's&#101;c-&#101;&#97;st' + '&#64;';
				addyb873e69725be4873fc8674cdc0bd1570 = addyb873e69725be4873fc8674cdc0bd1570 + 'sc&#97;cr' + '&#46;' + '&#111;rg';
				var addy_textb873e69725be4873fc8674cdc0bd1570 = 's&#101;c-&#101;&#97;st' + '&#64;' + 'sc&#97;cr' + '&#46;' + '&#111;rg';document.getElementById('cloakb873e69725be4873fc8674cdc0bd1570').innerHTML += '<a ' + path + '\'' + prefix + ':' + addyb873e69725be4873fc8674cdc0bd1570 + '\'>'+addy_textb873e69725be4873fc8674cdc0bd1570+'';
		
DTSTAMP:20260421T222721
DTSTART;TZID=Europe/London:20260328T090000
DTEND;TZID=Europe/London:20260328T130000
SEQUENCE:0
TRANSP:OPAQUE
END:VEVENT
END:VCALENDAR