BEGIN:VCALENDAR
VERSION:2.0
PRODID:-//jEvents 2.0 for Joomla//EN
CALSCALE:GREGORIAN
METHOD:PUBLISH
BEGIN:VTIMEZONE
TZID:Europe/London
BEGIN:STANDARD
DTSTART:20250315T193000
RDATE:20250330T020000
TZOFFSETFROM:+0100
TZOFFSETTO:+0000
TZNAME:Europe/London GMT
END:STANDARD
BEGIN:STANDARD
DTSTART:20251026T010000
RDATE:20260329T020000
TZOFFSETFROM:+0100
TZOFFSETTO:+0000
TZNAME:Europe/London GMT
END:STANDARD
BEGIN:STANDARD
DTSTART:20261025T010000
RDATE:20270328T020000
TZOFFSETFROM:+0100
TZOFFSETTO:+0000
TZNAME:Europe/London GMT
END:STANDARD
BEGIN:STANDARD
DTSTART:20271031T010000
RDATE:20280326T020000
TZOFFSETFROM:+0100
TZOFFSETTO:+0000
TZNAME:Europe/London GMT
END:STANDARD
BEGIN:STANDARD
DTSTART:20281029T010000
RDATE:20290325T020000
TZOFFSETFROM:+0100
TZOFFSETTO:+0000
TZNAME:Europe/London GMT
END:STANDARD
BEGIN:STANDARD
DTSTART:20291028T010000
RDATE:20300331T020000
TZOFFSETFROM:+0100
TZOFFSETTO:+0000
TZNAME:Europe/London GMT
END:STANDARD
BEGIN:STANDARD
DTSTART:20301027T010000
RDATE:20310330T020000
TZOFFSETFROM:+0100
TZOFFSETTO:+0000
TZNAME:Europe/London GMT
END:STANDARD
BEGIN:DAYLIGHT
DTSTART:20250330T020000
RDATE:20251026T010000
TZOFFSETFROM:+0000
TZOFFSETTO:+0100
TZNAME:Europe/London BST
END:DAYLIGHT
BEGIN:DAYLIGHT
DTSTART:20260329T020000
RDATE:20261025T010000
TZOFFSETFROM:+0000
TZOFFSETTO:+0100
TZNAME:Europe/London BST
END:DAYLIGHT
BEGIN:DAYLIGHT
DTSTART:20270328T020000
RDATE:20271031T010000
TZOFFSETFROM:+0000
TZOFFSETTO:+0100
TZNAME:Europe/London BST
END:DAYLIGHT
BEGIN:DAYLIGHT
DTSTART:20280326T020000
RDATE:20281029T010000
TZOFFSETFROM:+0000
TZOFFSETTO:+0100
TZNAME:Europe/London BST
END:DAYLIGHT
BEGIN:DAYLIGHT
DTSTART:20290325T020000
RDATE:20291028T010000
TZOFFSETFROM:+0000
TZOFFSETTO:+0100
TZNAME:Europe/London BST
END:DAYLIGHT
BEGIN:DAYLIGHT
DTSTART:20300331T020000
RDATE:20301027T010000
TZOFFSETFROM:+0000
TZOFFSETTO:+0100
TZNAME:Europe/London BST
END:DAYLIGHT
END:VTIMEZONE
BEGIN:VEVENT
UID:5062dc163711fdb2390c161f29541f7f
CATEGORIES:North
CREATED:20260223T103450
SUMMARY:CANCELLED Moving on from Rounds! 
LOCATION:Rusper\, St. Mary Mag.
URL;VALUE=URI:https://www.scacr.org/news-events/calendar/1614/cancelled-moving-on-from-ro
 unds?tmpl=component
DESCRIPTION:CANCELLED.\nJoin us at Rusper, St. Mary Mag. on Monday 16th March from 7.30
 pm - 9.00pm for the first Northern District "Moving on from Rounds" session
 . \nThese new practices for the district, every third Monday of the month, 
 focus on those who are ringing rounds and call changes on practice night bu
 t would like to build confidence in placing their bell accurately, develop 
 rope sight and improve their listening skills. Suitable for anyone who can 
 ring and set their bell without help, there will also be a 'theory' session
  at each practice where any bell related questions can be explored. Steady 
 helpers are also required for this group , so please put your name down if 
 you could assist. If you would like to come along or can help, please reach
  out to Elaine at This email address is being protected from spambots. You 
 need JavaScript enabled to view it.
				document.getElementById('cloak2e10b
 f187aed8272e9626ec9969b1620').innerHTML = '';
				var prefix = '&#109;a' + 
 'i&#108;' + '&#116;o';
				var path = 'hr' + 'ef' + '=';
				var addy2e10bf
 187aed8272e9626ec9969b1620 = '&#101;l&#97;&#105;n&#101;14f&#97;rr&#111;w' +
  '&#64;';
				addy2e10bf187aed8272e9626ec9969b1620 = addy2e10bf187aed8272e9
 626ec9969b1620 + 'gm&#97;&#105;l' + '&#46;' + 'c&#111;m';
				var addy_text
 2e10bf187aed8272e9626ec9969b1620 = '&#101;l&#97;&#105;n&#101;14f&#97;rr&#11
 1;w' + '&#64;' + 'gm&#97;&#105;l' + '&#46;' + 'c&#111;m';document.getElemen
 tById('cloak2e10bf187aed8272e9626ec9969b1620').innerHTML += '<a ' + path + 
 '\'' + prefix + ':' + addy2e10bf187aed8272e9626ec9969b1620 + '\'>'+addy_tex
 t2e10bf187aed8272e9626ec9969b1620+'';
		 to sign up, along with what you wo
 uld like to achieve.  We look forward to seeing you there!  This event was 
 imported from: https://www.scacr.org/news-events/calendar/1614/cancelled-mo
 ving-on-from-rounds?tmpl=component (https://www.scacr.org/news-events/calen
 dar/1614/cancelled-moving-on-from-rounds?tmpl=component)
X-ALT-DESC;FMTTYPE=text/html:<p>CANCELLED.</p><p>Join us at <span style="text-decoration: underline;"><s
 trong>Rusper, St. Mary Mag.</strong></span>&nbsp;on&nbsp;<em><span style="t
 ext-decoration: underline;"></span></em><span style="text-decoration: under
 line;"><strong>Monday 16th March</strong></span>&nbsp;from <strong><span st
 yle="text-decoration: underline;">7.30pm - 9.00pm</span></strong><span styl
 e="text-decoration: underline;"></span>&nbsp;for the first Northern Distric
 t <em>"Moving on from Rounds"</em> session.&nbsp;</p><div dir="auto" data-r
 emovefontsize="true" data-originalcomputedfontsize="16">These new practices
  for the district, every third Monday of the month, focus on those who are 
 ringing rounds and call changes on practice night but would like to build c
 onfidence in placing their bell accurately, develop rope sight and improve 
 their listening skills. Suitable for anyone who can ring and set their bell
  without help, there will also be a 'theory' session at each practice where
  any bell related questions can be explored.</div><div dir="auto">&nbsp;</d
 iv><div dir="auto" data-removefontsize="true" data-originalcomputedfontsize
 ="16">Steady helpers are also required for this group , so please put your 
 name down if you could assist.</div><div>&nbsp;</div><div>If you would like
  to come along or can help, please reach out to Elaine at&nbsp;<span id="cl
 oak2e10bf187aed8272e9626ec9969b1620">This email address is being protected 
 from spambots. You need JavaScript enabled to view it.</span><script type='
 text/javascript'>
				document.getElementById('cloak2e10bf187aed8272e9626ec
 9969b1620').innerHTML = '';
				var prefix = '&#109;a' + 'i&#108;' + '&#116
 ;o';
				var path = 'hr' + 'ef' + '=';
				var addy2e10bf187aed8272e9626ec9
 969b1620 = '&#101;l&#97;&#105;n&#101;14f&#97;rr&#111;w' + '&#64;';
				addy
 2e10bf187aed8272e9626ec9969b1620 = addy2e10bf187aed8272e9626ec9969b1620 + '
 gm&#97;&#105;l' + '&#46;' + 'c&#111;m';
				var addy_text2e10bf187aed8272e9
 626ec9969b1620 = '&#101;l&#97;&#105;n&#101;14f&#97;rr&#111;w' + '&#64;' + '
 gm&#97;&#105;l' + '&#46;' + 'c&#111;m';document.getElementById('cloak2e10bf
 187aed8272e9626ec9969b1620').innerHTML += '<a ' + path + '\'' + prefix + ':
 ' + addy2e10bf187aed8272e9626ec9969b1620 + '\'>'+addy_text2e10bf187aed8272e
 9626ec9969b1620+'<\/a>';
		</script>&nbsp;to sign up, along with what you w
 ould like to achieve.&nbsp;</div><div>&nbsp;</div><div>We look forward to s
 eeing you there!&nbsp;</div> <a href="https://www.scacr.org/news-events/cal
 endar/1614/cancelled-moving-on-from-rounds?tmpl=component">This event was i
 mported from: https://www.scacr.org/news-events/calendar/1614/cancelled-mov
 ing-on-from-rounds?tmpl=component</a>CONTACT:Elaine Farrow - This email address is being protected from spambots. You need JavaScript enabled to view it.
				document.getElementById('cloakc9c2171fbae63130d994bad6e5e90a3b').innerHTML = '';
				var prefix = '&#109;a' + 'i&#108;' + '&#116;o';
				var path = 'hr' + 'ef' + '=';
				var addyc9c2171fbae63130d994bad6e5e90a3b = '&#101;l&#97;&#105;n&#101;14f&#97;rr&#111;w' + '&#64;';
				addyc9c2171fbae63130d994bad6e5e90a3b = addyc9c2171fbae63130d994bad6e5e90a3b + 'gm&#97;&#105;l' + '&#46;' + 'c&#111;m';
				var addy_textc9c2171fbae63130d994bad6e5e90a3b = '&#101;l&#97;&#105;n&#101;14f&#97;rr&#111;w' + '&#64;' + 'gm&#97;&#105;l' + '&#46;' + 'c&#111;m';document.getElementById('cloakc9c2171fbae63130d994bad6e5e90a3b').innerHTML += '<a ' + path + '\'' + prefix + ':' + addyc9c2171fbae63130d994bad6e5e90a3b + '\'>'+addy_textc9c2171fbae63130d994bad6e5e90a3b+'';
		
DTSTAMP:20260419T143550
DTSTART;TZID=Europe/London:20260316T193000
DTEND;TZID=Europe/London:20260316T210000
SEQUENCE:0
TRANSP:OPAQUE
END:VEVENT
END:VCALENDAR