BEGIN:VCALENDAR
VERSION:2.0
PRODID:-//jEvents 2.0 for Joomla//EN
CALSCALE:GREGORIAN
METHOD:PUBLISH
BEGIN:VTIMEZONE
TZID:Europe/London
BEGIN:STANDARD
DTSTART:20250213T100000
RDATE:20250330T020000
TZOFFSETFROM:+0100
TZOFFSETTO:+0000
TZNAME:Europe/London GMT
END:STANDARD
BEGIN:STANDARD
DTSTART:20251026T010000
RDATE:20260329T020000
TZOFFSETFROM:+0100
TZOFFSETTO:+0000
TZNAME:Europe/London GMT
END:STANDARD
BEGIN:STANDARD
DTSTART:20261025T010000
RDATE:20270328T020000
TZOFFSETFROM:+0100
TZOFFSETTO:+0000
TZNAME:Europe/London GMT
END:STANDARD
BEGIN:STANDARD
DTSTART:20271031T010000
RDATE:20280326T020000
TZOFFSETFROM:+0100
TZOFFSETTO:+0000
TZNAME:Europe/London GMT
END:STANDARD
BEGIN:STANDARD
DTSTART:20281029T010000
RDATE:20290325T020000
TZOFFSETFROM:+0100
TZOFFSETTO:+0000
TZNAME:Europe/London GMT
END:STANDARD
BEGIN:STANDARD
DTSTART:20291028T010000
RDATE:20300331T020000
TZOFFSETFROM:+0100
TZOFFSETTO:+0000
TZNAME:Europe/London GMT
END:STANDARD
BEGIN:STANDARD
DTSTART:20301027T010000
RDATE:20310330T020000
TZOFFSETFROM:+0100
TZOFFSETTO:+0000
TZNAME:Europe/London GMT
END:STANDARD
BEGIN:DAYLIGHT
DTSTART:20250330T020000
RDATE:20251026T010000
TZOFFSETFROM:+0000
TZOFFSETTO:+0100
TZNAME:Europe/London BST
END:DAYLIGHT
BEGIN:DAYLIGHT
DTSTART:20260329T020000
RDATE:20261025T010000
TZOFFSETFROM:+0000
TZOFFSETTO:+0100
TZNAME:Europe/London BST
END:DAYLIGHT
BEGIN:DAYLIGHT
DTSTART:20270328T020000
RDATE:20271031T010000
TZOFFSETFROM:+0000
TZOFFSETTO:+0100
TZNAME:Europe/London BST
END:DAYLIGHT
BEGIN:DAYLIGHT
DTSTART:20280326T020000
RDATE:20281029T010000
TZOFFSETFROM:+0000
TZOFFSETTO:+0100
TZNAME:Europe/London BST
END:DAYLIGHT
BEGIN:DAYLIGHT
DTSTART:20290325T020000
RDATE:20291028T010000
TZOFFSETFROM:+0000
TZOFFSETTO:+0100
TZNAME:Europe/London BST
END:DAYLIGHT
BEGIN:DAYLIGHT
DTSTART:20300331T020000
RDATE:20301027T010000
TZOFFSETFROM:+0000
TZOFFSETTO:+0100
TZNAME:Europe/London BST
END:DAYLIGHT
END:VTIMEZONE
BEGIN:VEVENT
UID:687cf03b5b9428f81cbaa7241bbec8fb
CATEGORIES:West
CREATED:20260212T155742
SUMMARY:Monthly Event - Rounds and Call Changes!
LOCATION:St Thomas a Becket Pagham/ St Richards\, Aldwick
URL;VALUE=URI:https://www.scacr.org/news-events/calendar/1607/monthly-event-rounds-and-ca
 ll-changes?tmpl=component
DESCRIPTION:Come along to have a practice and some rounds and call changes on 6 and 8 b
 ells and encourage your  mentor/teacher to come with you for support!   See
  attached poster for full details.    There will be tea and a cuppa at Pagh
 am.  For more details and to book yourcuppa and cake - contact This email a
 ddress is being protected from spambots. You need JavaScript enabled to vie
 w it.
				document.getElementById('cloakacb5f1d68b1fc91a68787e2b4c7a4445').
 innerHTML = '';
				var prefix = '&#109;a' + 'i&#108;' + '&#116;o';
				var
  path = 'hr' + 'ef' + '=';
				var addyacb5f1d68b1fc91a68787e2b4c7a4445 = '
 s&#101;c-w&#101;st' + '&#64;';
				addyacb5f1d68b1fc91a68787e2b4c7a4445 = a
 ddyacb5f1d68b1fc91a68787e2b4c7a4445 + 'sc&#97;cr' + '&#46;' + '&#111;rg';
	
 			var addy_textacb5f1d68b1fc91a68787e2b4c7a4445 = 's&#101;c-w&#101;st' + '
 &#64;' + 'sc&#97;cr' + '&#46;' + '&#111;rg';document.getElementById('cloaka
 cb5f1d68b1fc91a68787e2b4c7a4445').innerHTML += '<a ' + path + '\'' + prefix
  + ':' + addyacb5f1d68b1fc91a68787e2b4c7a4445 + '\'>'+addy_textacb5f1d68b1f
 c91a68787e2b4c7a4445+'';
		 or call Janice on  07890804339\n This event was
  imported from: https://www.scacr.org/news-events/calendar/1607/monthly-eve
 nt-rounds-and-call-changes?tmpl=component (https://www.scacr.org/news-event
 s/calendar/1607/monthly-event-rounds-and-call-changes?tmpl=component)
X-ALT-DESC;FMTTYPE=text/html:<p>Come along to have a practice and some rounds and call changes on 6 and 
 8 bells and encourage your&nbsp; mentor/teacher to come with you for suppor
 t!&nbsp; &nbsp;See attached poster for full details.&nbsp; &nbsp; There wil
 l be tea and a cuppa at Pagham.&nbsp; For more details and to book yourcupp
 a and cake - contact <span id="cloakacb5f1d68b1fc91a68787e2b4c7a4445">This 
 email address is being protected from spambots. You need JavaScript enabled
  to view it.</span><script type='text/javascript'>
				document.getElementB
 yId('cloakacb5f1d68b1fc91a68787e2b4c7a4445').innerHTML = '';
				var prefix
  = '&#109;a' + 'i&#108;' + '&#116;o';
				var path = 'hr' + 'ef' + '=';
			
 	var addyacb5f1d68b1fc91a68787e2b4c7a4445 = 's&#101;c-w&#101;st' + '&#64;';
 
				addyacb5f1d68b1fc91a68787e2b4c7a4445 = addyacb5f1d68b1fc91a68787e2b4c7
 a4445 + 'sc&#97;cr' + '&#46;' + '&#111;rg';
				var addy_textacb5f1d68b1fc9
 1a68787e2b4c7a4445 = 's&#101;c-w&#101;st' + '&#64;' + 'sc&#97;cr' + '&#46;'
  + '&#111;rg';document.getElementById('cloakacb5f1d68b1fc91a68787e2b4c7a444
 5').innerHTML += '<a ' + path + '\'' + prefix + ':' + addyacb5f1d68b1fc91a6
 8787e2b4c7a4445 + '\'>'+addy_textacb5f1d68b1fc91a68787e2b4c7a4445+'<\/a>';

 		</script> or call Janice on&nbsp; 07890804339</p> <a href="https://www.sc
 acr.org/news-events/calendar/1607/monthly-event-rounds-and-call-changes?tmp
 l=component">This event was imported from: https://www.scacr.org/news-event
 s/calendar/1607/monthly-event-rounds-and-call-changes?tmpl=component</a>CONTACT:This email address is being protected from spambots. You need JavaScript enabled to view it.
				document.getElementById('cloake5d8caa22ba1ec14c3aad076dfc0cb1e').innerHTML = '';
				var prefix = '&#109;a' + 'i&#108;' + '&#116;o';
				var path = 'hr' + 'ef' + '=';
				var addye5d8caa22ba1ec14c3aad076dfc0cb1e = 's&#101;c-w&#101;st' + '&#64;';
				addye5d8caa22ba1ec14c3aad076dfc0cb1e = addye5d8caa22ba1ec14c3aad076dfc0cb1e + 'sc&#97;cr' + '&#46;' + '&#111;rg';
				var addy_texte5d8caa22ba1ec14c3aad076dfc0cb1e = 's&#101;c-w&#101;st' + '&#64;' + 'sc&#97;cr' + '&#46;' + '&#111;rg';document.getElementById('cloake5d8caa22ba1ec14c3aad076dfc0cb1e').innerHTML += '<a ' + path + '\'' + prefix + ':' + addye5d8caa22ba1ec14c3aad076dfc0cb1e + '\'>'+addy_texte5d8caa22ba1ec14c3aad076dfc0cb1e+'';
		  or 07890804339
DTSTAMP:20260421T132814
DTSTART;TZID=Europe/London:20260214T100000
DTEND;TZID=Europe/London:20260214T133000
SEQUENCE:0
TRANSP:OPAQUE
END:VEVENT
END:VCALENDAR