BEGIN:VCALENDAR
VERSION:2.0
PRODID:-//jEvents 2.0 for Joomla//EN
CALSCALE:GREGORIAN
METHOD:PUBLISH
BEGIN:VTIMEZONE
TZID:Europe/London
BEGIN:STANDARD
DTSTART:20250225T193000
RDATE:20250330T020000
TZOFFSETFROM:+0100
TZOFFSETTO:+0000
TZNAME:Europe/London GMT
END:STANDARD
BEGIN:STANDARD
DTSTART:20251026T010000
RDATE:20260329T020000
TZOFFSETFROM:+0100
TZOFFSETTO:+0000
TZNAME:Europe/London GMT
END:STANDARD
BEGIN:STANDARD
DTSTART:20261025T010000
RDATE:20270328T020000
TZOFFSETFROM:+0100
TZOFFSETTO:+0000
TZNAME:Europe/London GMT
END:STANDARD
BEGIN:STANDARD
DTSTART:20271031T010000
RDATE:20280326T020000
TZOFFSETFROM:+0100
TZOFFSETTO:+0000
TZNAME:Europe/London GMT
END:STANDARD
BEGIN:STANDARD
DTSTART:20281029T010000
RDATE:20290325T020000
TZOFFSETFROM:+0100
TZOFFSETTO:+0000
TZNAME:Europe/London GMT
END:STANDARD
BEGIN:STANDARD
DTSTART:20291028T010000
RDATE:20300331T020000
TZOFFSETFROM:+0100
TZOFFSETTO:+0000
TZNAME:Europe/London GMT
END:STANDARD
BEGIN:STANDARD
DTSTART:20301027T010000
RDATE:20310330T020000
TZOFFSETFROM:+0100
TZOFFSETTO:+0000
TZNAME:Europe/London GMT
END:STANDARD
BEGIN:DAYLIGHT
DTSTART:20250330T020000
RDATE:20251026T010000
TZOFFSETFROM:+0000
TZOFFSETTO:+0100
TZNAME:Europe/London BST
END:DAYLIGHT
BEGIN:DAYLIGHT
DTSTART:20260329T020000
RDATE:20261025T010000
TZOFFSETFROM:+0000
TZOFFSETTO:+0100
TZNAME:Europe/London BST
END:DAYLIGHT
BEGIN:DAYLIGHT
DTSTART:20270328T020000
RDATE:20271031T010000
TZOFFSETFROM:+0000
TZOFFSETTO:+0100
TZNAME:Europe/London BST
END:DAYLIGHT
BEGIN:DAYLIGHT
DTSTART:20280326T020000
RDATE:20281029T010000
TZOFFSETFROM:+0000
TZOFFSETTO:+0100
TZNAME:Europe/London BST
END:DAYLIGHT
BEGIN:DAYLIGHT
DTSTART:20290325T020000
RDATE:20291028T010000
TZOFFSETFROM:+0000
TZOFFSETTO:+0100
TZNAME:Europe/London BST
END:DAYLIGHT
BEGIN:DAYLIGHT
DTSTART:20300331T020000
RDATE:20301027T010000
TZOFFSETFROM:+0000
TZOFFSETTO:+0100
TZNAME:Europe/London BST
END:DAYLIGHT
END:VTIMEZONE
BEGIN:VEVENT
UID:2e7400ddc877afc03a004cb9fb25c4d2
CATEGORIES:East
CREATED:20260205T123216
SUMMARY:Eastern District Triples Practice
LOCATION:Heathfield
URL;VALUE=URI:https://www.scacr.org/news-events/calendar/1592/eastern-district-triples-pr
 actice?tmpl=component
DESCRIPTION:<p><strong>Monthly triples practice at this spacious tower in the middle of
  the District.</strong></p><p><strong>We are currently ringing Grandsire, S
 tedman and Single Oxford Bob</strong></p><p>This event is ideal for:</p><ul
 ><li>those who can ring plain hunt or hunt the treble to methods on five be
 lls and want to take the next step with a larger number of bells</li><li>th
 ose who can ring methods on 5 and would like to try the equivalent on 7</li
 ><li>those who are competent on triples or major methods and principles but
  don't often get the opportunity to do so in their own tower.</li></ul><p>.
 ..and everything inbetween!</p><p>If you wish to be added to the WhatsApp g
 roup for this event, please contact Steve Pilfold on 07961 166069</p> <a hr
 ef="https://www.scacr.org/news-events/calendar/1592/eastern-district-triple
 s-practice?tmpl=component">This event was imported from: https://www.scacr.
 org/news-events/calendar/1592/eastern-district-triples-practice?tmpl=compon
 ent</a>CONTACT:This email address is being protected from spambots. You need JavaScript enabled to view it.
				document.getElementById('cloak36a189c05c8587cdfee9bc6f57065300').innerHTML = '';
				var prefix = '&#109;a' + 'i&#108;' + '&#116;o';
				var path = 'hr' + 'ef' + '=';
				var addy36a189c05c8587cdfee9bc6f57065300 = 's&#101;c-&#101;&#97;st' + '&#64;';
				addy36a189c05c8587cdfee9bc6f57065300 = addy36a189c05c8587cdfee9bc6f57065300 + 'sc&#97;cr' + '&#46;' + '&#111;rg';
				var addy_text36a189c05c8587cdfee9bc6f57065300 = 's&#101;c-&#101;&#97;st' + '&#64;' + 'sc&#97;cr' + '&#46;' + '&#111;rg';document.getElementById('cloak36a189c05c8587cdfee9bc6f57065300').innerHTML += '<a ' + path + '\'' + prefix + ':' + addy36a189c05c8587cdfee9bc6f57065300 + '\'>'+addy_text36a189c05c8587cdfee9bc6f57065300+'';
		
DTSTAMP:20260421T191120
DTSTART;TZID=Europe/London:20260226T193000
DTEND;TZID=Europe/London:20260226T210000
SEQUENCE:0
TRANSP:OPAQUE
END:VEVENT
END:VCALENDAR