BEGIN:VCALENDAR
VERSION:2.0
PRODID:-//jEvents 2.0 for Joomla//EN
CALSCALE:GREGORIAN
METHOD:PUBLISH
BEGIN:VTIMEZONE
TZID:Europe/London
BEGIN:STANDARD
DTSTART:20250218T103000
RDATE:20250330T020000
TZOFFSETFROM:+0100
TZOFFSETTO:+0000
TZNAME:Europe/London GMT
END:STANDARD
BEGIN:STANDARD
DTSTART:20251026T010000
RDATE:20260329T020000
TZOFFSETFROM:+0100
TZOFFSETTO:+0000
TZNAME:Europe/London GMT
END:STANDARD
BEGIN:STANDARD
DTSTART:20261025T010000
RDATE:20270328T020000
TZOFFSETFROM:+0100
TZOFFSETTO:+0000
TZNAME:Europe/London GMT
END:STANDARD
BEGIN:STANDARD
DTSTART:20271031T010000
RDATE:20280326T020000
TZOFFSETFROM:+0100
TZOFFSETTO:+0000
TZNAME:Europe/London GMT
END:STANDARD
BEGIN:STANDARD
DTSTART:20281029T010000
RDATE:20290325T020000
TZOFFSETFROM:+0100
TZOFFSETTO:+0000
TZNAME:Europe/London GMT
END:STANDARD
BEGIN:STANDARD
DTSTART:20291028T010000
RDATE:20300331T020000
TZOFFSETFROM:+0100
TZOFFSETTO:+0000
TZNAME:Europe/London GMT
END:STANDARD
BEGIN:STANDARD
DTSTART:20301027T010000
RDATE:20310330T020000
TZOFFSETFROM:+0100
TZOFFSETTO:+0000
TZNAME:Europe/London GMT
END:STANDARD
BEGIN:DAYLIGHT
DTSTART:20250330T020000
RDATE:20251026T010000
TZOFFSETFROM:+0000
TZOFFSETTO:+0100
TZNAME:Europe/London BST
END:DAYLIGHT
BEGIN:DAYLIGHT
DTSTART:20260329T020000
RDATE:20261025T010000
TZOFFSETFROM:+0000
TZOFFSETTO:+0100
TZNAME:Europe/London BST
END:DAYLIGHT
BEGIN:DAYLIGHT
DTSTART:20270328T020000
RDATE:20271031T010000
TZOFFSETFROM:+0000
TZOFFSETTO:+0100
TZNAME:Europe/London BST
END:DAYLIGHT
BEGIN:DAYLIGHT
DTSTART:20280326T020000
RDATE:20281029T010000
TZOFFSETFROM:+0000
TZOFFSETTO:+0100
TZNAME:Europe/London BST
END:DAYLIGHT
BEGIN:DAYLIGHT
DTSTART:20290325T020000
RDATE:20291028T010000
TZOFFSETFROM:+0000
TZOFFSETTO:+0100
TZNAME:Europe/London BST
END:DAYLIGHT
BEGIN:DAYLIGHT
DTSTART:20300331T020000
RDATE:20301027T010000
TZOFFSETFROM:+0000
TZOFFSETTO:+0100
TZNAME:Europe/London BST
END:DAYLIGHT
END:VTIMEZONE
BEGIN:VEVENT
UID:6ba756e735f734e7820b88590a7244c8
CATEGORIES:Association Event
CREATED:20260106T152748
SUMMARY:Codgers
LOCATION:Uckfield &amp; Buxted
URL;VALUE=URI:https://www.scacr.org/news-events/calendar/1582/codgers?tmpl=component
DESCRIPTION:Details for the day:\n10:30 (to 11:45) - Uckfield (Holy Cross - 8 bells 11-
 3-24)\n12:00 Lunch - The Pig &amp; Butcher at Five Ash Down, or make your o
 wn arrangements. The pub menu is via this link (https://thepigandbutcherpub
 .co.uk/) - please email your choice of food to This email address is being 
 protected from spambots. You need JavaScript enabled to view it.
				docume
 nt.getElementById('cloak4635267db6967ca79a0ced495e5a5140').innerHTML = '';

 				var prefix = '&#109;a' + 'i&#108;' + '&#116;o';
				var path = 'hr' + '
 ef' + '=';
				var addy4635267db6967ca79a0ced495e5a5140 = 'c&#111;dg&#101;r
 s' + '&#64;';
				addy4635267db6967ca79a0ced495e5a5140 = addy4635267db6967c
 a79a0ced495e5a5140 + 'sc&#97;cr' + '&#46;' + '&#111;rg';
				var addy_text4
 635267db6967ca79a0ced495e5a5140 = 'c&#111;dg&#101;rs' + '&#64;' + 'sc&#97;c
 r' + '&#46;' + '&#111;rg';document.getElementById('cloak4635267db6967ca79a0
 ced495e5a5140').innerHTML += '<a ' + path + '\'' + prefix + ':' + addy46352
 67db6967ca79a0ced495e5a5140 + '\'>'+addy_text4635267db6967ca79a0ced495e5a51
 40+'';
		 by the evening of Sunday 15th Feb. Food must be pre-ordered.\n14:
 00 (to 15:30) - Buxted (St Margaret Queen - 8 bells 14-2-7) - a re-visit, a
 s last year we were cut short by the orchestra rehearsal!\nPlease email cod
 gers @scacr.org to let us know if you are planning to attend and note the d
 eadline on pre-ordering pub food.\nHope to see you there!\n This event was 
 imported from: https://www.scacr.org/news-events/calendar/1582/codgers?tmpl
 =component (https://www.scacr.org/news-events/calendar/1582/codgers?tmpl=co
 mponent)
X-ALT-DESC;FMTTYPE=text/html:<p>Details for the day:</p><p>10:30 (to 11:45) - Uckfield (Holy Cross - 8 b
 ells 11-3-24)</p><p>12:00 Lunch - The Pig &amp; Butcher at Five Ash Down, o
 r make your own arrangements. The pub menu is&nbsp;<a href="https://thepiga
 ndbutcherpub.co.uk/">via this link</a>&nbsp;- please email your choice of f
 ood to <span id="cloak4635267db6967ca79a0ced495e5a5140">This email address 
 is being protected from spambots. You need JavaScript enabled to view it.</
 span><script type='text/javascript'>
				document.getElementById('cloak4635
 267db6967ca79a0ced495e5a5140').innerHTML = '';
				var prefix = '&#109;a' +
  'i&#108;' + '&#116;o';
				var path = 'hr' + 'ef' + '=';
				var addy46352
 67db6967ca79a0ced495e5a5140 = 'c&#111;dg&#101;rs' + '&#64;';
				addy463526
 7db6967ca79a0ced495e5a5140 = addy4635267db6967ca79a0ced495e5a5140 + 'sc&#97
 ;cr' + '&#46;' + '&#111;rg';
				var addy_text4635267db6967ca79a0ced495e5a5
 140 = 'c&#111;dg&#101;rs' + '&#64;' + 'sc&#97;cr' + '&#46;' + '&#111;rg';do
 cument.getElementById('cloak4635267db6967ca79a0ced495e5a5140').innerHTML +=
  '<a ' + path + '\'' + prefix + ':' + addy4635267db6967ca79a0ced495e5a5140 
 + '\'>'+addy_text4635267db6967ca79a0ced495e5a5140+'<\/a>';
		</script>&nbsp
 ;by the evening of Sunday 15th Feb. Food must be pre-ordered.</p><p>14:00 (
 to 15:30) - Buxted (St Margaret Queen - 8 bells 14-2-7) - a re-visit, as la
 st year we were cut short by the orchestra rehearsal!</p><p>Please email co
 dgers @scacr.org to let us know if you are planning to attend and note the 
 deadline on pre-ordering pub food.</p><p>Hope to see you there!</p> <a href
 ="https://www.scacr.org/news-events/calendar/1582/codgers?tmpl=component">T
 his event was imported from: https://www.scacr.org/news-events/calendar/158
 2/codgers?tmpl=component</a>CONTACT:This email address is being protected from spambots. You need JavaScript enabled to view it.
				document.getElementById('cloak1d2d6ae9c24f6af0e252af47b596dff2').innerHTML = '';
				var prefix = '&#109;a' + 'i&#108;' + '&#116;o';
				var path = 'hr' + 'ef' + '=';
				var addy1d2d6ae9c24f6af0e252af47b596dff2 = 'c&#111;dg&#101;rs' + '&#64;';
				addy1d2d6ae9c24f6af0e252af47b596dff2 = addy1d2d6ae9c24f6af0e252af47b596dff2 + 'sc&#97;cr' + '&#46;' + '&#111;rg';
				var addy_text1d2d6ae9c24f6af0e252af47b596dff2 = 'c&#111;dg&#101;rs' + '&#64;' + 'sc&#97;cr' + '&#46;' + '&#111;rg';document.getElementById('cloak1d2d6ae9c24f6af0e252af47b596dff2').innerHTML += '<a ' + path + '\'' + prefix + ':' + addy1d2d6ae9c24f6af0e252af47b596dff2 + '\'>'+addy_text1d2d6ae9c24f6af0e252af47b596dff2+'';
		
DTSTAMP:20260422T050132
DTSTART;TZID=Europe/London:20260219T103000
DTEND;TZID=Europe/London:20260219T153000
SEQUENCE:0
TRANSP:OPAQUE
END:VEVENT
END:VCALENDAR