BEGIN:VCALENDAR
VERSION:2.0
PRODID:-//jEvents 2.0 for Joomla//EN
CALSCALE:GREGORIAN
METHOD:PUBLISH
BEGIN:VTIMEZONE
TZID:Europe/London
BEGIN:STANDARD
DTSTART:20250114T100000
RDATE:20250330T020000
TZOFFSETFROM:+0100
TZOFFSETTO:+0000
TZNAME:Europe/London GMT
END:STANDARD
BEGIN:STANDARD
DTSTART:20251026T010000
RDATE:20260329T020000
TZOFFSETFROM:+0100
TZOFFSETTO:+0000
TZNAME:Europe/London GMT
END:STANDARD
BEGIN:STANDARD
DTSTART:20261025T010000
RDATE:20270328T020000
TZOFFSETFROM:+0100
TZOFFSETTO:+0000
TZNAME:Europe/London GMT
END:STANDARD
BEGIN:STANDARD
DTSTART:20271031T010000
RDATE:20280326T020000
TZOFFSETFROM:+0100
TZOFFSETTO:+0000
TZNAME:Europe/London GMT
END:STANDARD
BEGIN:STANDARD
DTSTART:20281029T010000
RDATE:20290325T020000
TZOFFSETFROM:+0100
TZOFFSETTO:+0000
TZNAME:Europe/London GMT
END:STANDARD
BEGIN:STANDARD
DTSTART:20291028T010000
RDATE:20300331T020000
TZOFFSETFROM:+0100
TZOFFSETTO:+0000
TZNAME:Europe/London GMT
END:STANDARD
BEGIN:STANDARD
DTSTART:20301027T010000
RDATE:20310330T020000
TZOFFSETFROM:+0100
TZOFFSETTO:+0000
TZNAME:Europe/London GMT
END:STANDARD
BEGIN:DAYLIGHT
DTSTART:20250330T020000
RDATE:20251026T010000
TZOFFSETFROM:+0000
TZOFFSETTO:+0100
TZNAME:Europe/London BST
END:DAYLIGHT
BEGIN:DAYLIGHT
DTSTART:20260329T020000
RDATE:20261025T010000
TZOFFSETFROM:+0000
TZOFFSETTO:+0100
TZNAME:Europe/London BST
END:DAYLIGHT
BEGIN:DAYLIGHT
DTSTART:20270328T020000
RDATE:20271031T010000
TZOFFSETFROM:+0000
TZOFFSETTO:+0100
TZNAME:Europe/London BST
END:DAYLIGHT
BEGIN:DAYLIGHT
DTSTART:20280326T020000
RDATE:20281029T010000
TZOFFSETFROM:+0000
TZOFFSETTO:+0100
TZNAME:Europe/London BST
END:DAYLIGHT
BEGIN:DAYLIGHT
DTSTART:20290325T020000
RDATE:20291028T010000
TZOFFSETFROM:+0000
TZOFFSETTO:+0100
TZNAME:Europe/London BST
END:DAYLIGHT
BEGIN:DAYLIGHT
DTSTART:20300331T020000
RDATE:20301027T010000
TZOFFSETFROM:+0000
TZOFFSETTO:+0100
TZNAME:Europe/London BST
END:DAYLIGHT
END:VTIMEZONE
BEGIN:VEVENT
UID:479650db4a525e63a12af24fb1a162a1
CATEGORIES:Association Event
CREATED:20260106T152546
SUMMARY:Codgers
LOCATION:Slindon &amp; Walberton &amp; Felpham (8)
URL;VALUE=URI:https://www.scacr.org/news-events/calendar/1581/codgers?tmpl=component
DESCRIPTION:Schedule:\n10.00 - 10.30     Slindon (4). Parking in road. There is a WC.\n
 10.45 - 12.00     Yapton (6). *** NOTE CHANGE OF TOWER *** as Walberton is 
 now unavailable.\nLunch - The George Inn, Felpham, PO22 7PL (or make your o
 wn arrangements). The pub has insisted food be ordered in advance. Please e
 mail choice (menu attached) to This email address is being protected from s
 pambots. You need JavaScript enabled to view it.
				document.getElementByI
 d('cloak57ef83bb52030bec62aa8239a58ee2a7').innerHTML = '';
				var prefix =
  '&#109;a' + 'i&#108;' + '&#116;o';
				var path = 'hr' + 'ef' + '=';
				v
 ar addy57ef83bb52030bec62aa8239a58ee2a7 = 'c&#111;dg&#101;rs' + '&#64;';
		
 		addy57ef83bb52030bec62aa8239a58ee2a7 = addy57ef83bb52030bec62aa8239a58ee2
 a7 + 'sc&#97;cr' + '&#46;' + '&#111;rg';
				var addy_text57ef83bb52030bec6
 2aa8239a58ee2a7 = 'c&#111;dg&#101;rs' + '&#64;' + 'sc&#97;cr' + '&#46;' + '
 &#111;rg';document.getElementById('cloak57ef83bb52030bec62aa8239a58ee2a7').
 innerHTML += '<a ' + path + '\'' + prefix + ':' + addy57ef83bb52030bec62aa8
 239a58ee2a7 + '\'>'+addy_text57ef83bb52030bec62aa8239a58ee2a7+'';
		 no lat
 er than Sunday (11th Jan) at 1pm. We have to pay a deposit of £5 per person
  on placing the order, which Rik &amp; Val will do for all who have ordered
 , so please bring £5 cash on the day to reimburse them.\n14:00 - 15.30     
 Felpham (8). Parking at church. WC available.\n \nTowers confirmed: Slindon
 (4) &amp; Walberton(6).\nAwaiting confirmation of the third tower, which wi
 ll also dictate the pub for lunch.\n This event was imported from: https://
 www.scacr.org/news-events/calendar/1581/codgers?tmpl=component (https://www
 .scacr.org/news-events/calendar/1581/codgers?tmpl=component)
X-ALT-DESC;FMTTYPE=text/html:<p>Schedule:</p><p>10.00 - 10.30&nbsp; &nbsp; &nbsp;Slindon (4). Parking in
  road. There is a WC.</p><p>10.45 - 12.00&nbsp; &nbsp; &nbsp;Yapton (6). <s
 pan style="text-decoration: underline;"><strong>*** NOTE CHANGE OF TOWER **
 *</strong></span> as Walberton is now unavailable.</p><p>Lunch - The George
  Inn, Felpham, PO22 7PL (or make your own arrangements). The pub has insist
 ed food be ordered in advance. Please email choice (menu attached) to <span
  id="cloak57ef83bb52030bec62aa8239a58ee2a7">This email address is being pro
 tected from spambots. You need JavaScript enabled to view it.</span><script
  type='text/javascript'>
				document.getElementById('cloak57ef83bb52030bec
 62aa8239a58ee2a7').innerHTML = '';
				var prefix = '&#109;a' + 'i&#108;' +
  '&#116;o';
				var path = 'hr' + 'ef' + '=';
				var addy57ef83bb52030bec6
 2aa8239a58ee2a7 = 'c&#111;dg&#101;rs' + '&#64;';
				addy57ef83bb52030bec62
 aa8239a58ee2a7 = addy57ef83bb52030bec62aa8239a58ee2a7 + 'sc&#97;cr' + '&#46
 ;' + '&#111;rg';
				var addy_text57ef83bb52030bec62aa8239a58ee2a7 = 'c&#11
 1;dg&#101;rs' + '&#64;' + 'sc&#97;cr' + '&#46;' + '&#111;rg';document.getEl
 ementById('cloak57ef83bb52030bec62aa8239a58ee2a7').innerHTML += '<a ' + pat
 h + '\'' + prefix + ':' + addy57ef83bb52030bec62aa8239a58ee2a7 + '\'>'+addy
 _text57ef83bb52030bec62aa8239a58ee2a7+'<\/a>';
		</script>&nbsp;<span style
 ="text-decoration: underline;"><strong>no later than Sunday (11th Jan) at 1
 pm.</strong></span> We have to pay a deposit of £5 per person on placing th
 e order, which Rik &amp; Val will do for all who have ordered, so please br
 ing £5 cash on the day to reimburse them.</p><p>14:00 - 15.30&nbsp; &nbsp; 
 &nbsp;Felpham (8). Parking at church. WC available.</p><p>&nbsp;</p><p>Towe
 rs confirmed: Slindon(4) &amp; Walberton(6).</p><p>Awaiting confirmation of
  the third tower, which will also dictate the pub for lunch.</p> <a href="h
 ttps://www.scacr.org/news-events/calendar/1581/codgers?tmpl=component">This
  event was imported from: https://www.scacr.org/news-events/calendar/1581/c
 odgers?tmpl=component</a>CONTACT:This email address is being protected from spambots. You need JavaScript enabled to view it.
				document.getElementById('cloakd4bef76b3c6eb663f4a3f8c43eff25b9').innerHTML = '';
				var prefix = '&#109;a' + 'i&#108;' + '&#116;o';
				var path = 'hr' + 'ef' + '=';
				var addyd4bef76b3c6eb663f4a3f8c43eff25b9 = 'c&#111;dg&#101;rs' + '&#64;';
				addyd4bef76b3c6eb663f4a3f8c43eff25b9 = addyd4bef76b3c6eb663f4a3f8c43eff25b9 + 'sc&#97;cr' + '&#46;' + '&#111;rg';
				var addy_textd4bef76b3c6eb663f4a3f8c43eff25b9 = 'c&#111;dg&#101;rs' + '&#64;' + 'sc&#97;cr' + '&#46;' + '&#111;rg';document.getElementById('cloakd4bef76b3c6eb663f4a3f8c43eff25b9').innerHTML += '<a ' + path + '\'' + prefix + ':' + addyd4bef76b3c6eb663f4a3f8c43eff25b9 + '\'>'+addy_textd4bef76b3c6eb663f4a3f8c43eff25b9+'';
		
DTSTAMP:20260425T225450
DTSTART;TZID=Europe/London:20260115T100000
DTEND;TZID=Europe/London:20260115T153000
SEQUENCE:0
TRANSP:OPAQUE
END:VEVENT
END:VCALENDAR