BEGIN:VCALENDAR
VERSION:2.0
PRODID:-//jEvents 2.0 for Joomla//EN
CALSCALE:GREGORIAN
METHOD:PUBLISH
BEGIN:VTIMEZONE
TZID:Europe/London
BEGIN:STANDARD
DTSTART:20250109T110000
RDATE:20250330T020000
TZOFFSETFROM:+0100
TZOFFSETTO:+0000
TZNAME:Europe/London GMT
END:STANDARD
BEGIN:STANDARD
DTSTART:20251026T010000
RDATE:20260329T020000
TZOFFSETFROM:+0100
TZOFFSETTO:+0000
TZNAME:Europe/London GMT
END:STANDARD
BEGIN:STANDARD
DTSTART:20261025T010000
RDATE:20270328T020000
TZOFFSETFROM:+0100
TZOFFSETTO:+0000
TZNAME:Europe/London GMT
END:STANDARD
BEGIN:STANDARD
DTSTART:20271031T010000
RDATE:20280326T020000
TZOFFSETFROM:+0100
TZOFFSETTO:+0000
TZNAME:Europe/London GMT
END:STANDARD
BEGIN:STANDARD
DTSTART:20281029T010000
RDATE:20290325T020000
TZOFFSETFROM:+0100
TZOFFSETTO:+0000
TZNAME:Europe/London GMT
END:STANDARD
BEGIN:STANDARD
DTSTART:20291028T010000
RDATE:20300331T020000
TZOFFSETFROM:+0100
TZOFFSETTO:+0000
TZNAME:Europe/London GMT
END:STANDARD
BEGIN:STANDARD
DTSTART:20301027T010000
RDATE:20310330T020000
TZOFFSETFROM:+0100
TZOFFSETTO:+0000
TZNAME:Europe/London GMT
END:STANDARD
BEGIN:DAYLIGHT
DTSTART:20250330T020000
RDATE:20251026T010000
TZOFFSETFROM:+0000
TZOFFSETTO:+0100
TZNAME:Europe/London BST
END:DAYLIGHT
BEGIN:DAYLIGHT
DTSTART:20260329T020000
RDATE:20261025T010000
TZOFFSETFROM:+0000
TZOFFSETTO:+0100
TZNAME:Europe/London BST
END:DAYLIGHT
BEGIN:DAYLIGHT
DTSTART:20270328T020000
RDATE:20271031T010000
TZOFFSETFROM:+0000
TZOFFSETTO:+0100
TZNAME:Europe/London BST
END:DAYLIGHT
BEGIN:DAYLIGHT
DTSTART:20280326T020000
RDATE:20281029T010000
TZOFFSETFROM:+0000
TZOFFSETTO:+0100
TZNAME:Europe/London BST
END:DAYLIGHT
BEGIN:DAYLIGHT
DTSTART:20290325T020000
RDATE:20291028T010000
TZOFFSETFROM:+0000
TZOFFSETTO:+0100
TZNAME:Europe/London BST
END:DAYLIGHT
BEGIN:DAYLIGHT
DTSTART:20300331T020000
RDATE:20301027T010000
TZOFFSETFROM:+0000
TZOFFSETTO:+0100
TZNAME:Europe/London BST
END:DAYLIGHT
END:VTIMEZONE
BEGIN:VEVENT
UID:70f7780b3d3c59ecb82898a926fab304
CATEGORIES:West
CREATED:20251214T180853
SUMMARY:Monthly Event - 2 tower general ringing with Bacon Rolls!
LOCATION:St Margaret's \, Angmering then St Andrew's\, West Tarring.
URL;VALUE=URI:https://www.scacr.org/news-events/calendar/1571/monthly-event-2-tower-gener
 al-ringing-with-bacon-rolls?tmpl=component
DESCRIPTION:<p>Start the day with general ringing at St Margaret's (6)Church, Angmering
 &nbsp; BN16 4JS&nbsp; from 11.00 - 12.30&nbsp; .&nbsp; The stairs to the ri
 nging room&nbsp; are a short spiral which are very slightly uneven but easi
 ly navigated.&nbsp; Then it is time for a Bacon Roll and a cuppa in the chu
 rch.&nbsp; Please see in extra info how to order yours!!&nbsp; There is a c
 hurch car park which is limited but street parking is available.&nbsp; Ther
 e are toilet facilities on site.&nbsp;&nbsp;</p><p>We then move onto St And
 rew's church,(6)&nbsp; West Tarring&nbsp; BN13 1HG for general ringing from
  2 - 3.30.&nbsp; The stairs to the ringing room are quite steep with uneven
  steps,&nbsp; There is a rope hand rail.&nbsp; There is street parking and 
 toilet faciities on site.</p><p>Please feel free to attend either tower and
  there is no obligation to have abacon roll"</p><p>Look forward to seeing y
 ou there!</p> <a href="https://www.scacr.org/news-events/calendar/1571/mont
 hly-event-2-tower-general-ringing-with-bacon-rolls?tmpl=component">This eve
 nt was imported from: https://www.scacr.org/news-events/calendar/1571/month
 ly-event-2-tower-general-ringing-with-bacon-rolls?tmpl=component</a>CONTACT:This email address is being protected from spambots. You need JavaScript enabled to view it.
				document.getElementById('cloak660b8ba533528f0aa232e4ed00916bdf').innerHTML = '';
				var prefix = '&#109;a' + 'i&#108;' + '&#116;o';
				var path = 'hr' + 'ef' + '=';
				var addy660b8ba533528f0aa232e4ed00916bdf = 's&#101;c-w&#101;st' + '&#64;';
				addy660b8ba533528f0aa232e4ed00916bdf = addy660b8ba533528f0aa232e4ed00916bdf + 'sc&#97;cr' + '&#46;' + '&#111;rg';
				var addy_text660b8ba533528f0aa232e4ed00916bdf = 's&#101;c-w&#101;st' + '&#64;' + 'sc&#97;cr' + '&#46;' + '&#111;rg';document.getElementById('cloak660b8ba533528f0aa232e4ed00916bdf').innerHTML += '<a ' + path + '\'' + prefix + ':' + addy660b8ba533528f0aa232e4ed00916bdf + '\'>'+addy_text660b8ba533528f0aa232e4ed00916bdf+'';
		  or 07890804339
X-EXTRAINFO:If you would like a a bacon roll - please let This email address is being p
 rotected from spambots. You need JavaScript enabled to view it.
				documen
 t.getElementById('cloak8c45904ed9e64a65fc451c7522697415').innerHTML = '';
	
 			var prefix = '&#109;a' + 'i&#108;' + '&#116;o';
				var path = 'hr' + 'e
 f' + '=';
				var addy8c45904ed9e64a65fc451c7522697415 = 's&#101;c-w&#101;s
 t' + '&#64;';
				addy8c45904ed9e64a65fc451c7522697415 = addy8c45904ed9e64a
 65fc451c7522697415 + 'sc&#97;cr' + '&#46;' + '&#111;rg';
				var addy_text8
 c45904ed9e64a65fc451c7522697415 = 's&#101;c-w&#101;st' + '&#64;' + 'sc&#97;
 cr' + '&#46;' + '&#111;rg';document.getElementById('cloak8c45904ed9e64a65fc
 451c7522697415').innerHTML += '<a ' + path + '\'' + prefix + ':' + addy8c45
 904ed9e64a65fc451c7522697415 + '\'>'+addy_text8c45904ed9e64a65fc451c7522697
 415+'';
		 know by the end of day  Tuesday 6th January as these will be pre
 -ordered and delivered to the church!  Each roll is £5.00. to be paid on th
 e day.  If you have any dietary requirements - please also let me know by t
 hat date.
DTSTAMP:20260420T100933
DTSTART;TZID=Europe/London:20260110T110000
DTEND;TZID=Europe/London:20260110T153000
SEQUENCE:0
TRANSP:OPAQUE
END:VEVENT
END:VCALENDAR