BEGIN:VCALENDAR
VERSION:2.0
PRODID:-//jEvents 2.0 for Joomla//EN
CALSCALE:GREGORIAN
METHOD:PUBLISH
BEGIN:VTIMEZONE
TZID:Europe/London
BEGIN:STANDARD
DTSTART:20250117T163000
RDATE:20250330T020000
TZOFFSETFROM:+0100
TZOFFSETTO:+0000
TZNAME:Europe/London GMT
END:STANDARD
BEGIN:STANDARD
DTSTART:20251026T010000
RDATE:20260329T020000
TZOFFSETFROM:+0100
TZOFFSETTO:+0000
TZNAME:Europe/London GMT
END:STANDARD
BEGIN:STANDARD
DTSTART:20261025T010000
RDATE:20270328T020000
TZOFFSETFROM:+0100
TZOFFSETTO:+0000
TZNAME:Europe/London GMT
END:STANDARD
BEGIN:STANDARD
DTSTART:20271031T010000
RDATE:20280326T020000
TZOFFSETFROM:+0100
TZOFFSETTO:+0000
TZNAME:Europe/London GMT
END:STANDARD
BEGIN:STANDARD
DTSTART:20281029T010000
RDATE:20290325T020000
TZOFFSETFROM:+0100
TZOFFSETTO:+0000
TZNAME:Europe/London GMT
END:STANDARD
BEGIN:STANDARD
DTSTART:20291028T010000
RDATE:20300331T020000
TZOFFSETFROM:+0100
TZOFFSETTO:+0000
TZNAME:Europe/London GMT
END:STANDARD
BEGIN:STANDARD
DTSTART:20301027T010000
RDATE:20310330T020000
TZOFFSETFROM:+0100
TZOFFSETTO:+0000
TZNAME:Europe/London GMT
END:STANDARD
BEGIN:DAYLIGHT
DTSTART:20250330T020000
RDATE:20251026T010000
TZOFFSETFROM:+0000
TZOFFSETTO:+0100
TZNAME:Europe/London BST
END:DAYLIGHT
BEGIN:DAYLIGHT
DTSTART:20260329T020000
RDATE:20261025T010000
TZOFFSETFROM:+0000
TZOFFSETTO:+0100
TZNAME:Europe/London BST
END:DAYLIGHT
BEGIN:DAYLIGHT
DTSTART:20270328T020000
RDATE:20271031T010000
TZOFFSETFROM:+0000
TZOFFSETTO:+0100
TZNAME:Europe/London BST
END:DAYLIGHT
BEGIN:DAYLIGHT
DTSTART:20280326T020000
RDATE:20281029T010000
TZOFFSETFROM:+0000
TZOFFSETTO:+0100
TZNAME:Europe/London BST
END:DAYLIGHT
BEGIN:DAYLIGHT
DTSTART:20290325T020000
RDATE:20291028T010000
TZOFFSETFROM:+0000
TZOFFSETTO:+0100
TZNAME:Europe/London BST
END:DAYLIGHT
BEGIN:DAYLIGHT
DTSTART:20300331T020000
RDATE:20301027T010000
TZOFFSETFROM:+0000
TZOFFSETTO:+0100
TZNAME:Europe/London BST
END:DAYLIGHT
END:VTIMEZONE
BEGIN:VEVENT
UID:7675ee0b998afb5b81920c5539ee17c8
CATEGORIES:Association Event
CREATED:20251212T163051
SUMMARY:10-bell methods practice (Association)
LOCATION:St Peter's\, Brighton
URL;VALUE=URI:https://www.scacr.org/news-events/calendar/1560/10-bell-methods-practice-as
 sociation?tmpl=component
DESCRIPTION:This is a new montly 10-bell methods practice, for ringers already able to 
 ring methods on 7 and 8 bells, who would like to develop their 9/10 bell me
 thod ringing. This will be a friendly and supportive practie, run by David 
 Perkins. \nThe minimum competency to join this practice is to be able to co
 nfidently ring touches of Grandsire Triples and Plain Bob Major. \nIf you p
 lan to attend (whether as an improver or a helper), please complete the sig
 n-up form  (https://forms.gle/aKwaUrvgatP7DCpw9)by Wednesday 14th January, 
 to help David to plan the practice.\nThese practices will be held before ev
 ensong service on the 3rd Sunday of the month, at St Peter's, Brighton. Ple
 ase note that it's best to travel by public transport\n \n This event was i
 mported from: https://www.scacr.org/news-events/calendar/1560/10-bell-metho
 ds-practice-association?tmpl=component (https://www.scacr.org/news-events/c
 alendar/1560/10-bell-methods-practice-association?tmpl=component)
X-ALT-DESC;FMTTYPE=text/html:<p>This is a new montly 10-bell methods practice, for ringers already able 
 to ring methods on 7 and 8 bells, who would like to develop their 9/10 bell
  method ringing. This will be a friendly and supportive practie, run by Dav
 id Perkins.&nbsp;</p><p>The minimum competency to join this practice is to 
 be able to confidently ring touches of Grandsire Triples and Plain Bob Majo
 r.&nbsp;</p><p>If you plan to attend (whether as an improver or a helper), 
 please <strong><a href="https://forms.gle/aKwaUrvgatP7DCpw9">complete the s
 ign-up form </a>by Wednesday 14th January</strong>, to help David to plan t
 he practice.</p><p>These practices will be held before evensong service on 
 the 3rd Sunday of the month, at St Peter's, Brighton. Please note that it's
  best to travel by public transport</p><p>&nbsp;</p> <a href="https://www.s
 cacr.org/news-events/calendar/1560/10-bell-methods-practice-association?tmp
 l=component">This event was imported from: https://www.scacr.org/news-event
 s/calendar/1560/10-bell-methods-practice-association?tmpl=component</a>CONTACT:This email address is being protected from spambots. You need JavaScript enabled to view it.
				document.getElementById('cloak95829f638c4732f478264f9c26fe800b').innerHTML = '';
				var prefix = '&#109;a' + 'i&#108;' + '&#116;o';
				var path = 'hr' + 'ef' + '=';
				var addy95829f638c4732f478264f9c26fe800b = 's&#101;cr&#101;t&#97;ry' + '&#64;';
				addy95829f638c4732f478264f9c26fe800b = addy95829f638c4732f478264f9c26fe800b + 'sc&#97;cr' + '&#46;' + '&#111;rg';
				var addy_text95829f638c4732f478264f9c26fe800b = 's&#101;cr&#101;t&#97;ry' + '&#64;' + 'sc&#97;cr' + '&#46;' + '&#111;rg';document.getElementById('cloak95829f638c4732f478264f9c26fe800b').innerHTML += '<a ' + path + '\'' + prefix + ':' + addy95829f638c4732f478264f9c26fe800b + '\'>'+addy_text95829f638c4732f478264f9c26fe800b+'';
		
DTSTAMP:20260423T053056
DTSTART;TZID=Europe/London:20260118T163000
DTEND;TZID=Europe/London:20260118T181500
SEQUENCE:0
TRANSP:OPAQUE
END:VEVENT
END:VCALENDAR