BEGIN:VCALENDAR
VERSION:2.0
PRODID:-//jEvents 2.0 for Joomla//EN
CALSCALE:GREGORIAN
METHOD:PUBLISH
BEGIN:VTIMEZONE
TZID:Europe/London
BEGIN:STANDARD
DTSTART:20241027T010000
RDATE:20250330T020000
TZOFFSETFROM:+0100
TZOFFSETTO:+0000
TZNAME:Europe/London GMT
END:STANDARD
BEGIN:STANDARD
DTSTART:20251026T010000
RDATE:20260329T020000
TZOFFSETFROM:+0100
TZOFFSETTO:+0000
TZNAME:Europe/London GMT
END:STANDARD
BEGIN:STANDARD
DTSTART:20261025T010000
RDATE:20270328T020000
TZOFFSETFROM:+0100
TZOFFSETTO:+0000
TZNAME:Europe/London GMT
END:STANDARD
BEGIN:STANDARD
DTSTART:20271031T010000
RDATE:20280326T020000
TZOFFSETFROM:+0100
TZOFFSETTO:+0000
TZNAME:Europe/London GMT
END:STANDARD
BEGIN:STANDARD
DTSTART:20281029T010000
RDATE:20290325T020000
TZOFFSETFROM:+0100
TZOFFSETTO:+0000
TZNAME:Europe/London GMT
END:STANDARD
BEGIN:STANDARD
DTSTART:20291028T010000
RDATE:20300331T020000
TZOFFSETFROM:+0100
TZOFFSETTO:+0000
TZNAME:Europe/London GMT
END:STANDARD
BEGIN:STANDARD
DTSTART:20301027T010000
RDATE:20310330T020000
TZOFFSETFROM:+0100
TZOFFSETTO:+0000
TZNAME:Europe/London GMT
END:STANDARD
BEGIN:DAYLIGHT
DTSTART:20240912T140000
RDATE:20241027T010000
TZOFFSETFROM:+0000
TZOFFSETTO:+0100
TZNAME:Europe/London BST
END:DAYLIGHT
BEGIN:DAYLIGHT
DTSTART:20250330T020000
RDATE:20251026T010000
TZOFFSETFROM:+0000
TZOFFSETTO:+0100
TZNAME:Europe/London BST
END:DAYLIGHT
BEGIN:DAYLIGHT
DTSTART:20260329T020000
RDATE:20261025T010000
TZOFFSETFROM:+0000
TZOFFSETTO:+0100
TZNAME:Europe/London BST
END:DAYLIGHT
BEGIN:DAYLIGHT
DTSTART:20270328T020000
RDATE:20271031T010000
TZOFFSETFROM:+0000
TZOFFSETTO:+0100
TZNAME:Europe/London BST
END:DAYLIGHT
BEGIN:DAYLIGHT
DTSTART:20280326T020000
RDATE:20281029T010000
TZOFFSETFROM:+0000
TZOFFSETTO:+0100
TZNAME:Europe/London BST
END:DAYLIGHT
BEGIN:DAYLIGHT
DTSTART:20290325T020000
RDATE:20291028T010000
TZOFFSETFROM:+0000
TZOFFSETTO:+0100
TZNAME:Europe/London BST
END:DAYLIGHT
BEGIN:DAYLIGHT
DTSTART:20300331T020000
RDATE:20301027T010000
TZOFFSETFROM:+0000
TZOFFSETTO:+0100
TZNAME:Europe/London BST
END:DAYLIGHT
END:VTIMEZONE
BEGIN:VEVENT
UID:bb7c536e51f9c6e561c84ab0e9376cb5
CATEGORIES:West
CREATED:20250818T220729
SUMMARY:TWO TOWER MONTHLY GET TOGETHER!  SS MARY GABRIEL SOUTH HARTING AND ST LUKE , MILLAND
LOCATION:SS Mary and Gabriel South Harting GU31 5QF
URL;VALUE=URI:https://www.scacr.org/news-events/calendar/1515/two-tower-monthly-get-toget
 her-ss-mary-gabriel-south-harting-and-st-luke-milland?tmpl=component
DESCRIPTION:<p>Come along to this two tower event!&nbsp; Starting at SS Mary and Gabrie
 l at South Harting&nbsp; with 6 bells from 2 - 3 pm followed by tea and cak
 e and then move on to St Luke&nbsp; - a 6 bell tower tower at Milland from 
 4 -5!&nbsp; &nbsp;The intnetion is to have an raffle in aid of BRF so pleas
 e bring alog your change and any donations of raffle prizes would be welcom
 e! To book for tea - please e mail <span id="cloak57607396a5a1c4e3e9b9e773a
 258a2ae">This email address is being protected from spambots. You need Java
 Script enabled to view it.</span><script type='text/javascript'>
				docume
 nt.getElementById('cloak57607396a5a1c4e3e9b9e773a258a2ae').innerHTML = '';

 				var prefix = '&#109;a' + 'i&#108;' + '&#116;o';
				var path = 'hr' + '
 ef' + '=';
				var addy57607396a5a1c4e3e9b9e773a258a2ae = 's&#101;c-w&#101;
 st' + '&#64;';
				addy57607396a5a1c4e3e9b9e773a258a2ae = addy57607396a5a1c
 4e3e9b9e773a258a2ae + 'sc&#97;cr' + '&#46;' + '&#111;rg';
				var addy_text
 57607396a5a1c4e3e9b9e773a258a2ae = 's&#101;c-w&#101;st' + '&#64;' + 'sc&#97
 ;cr' + '&#46;' + '&#111;rg';document.getElementById('cloak57607396a5a1c4e3e
 9b9e773a258a2ae').innerHTML += '<a ' + path + '\'' + prefix + ':' + addy576
 07396a5a1c4e3e9b9e773a258a2ae + '\'>'+addy_text57607396a5a1c4e3e9b9e773a258
 a2ae+'<\/a>';
		</script>&nbsp;or call Janice on 07890804339 .</p> <a href=
 "https://www.scacr.org/news-events/calendar/1515/two-tower-monthly-get-toge
 ther-ss-mary-gabriel-south-harting-and-st-luke-milland?tmpl=component">This
  event was imported from: https://www.scacr.org/news-events/calendar/1515/t
 wo-tower-monthly-get-together-ss-mary-gabriel-south-harting-and-st-luke-mil
 land?tmpl=component</a>CONTACT:This email address is being protected from spambots. You need JavaScript enabled to view it.
				document.getElementById('cloake2736a6f9b1acfb164211cb0f5603f45').innerHTML = '';
				var prefix = '&#109;a' + 'i&#108;' + '&#116;o';
				var path = 'hr' + 'ef' + '=';
				var addye2736a6f9b1acfb164211cb0f5603f45 = 's&#101;c-w&#101;st' + '&#64;';
				addye2736a6f9b1acfb164211cb0f5603f45 = addye2736a6f9b1acfb164211cb0f5603f45 + 'sc&#97;cr' + '&#46;' + '&#111;rg';
				var addy_texte2736a6f9b1acfb164211cb0f5603f45 = 's&#101;c-w&#101;st' + '&#64;' + 'sc&#97;cr' + '&#46;' + '&#111;rg';document.getElementById('cloake2736a6f9b1acfb164211cb0f5603f45').innerHTML += '<a ' + path + '\'' + prefix + ':' + addye2736a6f9b1acfb164211cb0f5603f45 + '\'>'+addy_texte2736a6f9b1acfb164211cb0f5603f45+'';
		  or 07890804339
X-EXTRAINFO:2nd Tower is St Luke, Milland  GU30 7JL..  20 minutes drive from South Hart
 ing!!
DTSTAMP:20260425T033931
DTSTART;TZID=Europe/London:20250913T140000
DTEND;TZID=Europe/London:20250913T170000
SEQUENCE:0
TRANSP:OPAQUE
END:VEVENT
END:VCALENDAR