BEGIN:VCALENDAR
VERSION:2.0
PRODID:-//jEvents 2.0 for Joomla//EN
CALSCALE:GREGORIAN
METHOD:PUBLISH
BEGIN:VTIMEZONE
TZID:Europe/London
BEGIN:STANDARD
DTSTART:20250130T143000
RDATE:20250330T020000
TZOFFSETFROM:+0100
TZOFFSETTO:+0000
TZNAME:Europe/London GMT
END:STANDARD
BEGIN:STANDARD
DTSTART:20251026T010000
RDATE:20260329T020000
TZOFFSETFROM:+0100
TZOFFSETTO:+0000
TZNAME:Europe/London GMT
END:STANDARD
BEGIN:STANDARD
DTSTART:20261025T010000
RDATE:20270328T020000
TZOFFSETFROM:+0100
TZOFFSETTO:+0000
TZNAME:Europe/London GMT
END:STANDARD
BEGIN:STANDARD
DTSTART:20271031T010000
RDATE:20280326T020000
TZOFFSETFROM:+0100
TZOFFSETTO:+0000
TZNAME:Europe/London GMT
END:STANDARD
BEGIN:STANDARD
DTSTART:20281029T010000
RDATE:20290325T020000
TZOFFSETFROM:+0100
TZOFFSETTO:+0000
TZNAME:Europe/London GMT
END:STANDARD
BEGIN:STANDARD
DTSTART:20291028T010000
RDATE:20300331T020000
TZOFFSETFROM:+0100
TZOFFSETTO:+0000
TZNAME:Europe/London GMT
END:STANDARD
BEGIN:STANDARD
DTSTART:20301027T010000
RDATE:20310330T020000
TZOFFSETFROM:+0100
TZOFFSETTO:+0000
TZNAME:Europe/London GMT
END:STANDARD
BEGIN:DAYLIGHT
DTSTART:20250330T020000
RDATE:20251026T010000
TZOFFSETFROM:+0000
TZOFFSETTO:+0100
TZNAME:Europe/London BST
END:DAYLIGHT
BEGIN:DAYLIGHT
DTSTART:20260329T020000
RDATE:20261025T010000
TZOFFSETFROM:+0000
TZOFFSETTO:+0100
TZNAME:Europe/London BST
END:DAYLIGHT
BEGIN:DAYLIGHT
DTSTART:20270328T020000
RDATE:20271031T010000
TZOFFSETFROM:+0000
TZOFFSETTO:+0100
TZNAME:Europe/London BST
END:DAYLIGHT
BEGIN:DAYLIGHT
DTSTART:20280326T020000
RDATE:20281029T010000
TZOFFSETFROM:+0000
TZOFFSETTO:+0100
TZNAME:Europe/London BST
END:DAYLIGHT
BEGIN:DAYLIGHT
DTSTART:20290325T020000
RDATE:20291028T010000
TZOFFSETFROM:+0000
TZOFFSETTO:+0100
TZNAME:Europe/London BST
END:DAYLIGHT
BEGIN:DAYLIGHT
DTSTART:20300331T020000
RDATE:20301027T010000
TZOFFSETFROM:+0000
TZOFFSETTO:+0100
TZNAME:Europe/London BST
END:DAYLIGHT
END:VTIMEZONE
BEGIN:VEVENT
UID:c2ccd896135b70afbf2f401e08e6a12c
CATEGORIES:Association Event
CREATED:20250817T161227
SUMMARY:12-bell practice
LOCATION:East Grinstead 
URL;VALUE=URI:https://www.scacr.org/news-events/calendar/1509/12-bell-practice?tmpl=compo
 nent
DESCRIPTION:Aim: this practice is for ringers able to ring methods on 9/10 bells who wi
 sh to extend their repertoire to 11/12 bells, and for more experienced 12-b
 ell ringers.  \nMinimum competency: able to ring touches of Stedman Caters 
 comfortably .  \nIf you plan to attend (whether as an improver or a helper)
 , please complete the sign-up form  (https://docs.google.com/forms/d/e/1FAI
 pQLSc36EUJZDcb-0BzMRTKPVwZAUBs-diS2Ynqz6x3eGw73GIroA/viewform?usp=header)by
  24th January, to help us plan the practice.  Note that priority for ringin
 g will be given to those who have signed up in advance.\nThis practice will
  be run by Simon Meyer.\nPlease note: no nuts and no dogs (other than worki
 ng assistance dogs) allowed in the ringing room, due to risk of allergic re
 action.\n This event was imported from: https://www.scacr.org/news-events/c
 alendar/1509/12-bell-practice?tmpl=component (https://www.scacr.org/news-ev
 ents/calendar/1509/12-bell-practice?tmpl=component)
X-ALT-DESC;FMTTYPE=text/html:<p>Aim: this practice is for ringers able to ring methods on 9/10 bells who
  wish to extend their repertoire to 11/12 bells, and for more experienced 1
 2-bell ringers.&nbsp;&nbsp;</p><p>Minimum competency: able to ring touches 
 of Stedman Caters comfortably .&nbsp;&nbsp;</p><p>If you plan to attend (wh
 ether as an improver or a helper), <strong>please c<a href="https://docs.go
 ogle.com/forms/d/e/1FAIpQLSc36EUJZDcb-0BzMRTKPVwZAUBs-diS2Ynqz6x3eGw73GIroA
 /viewform?usp=header">omplete the sign-up form </a>by 24th</strong> <strong
 >January</strong>, to help us plan the practice.&nbsp; Note that priority f
 or ringing will be given to those who have signed up in advance.</p><p>This
  practice will be run by Simon Meyer.</p><p>Please note: no nuts and no dog
 s (other than working assistance dogs) allowed in the ringing room, due to 
 risk of allergic reaction.</p> <a href="https://www.scacr.org/news-events/c
 alendar/1509/12-bell-practice?tmpl=component">This event was imported from:
  https://www.scacr.org/news-events/calendar/1509/12-bell-practice?tmpl=comp
 onent</a>CONTACT:This email address is being protected from spambots. You need JavaScript enabled to view it.
				document.getElementById('cloak035de6a9b31446146107d3b2d145bdef').innerHTML = '';
				var prefix = '&#109;a' + 'i&#108;' + '&#116;o';
				var path = 'hr' + 'ef' + '=';
				var addy035de6a9b31446146107d3b2d145bdef = 's&#101;cr&#101;t&#97;ry' + '&#64;';
				addy035de6a9b31446146107d3b2d145bdef = addy035de6a9b31446146107d3b2d145bdef + 'sc&#97;cr' + '&#46;' + '&#111;rg';
				var addy_text035de6a9b31446146107d3b2d145bdef = 's&#101;cr&#101;t&#97;ry' + '&#64;' + 'sc&#97;cr' + '&#46;' + '&#111;rg';document.getElementById('cloak035de6a9b31446146107d3b2d145bdef').innerHTML += '<a ' + path + '\'' + prefix + ':' + addy035de6a9b31446146107d3b2d145bdef + '\'>'+addy_text035de6a9b31446146107d3b2d145bdef+'';
		
DTSTAMP:20260426T032603
DTSTART;TZID=Europe/London:20260131T143000
DTEND;TZID=Europe/London:20260131T163000
SEQUENCE:0
TRANSP:OPAQUE
END:VEVENT
END:VCALENDAR