BEGIN:VCALENDAR
VERSION:2.0
PRODID:-//jEvents 2.0 for Joomla//EN
CALSCALE:GREGORIAN
METHOD:PUBLISH
BEGIN:VTIMEZONE
TZID:Europe/London
BEGIN:STANDARD
DTSTART:20241027T010000
RDATE:20250330T020000
TZOFFSETFROM:+0100
TZOFFSETTO:+0000
TZNAME:Europe/London GMT
END:STANDARD
BEGIN:STANDARD
DTSTART:20251026T010000
RDATE:20260329T020000
TZOFFSETFROM:+0100
TZOFFSETTO:+0000
TZNAME:Europe/London GMT
END:STANDARD
BEGIN:STANDARD
DTSTART:20261025T010000
RDATE:20270328T020000
TZOFFSETFROM:+0100
TZOFFSETTO:+0000
TZNAME:Europe/London GMT
END:STANDARD
BEGIN:STANDARD
DTSTART:20271031T010000
RDATE:20280326T020000
TZOFFSETFROM:+0100
TZOFFSETTO:+0000
TZNAME:Europe/London GMT
END:STANDARD
BEGIN:STANDARD
DTSTART:20281029T010000
RDATE:20290325T020000
TZOFFSETFROM:+0100
TZOFFSETTO:+0000
TZNAME:Europe/London GMT
END:STANDARD
BEGIN:STANDARD
DTSTART:20291028T010000
RDATE:20300331T020000
TZOFFSETFROM:+0100
TZOFFSETTO:+0000
TZNAME:Europe/London GMT
END:STANDARD
BEGIN:STANDARD
DTSTART:20301027T010000
RDATE:20310330T020000
TZOFFSETFROM:+0100
TZOFFSETTO:+0000
TZNAME:Europe/London GMT
END:STANDARD
BEGIN:DAYLIGHT
DTSTART:20240725T100000
RDATE:20241027T010000
TZOFFSETFROM:+0000
TZOFFSETTO:+0100
TZNAME:Europe/London BST
END:DAYLIGHT
BEGIN:DAYLIGHT
DTSTART:20250330T020000
RDATE:20251026T010000
TZOFFSETFROM:+0000
TZOFFSETTO:+0100
TZNAME:Europe/London BST
END:DAYLIGHT
BEGIN:DAYLIGHT
DTSTART:20260329T020000
RDATE:20261025T010000
TZOFFSETFROM:+0000
TZOFFSETTO:+0100
TZNAME:Europe/London BST
END:DAYLIGHT
BEGIN:DAYLIGHT
DTSTART:20270328T020000
RDATE:20271031T010000
TZOFFSETFROM:+0000
TZOFFSETTO:+0100
TZNAME:Europe/London BST
END:DAYLIGHT
BEGIN:DAYLIGHT
DTSTART:20280326T020000
RDATE:20281029T010000
TZOFFSETFROM:+0000
TZOFFSETTO:+0100
TZNAME:Europe/London BST
END:DAYLIGHT
BEGIN:DAYLIGHT
DTSTART:20290325T020000
RDATE:20291028T010000
TZOFFSETFROM:+0000
TZOFFSETTO:+0100
TZNAME:Europe/London BST
END:DAYLIGHT
BEGIN:DAYLIGHT
DTSTART:20300331T020000
RDATE:20301027T010000
TZOFFSETFROM:+0000
TZOFFSETTO:+0100
TZNAME:Europe/London BST
END:DAYLIGHT
END:VTIMEZONE
BEGIN:VEVENT
UID:ef4c43f604693ecd59ceeb2c104c0a22
CATEGORIES:East
CREATED:20250702T151811
SUMMARY:Eastern District Two Tower Morning Practice
LOCATION:Beckley and Peasmarsh
URL;VALUE=URI:https://www.scacr.org/news-events/calendar/1484/eastern-district-two-tower-
 morning-practice?tmpl=component
DESCRIPTION:<p><strong>Eastern District Monthly Practice</strong></p><p><strong>Join us
  for the July event with two towers along the Kent border</strong></p><p>Th
 e confirmed schedule is:</p><ul><li>Peasmarsh 10:00-10:45</li><li>Beckley 1
 1:15-12:00</li></ul><p>We start at Peasmarsh, where this 9½cwt ring of six 
 in the Grade I listed Norman church of St Peter &amp; St Paul.&nbsp; The si
 x bells here are a mix of 17th and 19th century, with two "new" Dutch trebl
 es from 1988.</p><p>We finish the morning at Beckley, where the church of G
 rade I listed church of All Saints is on the western end of this elongated 
 village.&nbsp; There are 6 bells, dating from the 18th to 20th centuries, t
 he tenor tipping the scales at a smidge over 12cwt.</p> <a href="https://ww
 w.scacr.org/news-events/calendar/1484/eastern-district-two-tower-morning-pr
 actice?tmpl=component">This event was imported from: https://www.scacr.org/
 news-events/calendar/1484/eastern-district-two-tower-morning-practice?tmpl=
 component</a>CONTACT:This email address is being protected from spambots. You need JavaScript enabled to view it.
				document.getElementById('cloakdc679237a063a4793afb1798970ffd12').innerHTML = '';
				var prefix = '&#109;a' + 'i&#108;' + '&#116;o';
				var path = 'hr' + 'ef' + '=';
				var addydc679237a063a4793afb1798970ffd12 = 's&#101;c-&#101;&#97;st' + '&#64;';
				addydc679237a063a4793afb1798970ffd12 = addydc679237a063a4793afb1798970ffd12 + 'sc&#97;cr' + '&#46;' + '&#111;rg';
				var addy_textdc679237a063a4793afb1798970ffd12 = 's&#101;c-&#101;&#97;st' + '&#64;' + 'sc&#97;cr' + '&#46;' + '&#111;rg';document.getElementById('cloakdc679237a063a4793afb1798970ffd12').innerHTML += '<a ' + path + '\'' + prefix + ':' + addydc679237a063a4793afb1798970ffd12 + '\'>'+addy_textdc679237a063a4793afb1798970ffd12+'';
		
DTSTAMP:20260421T004055
DTSTART;TZID=Europe/London:20250726T100000
DTEND;TZID=Europe/London:20250726T120000
SEQUENCE:0
TRANSP:OPAQUE
END:VEVENT
END:VCALENDAR