BEGIN:VCALENDAR
VERSION:2.0
PRODID:-//jEvents 2.0 for Joomla//EN
CALSCALE:GREGORIAN
METHOD:PUBLISH
BEGIN:VTIMEZONE
TZID:Europe/London
BEGIN:STANDARD
DTSTART:20241027T010000
RDATE:20250330T020000
TZOFFSETFROM:+0100
TZOFFSETTO:+0000
TZNAME:Europe/London GMT
END:STANDARD
BEGIN:STANDARD
DTSTART:20251026T010000
RDATE:20260329T020000
TZOFFSETFROM:+0100
TZOFFSETTO:+0000
TZNAME:Europe/London GMT
END:STANDARD
BEGIN:STANDARD
DTSTART:20261025T010000
RDATE:20270328T020000
TZOFFSETFROM:+0100
TZOFFSETTO:+0000
TZNAME:Europe/London GMT
END:STANDARD
BEGIN:STANDARD
DTSTART:20271031T010000
RDATE:20280326T020000
TZOFFSETFROM:+0100
TZOFFSETTO:+0000
TZNAME:Europe/London GMT
END:STANDARD
BEGIN:STANDARD
DTSTART:20281029T010000
RDATE:20290325T020000
TZOFFSETFROM:+0100
TZOFFSETTO:+0000
TZNAME:Europe/London GMT
END:STANDARD
BEGIN:STANDARD
DTSTART:20291028T010000
RDATE:20300331T020000
TZOFFSETFROM:+0100
TZOFFSETTO:+0000
TZNAME:Europe/London GMT
END:STANDARD
BEGIN:STANDARD
DTSTART:20301027T010000
RDATE:20310330T020000
TZOFFSETFROM:+0100
TZOFFSETTO:+0000
TZNAME:Europe/London GMT
END:STANDARD
BEGIN:DAYLIGHT
DTSTART:20240711T000000
RDATE:20241027T010000
TZOFFSETFROM:+0000
TZOFFSETTO:+0100
TZNAME:Europe/London BST
END:DAYLIGHT
BEGIN:DAYLIGHT
DTSTART:20250330T020000
RDATE:20251026T010000
TZOFFSETFROM:+0000
TZOFFSETTO:+0100
TZNAME:Europe/London BST
END:DAYLIGHT
BEGIN:DAYLIGHT
DTSTART:20260329T020000
RDATE:20261025T010000
TZOFFSETFROM:+0000
TZOFFSETTO:+0100
TZNAME:Europe/London BST
END:DAYLIGHT
BEGIN:DAYLIGHT
DTSTART:20270328T020000
RDATE:20271031T010000
TZOFFSETFROM:+0000
TZOFFSETTO:+0100
TZNAME:Europe/London BST
END:DAYLIGHT
BEGIN:DAYLIGHT
DTSTART:20280326T020000
RDATE:20281029T010000
TZOFFSETFROM:+0000
TZOFFSETTO:+0100
TZNAME:Europe/London BST
END:DAYLIGHT
BEGIN:DAYLIGHT
DTSTART:20290325T020000
RDATE:20291028T010000
TZOFFSETFROM:+0000
TZOFFSETTO:+0100
TZNAME:Europe/London BST
END:DAYLIGHT
BEGIN:DAYLIGHT
DTSTART:20300331T020000
RDATE:20301027T010000
TZOFFSETFROM:+0000
TZOFFSETTO:+0100
TZNAME:Europe/London BST
END:DAYLIGHT
END:VTIMEZONE
BEGIN:VEVENT
UID:30a62fff9e1944dd57180f58a241e538
CATEGORIES:West
CREATED:20250611T130927
SUMMARY:MINI OUTING!
LOCATION: WALBERTON\, YAPTON\, ARUNDEL AND AMBERLEY
URL;VALUE=URI:https://www.scacr.org/news-events/calendar/1480/mini-outing?tmpl=component
DESCRIPTION:PLEASE ALLOW PLENTY OF TIME TO ARRIVE AT THE FIRST TOWER AS THE FESTIVAL OF
  SPEED IS ON AT GOODWOOD AND TRAFFIC IS LIKLEY TO BE HEAVY!\nSUSSEX COUNTY 
 ASSOCIATION OF CHANGE RINGERS.\nWestern District - Saturday  12th July 2025
 \nMINI OUTING!\nRING:\n10 – 11  St Mary’s Church, WALBERTON. (6) BN18 0FH. 
 EASY STEPS TO RINGING ROOM.\nParking in lane leading up to church – go up t
 o church – turn around and park on left. Toilet facilities.\nRING:\n11.20 –
  12.20  St Mary’s Church, YAPTON. (6) BN18 0GP. Ground floor ring.\n Street
  Parking.  Toilet facilities.\nLUNCH \nOpportunity to have picnic/pub lunch
 /cafes in Arundel  ready for next tower.\nRING:\n14.15 – 15.15   St Nichola
 s  Church, (8) ARUNDEL (BN18 9AT) UPSTAIRS RING, EASY ACCESS.\n(STREET PARK
 ING LIMITED).  SUGGEST FITZALEN POOL CAR PARK BN18 9JJ.  PAY AND DISPLAY.  
 CASH AND APP.  OPPOSITE POLICE STATION BOTTOM OF HILL – STEEP 20 MINUTE WAL
 K UP TO CHURCH.  TOILET FACILITIES\nRING:\n15.45 – 16.45 St Michael’s Churc
 h, AMBERLEY. (5 – anti-clockwise)\n (BN18 9NF)  \n(STREET PARKING. NO TOILE
 T FACILITIES)\n \nContact -   (mailto:sec-west@scacr.org) (mailto:sec-west@
 scacr.org)This email address is being protected from spambots. You need Jav
 aScript enabled to view it.
				document.getElementById('cloak2fe371055c6e2
 2be944d8bc44467d907').innerHTML = '';
				var prefix = '&#109;a' + 'i&#108;
 ' + '&#116;o';
				var path = 'hr' + 'ef' + '=';
				var addy2fe371055c6e22
 be944d8bc44467d907 = 's&#101;c-w&#101;st' + '&#64;';
				addy2fe371055c6e22
 be944d8bc44467d907 = addy2fe371055c6e22be944d8bc44467d907 + 'sc&#97;cr' + '
 &#46;' + '&#111;rg';
				var addy_text2fe371055c6e22be944d8bc44467d907 = 's
 &#101;c-w&#101;st' + '&#64;' + 'sc&#97;cr' + '&#46;' + '&#111;rg';document.
 getElementById('cloak2fe371055c6e22be944d8bc44467d907').innerHTML += '<a ' 
 + path + '\'' + prefix + ':' + addy2fe371055c6e22be944d8bc44467d907 + '\'>'
 +addy_text2fe371055c6e22be944d8bc44467d907+'';
		 or call Janice on  078908
 04339\n   FULL DETAILS ON WEBSITE!\nEVERYONE WELCOME!\n This event was impo
 rted from: https://www.scacr.org/news-events/calendar/1480/mini-outing?tmpl
 =component (https://www.scacr.org/news-events/calendar/1480/mini-outing?tmp
 l=component)
X-ALT-DESC;FMTTYPE=text/html:<p>PLEASE ALLOW PLENTY OF TIME TO ARRIVE AT THE FIRST TOWER AS THE FESTIVAL
  OF SPEED IS ON AT GOODWOOD AND TRAFFIC IS LIKLEY TO BE HEAVY!</p><p><stron
 g><em>SUSSEX COUNTY ASSOCIATION OF CHANGE RINGERS.</em></strong></p><p>West
 ern District - <strong>Saturday &nbsp;12<sup>th</sup> July 2025</strong></p
 ><p>MINI OUTING!</p><p><strong>RING</strong><strong>:</strong></p><p><stron
 g>10 – 11&nbsp; St Mary’s Church, WALBERTON. (6) BN18 0FH. EASY STEPS TO RI
 NGING ROOM.</strong></p><p>Parking in lane leading up to church – go up to 
 church – turn around and park on left. Toilet facilities.</p><p><strong>RIN
 G:</strong></p><p><strong>11.20 – 12.20&nbsp; St Mary’s Church, YAPTON. (6)
  BN18 0GP. Ground floor ring.</strong></p><p>&nbsp;Street Parking.&nbsp; To
 ilet facilities.</p><p>LUNCH&nbsp;</p><p>Opportunity to have picnic/pub lun
 ch/cafes in Arundel &nbsp;ready for next tower.</p><p><strong>RING:</strong
 ></p><p><strong>14.15 – 15.15 &nbsp;&nbsp;St Nicholas &nbsp;Church, (8)</st
 rong> <strong>ARUNDEL (BN18 9AT) UPSTAIRS RING, EASY ACCESS.</strong></p><p
 >(STREET PARKING LIMITED). &nbsp;SUGGEST FITZALEN POOL CAR PARK BN18 9JJ. &
 nbsp;PAY AND DISPLAY. &nbsp;CASH AND APP. &nbsp;OPPOSITE POLICE STATION BOT
 TOM OF HILL – STEEP 20 MINUTE WALK UP TO CHURCH.&nbsp; TOILET FACILITIES</p
 ><p><strong>RING:</strong></p><p><strong>15.45 – 16.45 St Michael’s Church,
  AMBERLEY.</strong> <strong>(5 – anti-clockwise)</strong></p><p><strong>&nb
 sp;(BN18 9NF)&nbsp; </strong></p><p>(STREET PARKING. NO TOILET FACILITIES)<
 /p><p><strong>&nbsp;</strong></p><p><strong><em>Contact - &nbsp;</em></stro
 ng><a href="mailto:sec-west@scacr.org"><em></em></a><strong><em><a href="ma
 ilto:sec-west@scacr.org"></a><span id="cloak2fe371055c6e22be944d8bc44467d90
 7">This email address is being protected from spambots. You need JavaScript
  enabled to view it.</span><script type='text/javascript'>
				document.get
 ElementById('cloak2fe371055c6e22be944d8bc44467d907').innerHTML = '';
				va
 r prefix = '&#109;a' + 'i&#108;' + '&#116;o';
				var path = 'hr' + 'ef' + 
 '=';
				var addy2fe371055c6e22be944d8bc44467d907 = 's&#101;c-w&#101;st' + 
 '&#64;';
				addy2fe371055c6e22be944d8bc44467d907 = addy2fe371055c6e22be944
 d8bc44467d907 + 'sc&#97;cr' + '&#46;' + '&#111;rg';
				var addy_text2fe371
 055c6e22be944d8bc44467d907 = 's&#101;c-w&#101;st' + '&#64;' + 'sc&#97;cr' +
  '&#46;' + '&#111;rg';document.getElementById('cloak2fe371055c6e22be944d8bc
 44467d907').innerHTML += '<a ' + path + '\'' + prefix + ':' + addy2fe371055
 c6e22be944d8bc44467d907 + '\'>'+addy_text2fe371055c6e22be944d8bc44467d907+'
 <\/a>';
		</script></em></strong><strong><em> or call Janice on &nbsp;07890
 804339</em></strong></p><p><strong><em>&nbsp;&nbsp; FULL DETAILS ON WEBSITE
 !</em></strong></p><p>EVERYONE WELCOME!</p> <a href="https://www.scacr.org/
 news-events/calendar/1480/mini-outing?tmpl=component">This event was import
 ed from: https://www.scacr.org/news-events/calendar/1480/mini-outing?tmpl=c
 omponent</a>CONTACT:This email address is being protected from spambots. You need JavaScript enabled to view it.
				document.getElementById('cloak07db88d6b7a5695ab7d31ad29f69756e').innerHTML = '';
				var prefix = '&#109;a' + 'i&#108;' + '&#116;o';
				var path = 'hr' + 'ef' + '=';
				var addy07db88d6b7a5695ab7d31ad29f69756e = 's&#101;c-w&#101;st' + '&#64;';
				addy07db88d6b7a5695ab7d31ad29f69756e = addy07db88d6b7a5695ab7d31ad29f69756e + 'sc&#97;cr' + '&#46;' + '&#111;rg';
				var addy_text07db88d6b7a5695ab7d31ad29f69756e = 's&#101;c-w&#101;st' + '&#64;' + 'sc&#97;cr' + '&#46;' + '&#111;rg';document.getElementById('cloak07db88d6b7a5695ab7d31ad29f69756e').innerHTML += '<a ' + path + '\'' + prefix + ':' + addy07db88d6b7a5695ab7d31ad29f69756e + '\'>'+addy_text07db88d6b7a5695ab7d31ad29f69756e+'';
		  or 07890804339
X-EXTRAINFO:PLEASE ALLOW PLENTY OF TIME TO ARRIVE AT THE FIRST TOWER AS THE FESTIVAL OF
  SPEED IS ON AND THE TRAFFIC IS LIKELY TO BE HEAVY!
DTSTAMP:20260422T013627
DTSTART;TZID=Europe/London;VALUE=DATE:20250712
DTEND;TZID=Europe/London;VALUE=DATE:20250713
SEQUENCE:0
TRANSP:OPAQUE
END:VEVENT
END:VCALENDAR