BEGIN:VCALENDAR
VERSION:2.0
PRODID:-//jEvents 2.0 for Joomla//EN
CALSCALE:GREGORIAN
METHOD:PUBLISH
BEGIN:VTIMEZONE
TZID:Europe/London
BEGIN:STANDARD
DTSTART:20241027T010000
RDATE:20250330T020000
TZOFFSETFROM:+0100
TZOFFSETTO:+0000
TZNAME:Europe/London GMT
END:STANDARD
BEGIN:STANDARD
DTSTART:20251026T010000
RDATE:20260329T020000
TZOFFSETFROM:+0100
TZOFFSETTO:+0000
TZNAME:Europe/London GMT
END:STANDARD
BEGIN:STANDARD
DTSTART:20261025T010000
RDATE:20270328T020000
TZOFFSETFROM:+0100
TZOFFSETTO:+0000
TZNAME:Europe/London GMT
END:STANDARD
BEGIN:STANDARD
DTSTART:20271031T010000
RDATE:20280326T020000
TZOFFSETFROM:+0100
TZOFFSETTO:+0000
TZNAME:Europe/London GMT
END:STANDARD
BEGIN:STANDARD
DTSTART:20281029T010000
RDATE:20290325T020000
TZOFFSETFROM:+0100
TZOFFSETTO:+0000
TZNAME:Europe/London GMT
END:STANDARD
BEGIN:STANDARD
DTSTART:20291028T010000
RDATE:20300331T020000
TZOFFSETFROM:+0100
TZOFFSETTO:+0000
TZNAME:Europe/London GMT
END:STANDARD
BEGIN:STANDARD
DTSTART:20301027T010000
RDATE:20310330T020000
TZOFFSETFROM:+0100
TZOFFSETTO:+0000
TZNAME:Europe/London GMT
END:STANDARD
BEGIN:DAYLIGHT
DTSTART:20240808T100000
RDATE:20241027T010000
TZOFFSETFROM:+0000
TZOFFSETTO:+0100
TZNAME:Europe/London BST
END:DAYLIGHT
BEGIN:DAYLIGHT
DTSTART:20250330T020000
RDATE:20251026T010000
TZOFFSETFROM:+0000
TZOFFSETTO:+0100
TZNAME:Europe/London BST
END:DAYLIGHT
BEGIN:DAYLIGHT
DTSTART:20260329T020000
RDATE:20261025T010000
TZOFFSETFROM:+0000
TZOFFSETTO:+0100
TZNAME:Europe/London BST
END:DAYLIGHT
BEGIN:DAYLIGHT
DTSTART:20270328T020000
RDATE:20271031T010000
TZOFFSETFROM:+0000
TZOFFSETTO:+0100
TZNAME:Europe/London BST
END:DAYLIGHT
BEGIN:DAYLIGHT
DTSTART:20280326T020000
RDATE:20281029T010000
TZOFFSETFROM:+0000
TZOFFSETTO:+0100
TZNAME:Europe/London BST
END:DAYLIGHT
BEGIN:DAYLIGHT
DTSTART:20290325T020000
RDATE:20291028T010000
TZOFFSETFROM:+0000
TZOFFSETTO:+0100
TZNAME:Europe/London BST
END:DAYLIGHT
BEGIN:DAYLIGHT
DTSTART:20300331T020000
RDATE:20301027T010000
TZOFFSETFROM:+0000
TZOFFSETTO:+0100
TZNAME:Europe/London BST
END:DAYLIGHT
END:VTIMEZONE
BEGIN:VEVENT
UID:7fc6ea60b6fbb32c3fb24c5cff9a0d7e
CATEGORIES:West
CREATED:20250611T125733
SUMMARY:GENERAL RINGING PRACTICE.
LOCATION:St Giles Church Graffham
URL;VALUE=URI:https://www.scacr.org/news-events/calendar/1479/general-ringing-practice?tm
 pl=component
DESCRIPTION:Due to holidays - there will be no usual 2nd Saturday District Event.  Howe
 ver, everyone is welcome to join the usual Saturday morning practice at Gra
 ffham followed by a walk picnic if you would like to stay.  Tea and cake wi
 ll be available.  \nTo book please contact  This email address is being pro
 tected from spambots. You need JavaScript enabled to view it.
				document.
 getElementById('cloaka6449c8a21f1111239768eb2ca9c15ef').innerHTML = '';
			
 	var prefix = '&#109;a' + 'i&#108;' + '&#116;o';
				var path = 'hr' + 'ef'
  + '=';
				var addya6449c8a21f1111239768eb2ca9c15ef = 'hfjp&#101;sc&#111;t
 t' + '&#64;';
				addya6449c8a21f1111239768eb2ca9c15ef = addya6449c8a21f111
 1239768eb2ca9c15ef + '&#111;&#117;tl&#111;&#111;k' + '&#46;' + 'c&#111;m';

 				var addy_texta6449c8a21f1111239768eb2ca9c15ef = 'hfjp&#101;sc&#111;tt' 
 + '&#64;' + '&#111;&#117;tl&#111;&#111;k' + '&#46;' + 'c&#111;m';document.g
 etElementById('cloaka6449c8a21f1111239768eb2ca9c15ef').innerHTML += '<a ' +
  path + '\'' + prefix + ':' + addya6449c8a21f1111239768eb2ca9c15ef + '\'>'+
 addy_texta6449c8a21f1111239768eb2ca9c15ef+'';
		 or This email address is b
 eing protected from spambots. You need JavaScript enabled to view it.
				d
 ocument.getElementById('cloak2a08280ec4e191043acbd1d77fe5fb92').innerHTML =
  '';
				var prefix = '&#109;a' + 'i&#108;' + '&#116;o';
				var path = 'hr
 ' + 'ef' + '=';
				var addy2a08280ec4e191043acbd1d77fe5fb92 = 'tr&#97;&#10
 5;n&#105;ng' + '&#64;';
				addy2a08280ec4e191043acbd1d77fe5fb92 = addy2a08
 280ec4e191043acbd1d77fe5fb92 + 'sc&#97;cr' + '&#46;' + '&#111;rg';
				var 
 addy_text2a08280ec4e191043acbd1d77fe5fb92 = 'tr&#97;&#105;n&#105;ng' + '&#6
 4;' + 'sc&#97;cr' + '&#46;' + '&#111;rg';document.getElementById('cloak2a08
 280ec4e191043acbd1d77fe5fb92').innerHTML += '<a ' + path + '\'' + prefix + 
 ':' + addy2a08280ec4e191043acbd1d77fe5fb92 + '\'>'+addy_text2a08280ec4e1910
 43acbd1d77fe5fb92+'';
		\n This event was imported from: https://www.scacr.
 org/news-events/calendar/1479/general-ringing-practice?tmpl=component (http
 s://www.scacr.org/news-events/calendar/1479/general-ringing-practice?tmpl=c
 omponent)
X-ALT-DESC;FMTTYPE=text/html:<p>Due to holidays - there will be no usual 2nd Saturday District Event.&nb
 sp; However, everyone is welcome to join the usual Saturday morning practic
 e at Graffham followed by a walk picnic if you would like to stay.&nbsp; Te
 a and cake will be available.&nbsp;&nbsp;</p><p>To book please contact&nbsp
 ; <span id="cloaka6449c8a21f1111239768eb2ca9c15ef">This email address is be
 ing protected from spambots. You need JavaScript enabled to view it.</span>
 <script type='text/javascript'>
				document.getElementById('cloaka6449c8a2
 1f1111239768eb2ca9c15ef').innerHTML = '';
				var prefix = '&#109;a' + 'i&#
 108;' + '&#116;o';
				var path = 'hr' + 'ef' + '=';
				var addya6449c8a21
 f1111239768eb2ca9c15ef = 'hfjp&#101;sc&#111;tt' + '&#64;';
				addya6449c8a
 21f1111239768eb2ca9c15ef = addya6449c8a21f1111239768eb2ca9c15ef + '&#111;&#
 117;tl&#111;&#111;k' + '&#46;' + 'c&#111;m';
				var addy_texta6449c8a21f11
 11239768eb2ca9c15ef = 'hfjp&#101;sc&#111;tt' + '&#64;' + '&#111;&#117;tl&#1
 11;&#111;k' + '&#46;' + 'c&#111;m';document.getElementById('cloaka6449c8a21
 f1111239768eb2ca9c15ef').innerHTML += '<a ' + path + '\'' + prefix + ':' + 
 addya6449c8a21f1111239768eb2ca9c15ef + '\'>'+addy_texta6449c8a21f1111239768
 eb2ca9c15ef+'<\/a>';
		</script>&nbsp;or <span id="cloak2a08280ec4e191043ac
 bd1d77fe5fb92">This email address is being protected from spambots. You nee
 d JavaScript enabled to view it.</span><script type='text/javascript'>
				
 document.getElementById('cloak2a08280ec4e191043acbd1d77fe5fb92').innerHTML 
 = '';
				var prefix = '&#109;a' + 'i&#108;' + '&#116;o';
				var path = 'h
 r' + 'ef' + '=';
				var addy2a08280ec4e191043acbd1d77fe5fb92 = 'tr&#97;&#1
 05;n&#105;ng' + '&#64;';
				addy2a08280ec4e191043acbd1d77fe5fb92 = addy2a0
 8280ec4e191043acbd1d77fe5fb92 + 'sc&#97;cr' + '&#46;' + '&#111;rg';
				var
  addy_text2a08280ec4e191043acbd1d77fe5fb92 = 'tr&#97;&#105;n&#105;ng' + '&#
 64;' + 'sc&#97;cr' + '&#46;' + '&#111;rg';document.getElementById('cloak2a0
 8280ec4e191043acbd1d77fe5fb92').innerHTML += '<a ' + path + '\'' + prefix +
  ':' + addy2a08280ec4e191043acbd1d77fe5fb92 + '\'>'+addy_text2a08280ec4e191
 043acbd1d77fe5fb92+'<\/a>';
		</script></p> <a href="https://www.scacr.org/
 news-events/calendar/1479/general-ringing-practice?tmpl=component">This eve
 nt was imported from: https://www.scacr.org/news-events/calendar/1479/gener
 al-ringing-practice?tmpl=component</a>CONTACT:This email address is being protected from spambots. You need JavaScript enabled to view it.
				document.getElementById('cloak20013dab05583375a03f5b99837ede7a').innerHTML = '';
				var prefix = '&#109;a' + 'i&#108;' + '&#116;o';
				var path = 'hr' + 'ef' + '=';
				var addy20013dab05583375a03f5b99837ede7a = 'tr&#97;&#105;n&#105;ng' + '&#64;';
				addy20013dab05583375a03f5b99837ede7a = addy20013dab05583375a03f5b99837ede7a + 'sc&#97;cr' + '&#46;' + '&#111;rg';
				var addy_text20013dab05583375a03f5b99837ede7a = 'tr&#97;&#105;n&#105;ng' + '&#64;' + 'sc&#97;cr' + '&#46;' + '&#111;rg';document.getElementById('cloak20013dab05583375a03f5b99837ede7a').innerHTML += '<a ' + path + '\'' + prefix + ':' + addy20013dab05583375a03f5b99837ede7a + '\'>'+addy_text20013dab05583375a03f5b99837ede7a+'';
		
DTSTAMP:20260420T065144
DTSTART;TZID=Europe/London:20250809T100000
DTEND;TZID=Europe/London:20250809T120000
SEQUENCE:0
TRANSP:OPAQUE
END:VEVENT
END:VCALENDAR