BEGIN:VCALENDAR
VERSION:2.0
PRODID:-//jEvents 2.0 for Joomla//EN
CALSCALE:GREGORIAN
METHOD:PUBLISH
BEGIN:VTIMEZONE
TZID:Europe/London
BEGIN:STANDARD
DTSTART:20241027T010000
RDATE:20250330T020000
TZOFFSETFROM:+0100
TZOFFSETTO:+0000
TZNAME:Europe/London GMT
END:STANDARD
BEGIN:STANDARD
DTSTART:20251026T010000
RDATE:20260329T020000
TZOFFSETFROM:+0100
TZOFFSETTO:+0000
TZNAME:Europe/London GMT
END:STANDARD
BEGIN:STANDARD
DTSTART:20261025T010000
RDATE:20270328T020000
TZOFFSETFROM:+0100
TZOFFSETTO:+0000
TZNAME:Europe/London GMT
END:STANDARD
BEGIN:STANDARD
DTSTART:20271031T010000
RDATE:20280326T020000
TZOFFSETFROM:+0100
TZOFFSETTO:+0000
TZNAME:Europe/London GMT
END:STANDARD
BEGIN:STANDARD
DTSTART:20281029T010000
RDATE:20290325T020000
TZOFFSETFROM:+0100
TZOFFSETTO:+0000
TZNAME:Europe/London GMT
END:STANDARD
BEGIN:STANDARD
DTSTART:20291028T010000
RDATE:20300331T020000
TZOFFSETFROM:+0100
TZOFFSETTO:+0000
TZNAME:Europe/London GMT
END:STANDARD
BEGIN:STANDARD
DTSTART:20301027T010000
RDATE:20310330T020000
TZOFFSETFROM:+0100
TZOFFSETTO:+0000
TZNAME:Europe/London GMT
END:STANDARD
BEGIN:DAYLIGHT
DTSTART:20240725T101500
RDATE:20241027T010000
TZOFFSETFROM:+0000
TZOFFSETTO:+0100
TZNAME:Europe/London BST
END:DAYLIGHT
BEGIN:DAYLIGHT
DTSTART:20250330T020000
RDATE:20251026T010000
TZOFFSETFROM:+0000
TZOFFSETTO:+0100
TZNAME:Europe/London BST
END:DAYLIGHT
BEGIN:DAYLIGHT
DTSTART:20260329T020000
RDATE:20261025T010000
TZOFFSETFROM:+0000
TZOFFSETTO:+0100
TZNAME:Europe/London BST
END:DAYLIGHT
BEGIN:DAYLIGHT
DTSTART:20270328T020000
RDATE:20271031T010000
TZOFFSETFROM:+0000
TZOFFSETTO:+0100
TZNAME:Europe/London BST
END:DAYLIGHT
BEGIN:DAYLIGHT
DTSTART:20280326T020000
RDATE:20281029T010000
TZOFFSETFROM:+0000
TZOFFSETTO:+0100
TZNAME:Europe/London BST
END:DAYLIGHT
BEGIN:DAYLIGHT
DTSTART:20290325T020000
RDATE:20291028T010000
TZOFFSETFROM:+0000
TZOFFSETTO:+0100
TZNAME:Europe/London BST
END:DAYLIGHT
BEGIN:DAYLIGHT
DTSTART:20300331T020000
RDATE:20301027T010000
TZOFFSETFROM:+0000
TZOFFSETTO:+0100
TZNAME:Europe/London BST
END:DAYLIGHT
END:VTIMEZONE
BEGIN:VEVENT
UID:5804bbd5028170cf8b500eec087df70b
CATEGORIES:West
CREATED:20250611T123916
SUMMARY:Surprise Minor Practice
LOCATION:St Mary's Church\, Walberton
URL;VALUE=URI:https://www.scacr.org/news-events/calendar/1472/surprise-minor-practice?tmp
 l=component
DESCRIPTION:This is a regular monthly event giving ringers the opportunity to ring  met
 hods such as Plain courses and touches of Cambridge and Norwich and Plain c
 ourses of Beverley, London, Carlisle and Pure Treble Bob Hunt!!   Refreshme
 nts are provided.  Please contact This email address is being protected fro
 m spambots. You need JavaScript enabled to view it.
				document.getElement
 ById('cloak6f46bfc428507ce8dc038b8900e85b3a').innerHTML = '';
				var prefi
 x = '&#109;a' + 'i&#108;' + '&#116;o';
				var path = 'hr' + 'ef' + '=';
		
 		var addy6f46bfc428507ce8dc038b8900e85b3a = 's&#101;c-w&#101;st' + '&#64;'
 ;
				addy6f46bfc428507ce8dc038b8900e85b3a = addy6f46bfc428507ce8dc038b8900
 e85b3a + 'sc&#97;cr' + '&#46;' + '&#111;rg';
				var addy_text6f46bfc428507
 ce8dc038b8900e85b3a = 's&#101;c-w&#101;st' + '&#64;' + 'sc&#97;cr' + '&#46;
 ' + '&#111;rg';document.getElementById('cloak6f46bfc428507ce8dc038b8900e85b
 3a').innerHTML += '<a ' + path + '\'' + prefix + ':' + addy6f46bfc428507ce8
 dc038b8900e85b3a + '\'>'+addy_text6f46bfc428507ce8dc038b8900e85b3a+'';
		 i
 f you would like refreshments.\nThis month the plan is to ring Plain coures
   and touches of Cambridge, and London.  Beverley is also on the cards alon
 g with Bourne and Annabels London!\n This event was imported from: https://
 www.scacr.org/news-events/calendar/1472/surprise-minor-practice?tmpl=compon
 ent (https://www.scacr.org/news-events/calendar/1472/surprise-minor-practic
 e?tmpl=component)
X-ALT-DESC;FMTTYPE=text/html:<p>This is a regular monthly event giving ringers the opportunity to ring&n
 bsp; methods such as Plain courses and touches of Cambridge and Norwich and
  Plain courses of Beverley, London, Carlisle and Pure Treble Bob Hunt!!&nbs
 p; &nbsp;Refreshments are provided.&nbsp; Please contact <span id="cloak6f4
 6bfc428507ce8dc038b8900e85b3a">This email address is being protected from s
 pambots. You need JavaScript enabled to view it.</span><script type='text/j
 avascript'>
				document.getElementById('cloak6f46bfc428507ce8dc038b8900e85
 b3a').innerHTML = '';
				var prefix = '&#109;a' + 'i&#108;' + '&#116;o';
	
 			var path = 'hr' + 'ef' + '=';
				var addy6f46bfc428507ce8dc038b8900e85b
 3a = 's&#101;c-w&#101;st' + '&#64;';
				addy6f46bfc428507ce8dc038b8900e85b
 3a = addy6f46bfc428507ce8dc038b8900e85b3a + 'sc&#97;cr' + '&#46;' + '&#111;
 rg';
				var addy_text6f46bfc428507ce8dc038b8900e85b3a = 's&#101;c-w&#101;s
 t' + '&#64;' + 'sc&#97;cr' + '&#46;' + '&#111;rg';document.getElementById('
 cloak6f46bfc428507ce8dc038b8900e85b3a').innerHTML += '<a ' + path + '\'' + 
 prefix + ':' + addy6f46bfc428507ce8dc038b8900e85b3a + '\'>'+addy_text6f46bf
 c428507ce8dc038b8900e85b3a+'<\/a>';
		</script>&nbsp;if you would like refr
 eshments.</p><p>This month the plan is to ring Plain coures&nbsp; and touch
 es of Cambridge, and London.&nbsp; Beverley is also on the cards along with
  Bourne and Annabels London!</p> <a href="https://www.scacr.org/news-events
 /calendar/1472/surprise-minor-practice?tmpl=component">This event was impor
 ted from: https://www.scacr.org/news-events/calendar/1472/surprise-minor-pr
 actice?tmpl=component</a>CONTACT:This email address is being protected from spambots. You need JavaScript enabled to view it.
				document.getElementById('cloak1612ba6222a1646662b3feee078e2308').innerHTML = '';
				var prefix = '&#109;a' + 'i&#108;' + '&#116;o';
				var path = 'hr' + 'ef' + '=';
				var addy1612ba6222a1646662b3feee078e2308 = 's&#101;c-w&#101;st' + '&#64;';
				addy1612ba6222a1646662b3feee078e2308 = addy1612ba6222a1646662b3feee078e2308 + 'sc&#97;cr' + '&#46;' + '&#111;rg';
				var addy_text1612ba6222a1646662b3feee078e2308 = 's&#101;c-w&#101;st' + '&#64;' + 'sc&#97;cr' + '&#46;' + '&#111;rg';document.getElementById('cloak1612ba6222a1646662b3feee078e2308').innerHTML += '<a ' + path + '\'' + prefix + ':' + addy1612ba6222a1646662b3feee078e2308 + '\'>'+addy_text1612ba6222a1646662b3feee078e2308+'';
		
DTSTAMP:20260421T004115
DTSTART;TZID=Europe/London:20250726T101500
DTEND;TZID=Europe/London:20250726T120000
SEQUENCE:0
TRANSP:OPAQUE
END:VEVENT
END:VCALENDAR