BEGIN:VCALENDAR
VERSION:2.0
PRODID:-//jEvents 2.0 for Joomla//EN
CALSCALE:GREGORIAN
METHOD:PUBLISH
BEGIN:VTIMEZONE
TZID:Europe/London
BEGIN:STANDARD
DTSTART:20241217T110000
RDATE:20250330T020000
TZOFFSETFROM:+0100
TZOFFSETTO:+0000
TZNAME:Europe/London GMT
END:STANDARD
BEGIN:STANDARD
DTSTART:20251026T010000
RDATE:20260329T020000
TZOFFSETFROM:+0100
TZOFFSETTO:+0000
TZNAME:Europe/London GMT
END:STANDARD
BEGIN:STANDARD
DTSTART:20261025T010000
RDATE:20270328T020000
TZOFFSETFROM:+0100
TZOFFSETTO:+0000
TZNAME:Europe/London GMT
END:STANDARD
BEGIN:STANDARD
DTSTART:20271031T010000
RDATE:20280326T020000
TZOFFSETFROM:+0100
TZOFFSETTO:+0000
TZNAME:Europe/London GMT
END:STANDARD
BEGIN:STANDARD
DTSTART:20281029T010000
RDATE:20290325T020000
TZOFFSETFROM:+0100
TZOFFSETTO:+0000
TZNAME:Europe/London GMT
END:STANDARD
BEGIN:STANDARD
DTSTART:20291028T010000
RDATE:20300331T020000
TZOFFSETFROM:+0100
TZOFFSETTO:+0000
TZNAME:Europe/London GMT
END:STANDARD
BEGIN:STANDARD
DTSTART:20301027T010000
RDATE:20310330T020000
TZOFFSETFROM:+0100
TZOFFSETTO:+0000
TZNAME:Europe/London GMT
END:STANDARD
BEGIN:DAYLIGHT
DTSTART:20250330T020000
RDATE:20251026T010000
TZOFFSETFROM:+0000
TZOFFSETTO:+0100
TZNAME:Europe/London BST
END:DAYLIGHT
BEGIN:DAYLIGHT
DTSTART:20260329T020000
RDATE:20261025T010000
TZOFFSETFROM:+0000
TZOFFSETTO:+0100
TZNAME:Europe/London BST
END:DAYLIGHT
BEGIN:DAYLIGHT
DTSTART:20270328T020000
RDATE:20271031T010000
TZOFFSETFROM:+0000
TZOFFSETTO:+0100
TZNAME:Europe/London BST
END:DAYLIGHT
BEGIN:DAYLIGHT
DTSTART:20280326T020000
RDATE:20281029T010000
TZOFFSETFROM:+0000
TZOFFSETTO:+0100
TZNAME:Europe/London BST
END:DAYLIGHT
BEGIN:DAYLIGHT
DTSTART:20290325T020000
RDATE:20291028T010000
TZOFFSETFROM:+0000
TZOFFSETTO:+0100
TZNAME:Europe/London BST
END:DAYLIGHT
BEGIN:DAYLIGHT
DTSTART:20300331T020000
RDATE:20301027T010000
TZOFFSETFROM:+0000
TZOFFSETTO:+0100
TZNAME:Europe/London BST
END:DAYLIGHT
END:VTIMEZONE
BEGIN:VEVENT
UID:ab5cd0b594d49b6e1a17d70ce30a573f
CATEGORIES:Association Event
CREATED:20250514T124652
SUMMARY:Codgers
LOCATION:Findon &amp; Washington
URL;VALUE=URI:https://www.scacr.org/news-events/calendar/1460/codgers?tmpl=component
DESCRIPTION:Itinerary:\n11.00 to 12.00:    Findon (St John the Baptist - 6 bells). Park
 ing in the church drive (off the A24). Ground floor ring.\n12.15 to 13.45: 
    Pub lunch at The Frankland Arms, Washington, or make your own arrangemen
 ts. Meals must be booked in advance - the email to book your meal is This e
 mail address is being protected from spambots. You need JavaScript enabled 
 to view it.
				document.getElementById('cloak8837bec9484cbc16f627107faa845
 d6b').innerHTML = '';
				var prefix = '&#109;a' + 'i&#108;' + '&#116;o';
	
 			var path = 'hr' + 'ef' + '=';
				var addy8837bec9484cbc16f627107faa845d
 6b = 'c&#111;dg&#101;rs' + '&#64;';
				addy8837bec9484cbc16f627107faa845d6
 b = addy8837bec9484cbc16f627107faa845d6b + 'sc&#97;cr' + '&#46;' + '&#111;r
 g';
				var addy_text8837bec9484cbc16f627107faa845d6b = 'c&#111;dg&#101;rs'
  + '&#64;' + 'sc&#97;cr' + '&#46;' + '&#111;rg';document.getElementById('cl
 oak8837bec9484cbc16f627107faa845d6b').innerHTML += '<a ' + path + '\'' + pr
 efix + ':' + addy8837bec9484cbc16f627107faa845d6b + '\'>'+addy_text8837bec9
 484cbc16f627107faa845d6b+'';
		 and I must receive orders by midday on Mond
 ay 15th Dec.The Christmas menu is NOT available - choose from Lunch Menu, M
 ain Menu or Half Portion Menu which are on the website: https://thefranklan
 darms.com/food-drink/ (https://thefranklandarms.com/food-drink/)\n14.00 to 
 15.00     Washington (St Mary - 6-bells).   Parking on road near church. Gr
 ound floor ring.\nPlease email  (mailto:codgers@scacr.org)This email addres
 s is being protected from spambots. You need JavaScript enabled to view it.
 
				document.getElementById('cloak6bb3396845234759d826c13648c0efb1').inner
 HTML = '';
				var prefix = '&#109;a' + 'i&#108;' + '&#116;o';
				var path
  = 'hr' + 'ef' + '=';
				var addy6bb3396845234759d826c13648c0efb1 = 'c&#11
 1;dg&#101;rs' + '&#64;';
				addy6bb3396845234759d826c13648c0efb1 = addy6bb
 3396845234759d826c13648c0efb1 + 'sc&#97;cr' + '&#46;' + '&#111;rg';
				var
  addy_text6bb3396845234759d826c13648c0efb1 = 'c&#111;dg&#101;rs' + '&#64;' 
 + 'sc&#97;cr' + '&#46;' + '&#111;rg';document.getElementById('cloak6bb33968
 45234759d826c13648c0efb1').innerHTML += '<a ' + path + '\'' + prefix + ':' 
 + addy6bb3396845234759d826c13648c0efb1 + '\'>'+addy_text6bb3396845234759d82
 6c13648c0efb1+'';
		 to let us know you are coming.\n This event was import
 ed from: https://www.scacr.org/news-events/calendar/1460/codgers?tmpl=compo
 nent (https://www.scacr.org/news-events/calendar/1460/codgers?tmpl=componen
 t)
X-ALT-DESC;FMTTYPE=text/html:<p>Itinerary:</p><p>11.00 to 12.00:&nbsp; &nbsp; Findon (St John the Baptis
 t - 6 bells). Parking in the church drive (off the A24). Ground floor ring.
 </p><p>12.15 to 13.45:&nbsp; &nbsp; Pub lunch at The Frankland Arms, Washin
 gton, or make your own arrangements. Meals must be booked in advance - the 
 email to book your meal is <span id="cloak8837bec9484cbc16f627107faa845d6b"
 >This email address is being protected from spambots. You need JavaScript e
 nabled to view it.</span><script type='text/javascript'>
				document.getEl
 ementById('cloak8837bec9484cbc16f627107faa845d6b').innerHTML = '';
				var 
 prefix = '&#109;a' + 'i&#108;' + '&#116;o';
				var path = 'hr' + 'ef' + '=
 ';
				var addy8837bec9484cbc16f627107faa845d6b = 'c&#111;dg&#101;rs' + '&#
 64;';
				addy8837bec9484cbc16f627107faa845d6b = addy8837bec9484cbc16f62710
 7faa845d6b + 'sc&#97;cr' + '&#46;' + '&#111;rg';
				var addy_text8837bec94
 84cbc16f627107faa845d6b = 'c&#111;dg&#101;rs' + '&#64;' + 'sc&#97;cr' + '&#
 46;' + '&#111;rg';document.getElementById('cloak8837bec9484cbc16f627107faa8
 45d6b').innerHTML += '<a ' + path + '\'' + prefix + ':' + addy8837bec9484cb
 c16f627107faa845d6b + '\'>'+addy_text8837bec9484cbc16f627107faa845d6b+'<\/a
 >';
		</script>&nbsp;and I must receive orders by midday on Monday 15th Dec
 .The Christmas menu is NOT available - choose from Lunch Menu, Main Menu or
  Half Portion Menu which are on the website:&nbsp;<a href="https://thefrank
 landarms.com/food-drink/">https://thefranklandarms.com/food-drink/</a></p><
 p>14.00 to 15.00&nbsp; &nbsp; &nbsp;Washington (St Mary - 6-bells).&nbsp; &
 nbsp;Parking on road near church. Ground floor ring.</p><p>Please email&nbs
 p;<span id="cloak7f6ab5676b15a1caa95009e234676b19"><a href="mailto:codgers@
 scacr.org"></a><span id="cloak6bb3396845234759d826c13648c0efb1">This email 
 address is being protected from spambots. You need JavaScript enabled to vi
 ew it.</span><script type='text/javascript'>
				document.getElementById('c
 loak6bb3396845234759d826c13648c0efb1').innerHTML = '';
				var prefix = '&#
 109;a' + 'i&#108;' + '&#116;o';
				var path = 'hr' + 'ef' + '=';
				var a
 ddy6bb3396845234759d826c13648c0efb1 = 'c&#111;dg&#101;rs' + '&#64;';
				ad
 dy6bb3396845234759d826c13648c0efb1 = addy6bb3396845234759d826c13648c0efb1 +
  'sc&#97;cr' + '&#46;' + '&#111;rg';
				var addy_text6bb3396845234759d826c
 13648c0efb1 = 'c&#111;dg&#101;rs' + '&#64;' + 'sc&#97;cr' + '&#46;' + '&#11
 1;rg';document.getElementById('cloak6bb3396845234759d826c13648c0efb1').inne
 rHTML += '<a ' + path + '\'' + prefix + ':' + addy6bb3396845234759d826c1364
 8c0efb1 + '\'>'+addy_text6bb3396845234759d826c13648c0efb1+'<\/a>';
		</scri
 pt></span>&nbsp;to let us know you are coming.</p> <a href="https://www.sca
 cr.org/news-events/calendar/1460/codgers?tmpl=component">This event was imp
 orted from: https://www.scacr.org/news-events/calendar/1460/codgers?tmpl=co
 mponent</a>CONTACT:This email address is being protected from spambots. You need JavaScript enabled to view it.
				document.getElementById('cloak654c09eb1bb813f06993728d74b6f579').innerHTML = '';
				var prefix = '&#109;a' + 'i&#108;' + '&#116;o';
				var path = 'hr' + 'ef' + '=';
				var addy654c09eb1bb813f06993728d74b6f579 = 'c&#111;dg&#101;rs' + '&#64;';
				addy654c09eb1bb813f06993728d74b6f579 = addy654c09eb1bb813f06993728d74b6f579 + 'sc&#97;cr' + '&#46;' + '&#111;rg';
				var addy_text654c09eb1bb813f06993728d74b6f579 = 'c&#111;dg&#101;rs' + '&#64;' + 'sc&#97;cr' + '&#46;' + '&#111;rg';document.getElementById('cloak654c09eb1bb813f06993728d74b6f579').innerHTML += '<a ' + path + '\'' + prefix + ':' + addy654c09eb1bb813f06993728d74b6f579 + '\'>'+addy_text654c09eb1bb813f06993728d74b6f579+'';
		
DTSTAMP:20260424T091830
DTSTART;TZID=Europe/London:20251218T110000
DTEND;TZID=Europe/London:20251218T150000
SEQUENCE:0
TRANSP:OPAQUE
END:VEVENT
END:VCALENDAR