BEGIN:VCALENDAR
VERSION:2.0
PRODID:-//jEvents 2.0 for Joomla//EN
CALSCALE:GREGORIAN
METHOD:PUBLISH
BEGIN:VTIMEZONE
TZID:Europe/London
BEGIN:STANDARD
DTSTART:20241027T010000
RDATE:20250330T020000
TZOFFSETFROM:+0100
TZOFFSETTO:+0000
TZNAME:Europe/London GMT
END:STANDARD
BEGIN:STANDARD
DTSTART:20251026T010000
RDATE:20260329T020000
TZOFFSETFROM:+0100
TZOFFSETTO:+0000
TZNAME:Europe/London GMT
END:STANDARD
BEGIN:STANDARD
DTSTART:20261025T010000
RDATE:20270328T020000
TZOFFSETFROM:+0100
TZOFFSETTO:+0000
TZNAME:Europe/London GMT
END:STANDARD
BEGIN:STANDARD
DTSTART:20271031T010000
RDATE:20280326T020000
TZOFFSETFROM:+0100
TZOFFSETTO:+0000
TZNAME:Europe/London GMT
END:STANDARD
BEGIN:STANDARD
DTSTART:20281029T010000
RDATE:20290325T020000
TZOFFSETFROM:+0100
TZOFFSETTO:+0000
TZNAME:Europe/London GMT
END:STANDARD
BEGIN:STANDARD
DTSTART:20291028T010000
RDATE:20300331T020000
TZOFFSETFROM:+0100
TZOFFSETTO:+0000
TZNAME:Europe/London GMT
END:STANDARD
BEGIN:STANDARD
DTSTART:20301027T010000
RDATE:20310330T020000
TZOFFSETFROM:+0100
TZOFFSETTO:+0000
TZNAME:Europe/London GMT
END:STANDARD
BEGIN:DAYLIGHT
DTSTART:20240613T000000
RDATE:20241027T010000
TZOFFSETFROM:+0000
TZOFFSETTO:+0100
TZNAME:Europe/London BST
END:DAYLIGHT
BEGIN:DAYLIGHT
DTSTART:20250330T020000
RDATE:20251026T010000
TZOFFSETFROM:+0000
TZOFFSETTO:+0100
TZNAME:Europe/London BST
END:DAYLIGHT
BEGIN:DAYLIGHT
DTSTART:20260329T020000
RDATE:20261025T010000
TZOFFSETFROM:+0000
TZOFFSETTO:+0100
TZNAME:Europe/London BST
END:DAYLIGHT
BEGIN:DAYLIGHT
DTSTART:20270328T020000
RDATE:20271031T010000
TZOFFSETFROM:+0000
TZOFFSETTO:+0100
TZNAME:Europe/London BST
END:DAYLIGHT
BEGIN:DAYLIGHT
DTSTART:20280326T020000
RDATE:20281029T010000
TZOFFSETFROM:+0000
TZOFFSETTO:+0100
TZNAME:Europe/London BST
END:DAYLIGHT
BEGIN:DAYLIGHT
DTSTART:20290325T020000
RDATE:20291028T010000
TZOFFSETFROM:+0000
TZOFFSETTO:+0100
TZNAME:Europe/London BST
END:DAYLIGHT
BEGIN:DAYLIGHT
DTSTART:20300331T020000
RDATE:20301027T010000
TZOFFSETFROM:+0000
TZOFFSETTO:+0100
TZNAME:Europe/London BST
END:DAYLIGHT
END:VTIMEZONE
BEGIN:VEVENT
UID:32baa6da50437c93017d19f8a5ebb26f
CATEGORIES:West
CREATED:20250413T164643
SUMMARY:BUS, RING, WALK, PICNIC AND RING!
LOCATION:St John's Church  Findon anad St Mary's Church\, Washington.
URL;VALUE=URI:https://www.scacr.org/news-events/calendar/1446/bus-ring-walk-picnic-and-ri
 ng?tmpl=component
DESCRIPTION:The final details for this event are as follows:\nBUS, RING, WALK, PICNIC A
 ND RING!\nSTART POINT: - ST MARY’S CHURCH,  WASHINGTON. RH20 4AS\n(CARS CAN
  BE PARKED HERE AND USE OF FRIDGE IS AVAILABLE)\n09.47 - HOP ON THE NO 23  
 BUS TO FINDON\n   ( Frankland Arms/Recreation Ground) or at 9.48 from Stock
 s Mead (just up the road from The Steet -  a few minutes walk from the chur
 ch)  Don’t forget your bus pass!\nThe bus stops at the Findon Manor stop th
 en walk 300 metres south .  Turn right at Averys House along an alleyway wh
 ich leads to the A24.  Take care when crossing the very busy and fast A24. 
  The driveway to the church is opposite the alleyway.\n RINGING AT St JOHN’
 S CHURCH,  FINDON BN14 0RF FROM APPROX 10.15 – 11.15 ish.\n(Toilet faciliti
 es are available)\nTHEN AN APPROX 1 ½ HOUR WALK TO WASHINGTON. \n(FOLLOW TH
 E LEADER – RIK CLAY!)\nTHEN ITS PICNIC TIME!\n(Teas and Coffees will be ava
 ilable in the church)\nThe Frankland Arms Pub is in the village and does lu
 nches.  Would suggest you call in advance on 01903 891405 to book.\n AT APP
 ROX 1.45/2PM - RINGING AT WASHINGTON FOR AN HOUR.   \n PLEASE contact:  (ma
 ilto:sec-west@scacr.org) (mailto:sec-west@scacr.org)This email address is b
 eing protected from spambots. You need JavaScript enabled to view it.
				d
 ocument.getElementById('cloak6e5498c453dedd75eda6345c1fe01d83').innerHTML =
  '';
				var prefix = '&#109;a' + 'i&#108;' + '&#116;o';
				var path = 'hr
 ' + 'ef' + '=';
				var addy6e5498c453dedd75eda6345c1fe01d83 = 's&#101;c-w&
 #101;st' + '&#64;';
				addy6e5498c453dedd75eda6345c1fe01d83 = addy6e5498c4
 53dedd75eda6345c1fe01d83 + 'sc&#97;cr' + '&#46;' + '&#111;rg';
				var addy
 _text6e5498c453dedd75eda6345c1fe01d83 = 's&#101;c-w&#101;st' + '&#64;' + 's
 c&#97;cr' + '&#46;' + '&#111;rg';document.getElementById('cloak6e5498c453de
 dd75eda6345c1fe01d83').innerHTML += '<a ' + path + '\'' + prefix + ':' + ad
 dy6e5498c453dedd75eda6345c1fe01d83 + '\'>'+addy_text6e5498c453dedd75eda6345
 c1fe01d83+'';
		 or call Janice on  07890804339 if there are any queries!  
 or just turn up!\nDetails are also on the SCACR webiste.\nThe intention is 
 to have a raffle in aid of BRF - so please bring along some change and any 
 donations of raffle prizes would be appreciated. \nLook forward to seeing y
 ou there!\n \n \n \n This event was imported from: https://www.scacr.org/ne
 ws-events/calendar/1446/bus-ring-walk-picnic-and-ring?tmpl=component (https
 ://www.scacr.org/news-events/calendar/1446/bus-ring-walk-picnic-and-ring?tm
 pl=component)
X-ALT-DESC;FMTTYPE=text/html:<p>The final details for this event are as follows:</p><p>BUS, RING, WALK, 
 PICNIC AND RING!</p><p><strong>START POINT: - ST MARY’S CHURCH, &nbsp;WASHI
 NGTON. RH20 4AS</strong></p><p><strong>(CARS CAN BE PARKED HERE AND USE OF 
 FRIDGE IS AVAILABLE)</strong></p><p><strong>09.47 - HOP ON THE NO 23 &nbsp;
 BUS TO FINDON</strong></p><p><strong>&nbsp;&nbsp; ( Frankland Arms/Recreati
 on Ground)&nbsp;</strong><strong>or at 9.48 from Stocks Mead&nbsp;</strong>
 <strong style="caret-color: auto;">(just up the road from The Steet -&nbsp;
  a few minutes walk from the church) &nbsp;Don’t forget your bus pass!</str
 ong></p><p><strong>The bus stops at the Findon Manor stop then walk 300 met
 res south .&nbsp; Turn right at Averys House along an alleyway which leads 
 to the A24.&nbsp; Take care when crossing the very busy and fast A24.&nbsp;
  The driveway to the church is opposite the alleyway.</strong></p><p><stron
 g>&nbsp;</strong><strong>RINGING AT St JOHN’S CHURCH, &nbsp;FINDON BN14 0RF
  FROM APPROX 10.15 – 11.15 ish.</strong></p><p><strong>(Toilet facilities a
 re available)</strong></p><p><strong>THEN AN APPROX 1 ½ HOUR WALK TO WASHIN
 GTON. </strong></p><p><strong>(FOLLOW THE LEADER – RIK CLAY!)</strong></p><
 p><strong>THEN ITS PICNIC TIME!</strong></p><p><strong>(Teas and Coffees wi
 ll be available in the church)</strong></p><p><strong>The Frankland Arms Pu
 b is in the village and does lunches.&nbsp; Would suggest you call in advan
 ce on 01903 891405 to book.</strong></p><p><strong>&nbsp;</strong><strong>A
 T APPROX 1.45/2PM - RINGING AT WASHINGTON FOR AN HOUR.</strong> <strong><em
 >&nbsp;&nbsp;</em></strong></p><p><strong><em>&nbsp;</em></strong><strong><
 em>PLEASE contact: </em></strong><a href="mailto:sec-west@scacr.org"><em></
 em></a><strong><em><a href="mailto:sec-west@scacr.org"></a><span id="cloak6
 e5498c453dedd75eda6345c1fe01d83">This email address is being protected from
  spambots. You need JavaScript enabled to view it.</span><script type='text
 /javascript'>
				document.getElementById('cloak6e5498c453dedd75eda6345c1fe
 01d83').innerHTML = '';
				var prefix = '&#109;a' + 'i&#108;' + '&#116;o';
 
				var path = 'hr' + 'ef' + '=';
				var addy6e5498c453dedd75eda6345c1fe0
 1d83 = 's&#101;c-w&#101;st' + '&#64;';
				addy6e5498c453dedd75eda6345c1fe0
 1d83 = addy6e5498c453dedd75eda6345c1fe01d83 + 'sc&#97;cr' + '&#46;' + '&#11
 1;rg';
				var addy_text6e5498c453dedd75eda6345c1fe01d83 = 's&#101;c-w&#101
 ;st' + '&#64;' + 'sc&#97;cr' + '&#46;' + '&#111;rg';document.getElementById
 ('cloak6e5498c453dedd75eda6345c1fe01d83').innerHTML += '<a ' + path + '\'' 
 + prefix + ':' + addy6e5498c453dedd75eda6345c1fe01d83 + '\'>'+addy_text6e54
 98c453dedd75eda6345c1fe01d83+'<\/a>';
		</script></em></strong><strong><em>
  or call Janice on &nbsp;07890804339 if there are any queries!&nbsp; or jus
 t turn up!</em></strong></p><p>Details are also on the SCACR webiste.</p><p
 >The intention is to have a raffle in aid of BRF - so please bring along so
 me change and any donations of raffle prizes would be appreciated.&nbsp;</p
 ><p>Look forward to seeing you there!</p><p>&nbsp;</p><p>&nbsp;</p><p>&nbsp
 ;</p> <a href="https://www.scacr.org/news-events/calendar/1446/bus-ring-wal
 k-picnic-and-ring?tmpl=component">This event was imported from: https://www
 .scacr.org/news-events/calendar/1446/bus-ring-walk-picnic-and-ring?tmpl=com
 ponent</a>CONTACT:This email address is being protected from spambots. You need JavaScript enabled to view it.
				document.getElementById('cloak5adb1d302be66508229c8098f4d12f6b').innerHTML = '';
				var prefix = '&#109;a' + 'i&#108;' + '&#116;o';
				var path = 'hr' + 'ef' + '=';
				var addy5adb1d302be66508229c8098f4d12f6b = 's&#101;c-w&#101;st' + '&#64;';
				addy5adb1d302be66508229c8098f4d12f6b = addy5adb1d302be66508229c8098f4d12f6b + 'sc&#97;cr' + '&#46;' + '&#111;rg';
				var addy_text5adb1d302be66508229c8098f4d12f6b = 's&#101;c-w&#101;st' + '&#64;' + 'sc&#97;cr' + '&#46;' + '&#111;rg';document.getElementById('cloak5adb1d302be66508229c8098f4d12f6b').innerHTML += '<a ' + path + '\'' + prefix + ':' + addy5adb1d302be66508229c8098f4d12f6b + '\'>'+addy_text5adb1d302be66508229c8098f4d12f6b+'';
		
DTSTAMP:20260423T225343
DTSTART;TZID=Europe/London;VALUE=DATE:20250614
DTEND;TZID=Europe/London;VALUE=DATE:20250615
SEQUENCE:0
TRANSP:OPAQUE
END:VEVENT
END:VCALENDAR