BEGIN:VCALENDAR
VERSION:2.0
PRODID:-//jEvents 2.0 for Joomla//EN
CALSCALE:GREGORIAN
METHOD:PUBLISH
BEGIN:VTIMEZONE
TZID:Europe/London
BEGIN:STANDARD
DTSTART:20241027T010000
RDATE:20250330T020000
TZOFFSETFROM:+0100
TZOFFSETTO:+0000
TZNAME:Europe/London GMT
END:STANDARD
BEGIN:STANDARD
DTSTART:20251026T010000
RDATE:20260329T020000
TZOFFSETFROM:+0100
TZOFFSETTO:+0000
TZNAME:Europe/London GMT
END:STANDARD
BEGIN:STANDARD
DTSTART:20261025T010000
RDATE:20270328T020000
TZOFFSETFROM:+0100
TZOFFSETTO:+0000
TZNAME:Europe/London GMT
END:STANDARD
BEGIN:STANDARD
DTSTART:20271031T010000
RDATE:20280326T020000
TZOFFSETFROM:+0100
TZOFFSETTO:+0000
TZNAME:Europe/London GMT
END:STANDARD
BEGIN:STANDARD
DTSTART:20281029T010000
RDATE:20290325T020000
TZOFFSETFROM:+0100
TZOFFSETTO:+0000
TZNAME:Europe/London GMT
END:STANDARD
BEGIN:STANDARD
DTSTART:20291028T010000
RDATE:20300331T020000
TZOFFSETFROM:+0100
TZOFFSETTO:+0000
TZNAME:Europe/London GMT
END:STANDARD
BEGIN:STANDARD
DTSTART:20301027T010000
RDATE:20310330T020000
TZOFFSETFROM:+0100
TZOFFSETTO:+0000
TZNAME:Europe/London GMT
END:STANDARD
BEGIN:DAYLIGHT
DTSTART:20240620T100000
RDATE:20241027T010000
TZOFFSETFROM:+0000
TZOFFSETTO:+0100
TZNAME:Europe/London BST
END:DAYLIGHT
BEGIN:DAYLIGHT
DTSTART:20250330T020000
RDATE:20251026T010000
TZOFFSETFROM:+0000
TZOFFSETTO:+0100
TZNAME:Europe/London BST
END:DAYLIGHT
BEGIN:DAYLIGHT
DTSTART:20260329T020000
RDATE:20261025T010000
TZOFFSETFROM:+0000
TZOFFSETTO:+0100
TZNAME:Europe/London BST
END:DAYLIGHT
BEGIN:DAYLIGHT
DTSTART:20270328T020000
RDATE:20271031T010000
TZOFFSETFROM:+0000
TZOFFSETTO:+0100
TZNAME:Europe/London BST
END:DAYLIGHT
BEGIN:DAYLIGHT
DTSTART:20280326T020000
RDATE:20281029T010000
TZOFFSETFROM:+0000
TZOFFSETTO:+0100
TZNAME:Europe/London BST
END:DAYLIGHT
BEGIN:DAYLIGHT
DTSTART:20290325T020000
RDATE:20291028T010000
TZOFFSETFROM:+0000
TZOFFSETTO:+0100
TZNAME:Europe/London BST
END:DAYLIGHT
BEGIN:DAYLIGHT
DTSTART:20300331T020000
RDATE:20301027T010000
TZOFFSETFROM:+0000
TZOFFSETTO:+0100
TZNAME:Europe/London BST
END:DAYLIGHT
END:VTIMEZONE
BEGIN:VEVENT
UID:1ff8f3e21771fa6c77d5039056b4c085
CATEGORIES:West
CREATED:20250413T164038
SUMMARY:Rounds, Call Changes and Building Blocks.
LOCATION:St Mary's Church\, Storrington
URL;VALUE=URI:https://www.scacr.org/news-events/calendar/1445/rounds-call-changes-and-bui
 lding-blocks?tmpl=component
DESCRIPTION: For this practice  you must be able to independently handle a bell as ther
 e will be ringing excercises which will help with progression to ringing pl
 ain hunt, plain hunting and  even towards method ringing such as dodgeing e
 xercises!  The dea is that with time - ringers will progress to the 'Beyond
  Plain Hunt' Practice at Washington held on the first Saturday of the month
 .  This is sure to be a little different and fun.  You must book with Chris
 tine Butterfied on 01903 872623 beforehand.  Tea and cake will be provided.
    If when you contact Chrsitine there are no places avaialble - please let
  Janice know on This email address is being protected from spambots. You ne
 ed JavaScript enabled to view it.
				document.getElementById('cloakd448acc
 64509e867488dfa1153ec5a43').innerHTML = '';
				var prefix = '&#109;a' + 'i
 &#108;' + '&#116;o';
				var path = 'hr' + 'ef' + '=';
				var addyd448acc6
 4509e867488dfa1153ec5a43 = 's&#101;c-w&#101;st' + '&#64;';
				addyd448acc6
 4509e867488dfa1153ec5a43 = addyd448acc64509e867488dfa1153ec5a43 + 'sc&#97;c
 r' + '&#46;' + '&#111;rg';
				var addy_textd448acc64509e867488dfa1153ec5a4
 3 = 's&#101;c-w&#101;st' + '&#64;' + 'sc&#97;cr' + '&#46;' + '&#111;rg';doc
 ument.getElementById('cloakd448acc64509e867488dfa1153ec5a43').innerHTML += 
 '<a ' + path + '\'' + prefix + ':' + addyd448acc64509e867488dfa1153ec5a43 +
  '\'>'+addy_textd448acc64509e867488dfa1153ec5a43+'';
		 know or call 078908
 04339 as due to the popularity - there is a plan to run the same session el
 sewhere in the District at the same time if there is sufficient interest!\n
  This event was imported from: https://www.scacr.org/news-events/calendar/1
 445/rounds-call-changes-and-building-blocks?tmpl=component (https://www.sca
 cr.org/news-events/calendar/1445/rounds-call-changes-and-building-blocks?tm
 pl=component)
X-ALT-DESC;FMTTYPE=text/html:<p>&nbsp;For this practice&nbsp; you must be able to independently handle a
  bell as there will be ringing excercises which will help with progression 
 to ringing plain hunt, plain hunting and&nbsp; even towards method ringing 
 such as dodgeing exercises!&nbsp; The dea is that with time - ringers will 
 progress to the 'Beyond Plain Hunt' Practice at Washington held on the firs
 t Saturday of the month.&nbsp; This is sure to be a little different and fu
 n.&nbsp; You must book with Christine Butterfied on 01903 872623 beforehand
 .&nbsp; Tea and cake will be provided.&nbsp; &nbsp;If when you contact Chrs
 itine there are no places avaialble - please let Janice know on <span id="c
 loakd448acc64509e867488dfa1153ec5a43">This email address is being protected
  from spambots. You need JavaScript enabled to view it.</span><script type=
 'text/javascript'>
				document.getElementById('cloakd448acc64509e867488dfa
 1153ec5a43').innerHTML = '';
				var prefix = '&#109;a' + 'i&#108;' + '&#11
 6;o';
				var path = 'hr' + 'ef' + '=';
				var addyd448acc64509e867488dfa1
 153ec5a43 = 's&#101;c-w&#101;st' + '&#64;';
				addyd448acc64509e867488dfa1
 153ec5a43 = addyd448acc64509e867488dfa1153ec5a43 + 'sc&#97;cr' + '&#46;' + 
 '&#111;rg';
				var addy_textd448acc64509e867488dfa1153ec5a43 = 's&#101;c-w
 &#101;st' + '&#64;' + 'sc&#97;cr' + '&#46;' + '&#111;rg';document.getElemen
 tById('cloakd448acc64509e867488dfa1153ec5a43').innerHTML += '<a ' + path + 
 '\'' + prefix + ':' + addyd448acc64509e867488dfa1153ec5a43 + '\'>'+addy_tex
 td448acc64509e867488dfa1153ec5a43+'<\/a>';
		</script>&nbsp;know or call 07
 890804339 as due to the popularity - there is a plan to run the same sessio
 n elsewhere in the District at the same time if there is sufficient interes
 t!</p> <a href="https://www.scacr.org/news-events/calendar/1445/rounds-call
 -changes-and-building-blocks?tmpl=component">This event was imported from: 
 https://www.scacr.org/news-events/calendar/1445/rounds-call-changes-and-bui
 lding-blocks?tmpl=component</a>CONTACT:Christine Butterfield 01903 872623
DTSTAMP:20260421T004117
DTSTART;TZID=Europe/London:20250621T100000
DTEND;TZID=Europe/London:20250621T120000
SEQUENCE:0
TRANSP:OPAQUE
END:VEVENT
END:VCALENDAR