BEGIN:VCALENDAR
VERSION:2.0
PRODID:-//jEvents 2.0 for Joomla//EN
CALSCALE:GREGORIAN
METHOD:PUBLISH
BEGIN:VTIMEZONE
TZID:Europe/London
BEGIN:STANDARD
DTSTART:20241027T010000
RDATE:20250330T020000
TZOFFSETFROM:+0100
TZOFFSETTO:+0000
TZNAME:Europe/London GMT
END:STANDARD
BEGIN:STANDARD
DTSTART:20251026T010000
RDATE:20260329T020000
TZOFFSETFROM:+0100
TZOFFSETTO:+0000
TZNAME:Europe/London GMT
END:STANDARD
BEGIN:STANDARD
DTSTART:20261025T010000
RDATE:20270328T020000
TZOFFSETFROM:+0100
TZOFFSETTO:+0000
TZNAME:Europe/London GMT
END:STANDARD
BEGIN:STANDARD
DTSTART:20271031T010000
RDATE:20280326T020000
TZOFFSETFROM:+0100
TZOFFSETTO:+0000
TZNAME:Europe/London GMT
END:STANDARD
BEGIN:STANDARD
DTSTART:20281029T010000
RDATE:20290325T020000
TZOFFSETFROM:+0100
TZOFFSETTO:+0000
TZNAME:Europe/London GMT
END:STANDARD
BEGIN:STANDARD
DTSTART:20291028T010000
RDATE:20300331T020000
TZOFFSETFROM:+0100
TZOFFSETTO:+0000
TZNAME:Europe/London GMT
END:STANDARD
BEGIN:STANDARD
DTSTART:20301027T010000
RDATE:20310330T020000
TZOFFSETFROM:+0100
TZOFFSETTO:+0000
TZNAME:Europe/London GMT
END:STANDARD
BEGIN:DAYLIGHT
DTSTART:20240608T193000
RDATE:20241027T010000
TZOFFSETFROM:+0000
TZOFFSETTO:+0100
TZNAME:Europe/London BST
END:DAYLIGHT
BEGIN:DAYLIGHT
DTSTART:20250330T020000
RDATE:20251026T010000
TZOFFSETFROM:+0000
TZOFFSETTO:+0100
TZNAME:Europe/London BST
END:DAYLIGHT
BEGIN:DAYLIGHT
DTSTART:20260329T020000
RDATE:20261025T010000
TZOFFSETFROM:+0000
TZOFFSETTO:+0100
TZNAME:Europe/London BST
END:DAYLIGHT
BEGIN:DAYLIGHT
DTSTART:20270328T020000
RDATE:20271031T010000
TZOFFSETFROM:+0000
TZOFFSETTO:+0100
TZNAME:Europe/London BST
END:DAYLIGHT
BEGIN:DAYLIGHT
DTSTART:20280326T020000
RDATE:20281029T010000
TZOFFSETFROM:+0000
TZOFFSETTO:+0100
TZNAME:Europe/London BST
END:DAYLIGHT
BEGIN:DAYLIGHT
DTSTART:20290325T020000
RDATE:20291028T010000
TZOFFSETFROM:+0000
TZOFFSETTO:+0100
TZNAME:Europe/London BST
END:DAYLIGHT
BEGIN:DAYLIGHT
DTSTART:20300331T020000
RDATE:20301027T010000
TZOFFSETFROM:+0000
TZOFFSETTO:+0100
TZNAME:Europe/London BST
END:DAYLIGHT
END:VTIMEZONE
BEGIN:VEVENT
UID:5b5a8be3b8b74644dbe174853316430f
CATEGORIES:West
CREATED:20250413T163058
SUMMARY:Surprise Minor Simulator Practice
LOCATION:St Mary's Church\, Stoughton
URL;VALUE=URI:https://www.scacr.org/news-events/calendar/1442/surprise-minor-simulator-pr
 actice?tmpl=component
DESCRIPTION:<p>This is a regular practice is held every second Monday of the month!</p>
 <p>Current methods rung are: Cambridge, London, Norwich, Carlisle and Bever
 ley!&nbsp; The idea is to consolidate them and start splicing them!!&nbsp; 
 Other methods maybe added as and when.</p><p>Don't br put off if you are un
 able to ring all these methods or can't ring spliced - there are a range of
  abilities and it is a practice so an opportunity to have a go!!</p><p>Plea
 se let Joanna Woodcock know if you intend to go along on <span id="cloak0c0
 aac22e6c7c861febd0cb38f7ae03a">This email address is being protected from s
 pambots. You need JavaScript enabled to view it.</span><script type='text/j
 avascript'>
				document.getElementById('cloak0c0aac22e6c7c861febd0cb38f7ae
 03a').innerHTML = '';
				var prefix = '&#109;a' + 'i&#108;' + '&#116;o';
	
 			var path = 'hr' + 'ef' + '=';
				var addy0c0aac22e6c7c861febd0cb38f7ae0
 3a = 'd&#101;&#97;nl&#97;n&#101;&#101;nd' + '&#64;';
				addy0c0aac22e6c7c8
 61febd0cb38f7ae03a = addy0c0aac22e6c7c861febd0cb38f7ae03a + 'gm&#97;&#105;l
 ' + '&#46;' + 'c&#111;m';
				var addy_text0c0aac22e6c7c861febd0cb38f7ae03a
  = 'd&#101;&#97;nl&#97;n&#101;&#101;nd' + '&#64;' + 'gm&#97;&#105;l' + '&#4
 6;' + 'c&#111;m';document.getElementById('cloak0c0aac22e6c7c861febd0cb38f7a
 e03a').innerHTML += '<a ' + path + '\'' + prefix + ':' + addy0c0aac22e6c7c8
 61febd0cb38f7ae03a + '\'>'+addy_text0c0aac22e6c7c861febd0cb38f7ae03a+'<\/a>
 ';
		</script></p><p>There is ample on-street parking in the village and li
 mited, blue badge parking up at the track at the church.&nbsp; The farmyard
  car park to the left of the track is private and so please do not use!</p>
 <p>There are no toilets in the church - nearest facilities are in the Hare 
 and Hounds pub approx 300 m away.</p><p>If there is plenty of rain - it may
  be handy to wear wellies or at least have some in the car!!!</p><p>Contact
  the Tower Captain if you have any other questions!&nbsp; Tim Wright - <spa
 n id="cloakaed53da5555968bbc7a185ba1444561c">This email address is being pr
 otected from spambots. You need JavaScript enabled to view it.</span><scrip
 t type='text/javascript'>
				document.getElementById('cloakaed53da5555968b
 bc7a185ba1444561c').innerHTML = '';
				var prefix = '&#109;a' + 'i&#108;' 
 + '&#116;o';
				var path = 'hr' + 'ef' + '=';
				var addyaed53da5555968bb
 c7a185ba1444561c = 'tcf.wr&#105;ght' + '&#64;';
				addyaed53da5555968bbc7a
 185ba1444561c = addyaed53da5555968bbc7a185ba1444561c + 'bt&#105;nt&#101;rn&
 #101;t' + '&#46;' + 'c&#111;m';
				var addy_textaed53da5555968bbc7a185ba14
 44561c = 'tcf.wr&#105;ght' + '&#64;' + 'bt&#105;nt&#101;rn&#101;t' + '&#46;
 ' + 'c&#111;m';document.getElementById('cloakaed53da5555968bbc7a185ba144456
 1c').innerHTML += '<a ' + path + '\'' + prefix + ':' + addyaed53da5555968bb
 c7a185ba1444561c + '\'>'+addy_textaed53da5555968bbc7a185ba1444561c+'<\/a>';
 
		</script></p> <a href="https://www.scacr.org/news-events/calendar/1442/s
 urprise-minor-simulator-practice?tmpl=component">This event was imported fr
 om: https://www.scacr.org/news-events/calendar/1442/surprise-minor-simulato
 r-practice?tmpl=component</a>CONTACT:Joanna Woodcock This email address is being protected from spambots. You need JavaScript enabled to view it.
				document.getElementById('cloak30db4f881a97a2be042d8127df94914d').innerHTML = '';
				var prefix = '&#109;a' + 'i&#108;' + '&#116;o';
				var path = 'hr' + 'ef' + '=';
				var addy30db4f881a97a2be042d8127df94914d = 'd&#101;&#97;nl&#97;n&#101;&#101;nd' + '&#64;';
				addy30db4f881a97a2be042d8127df94914d = addy30db4f881a97a2be042d8127df94914d + 'gm&#97;&#105;l' + '&#46;' + 'c&#111;m';
				var addy_text30db4f881a97a2be042d8127df94914d = 'd&#101;&#97;nl&#97;n&#101;&#101;nd' + '&#64;' + 'gm&#97;&#105;l' + '&#46;' + 'c&#111;m';document.getElementById('cloak30db4f881a97a2be042d8127df94914d').innerHTML += '<a ' + path + '\'' + prefix + ':' + addy30db4f881a97a2be042d8127df94914d + '\'>'+addy_text30db4f881a97a2be042d8127df94914d+'';
		
DTSTAMP:20260421T134558
DTSTART;TZID=Europe/London:20250609T193000
DTEND;TZID=Europe/London:20250609T210000
SEQUENCE:0
TRANSP:OPAQUE
END:VEVENT
END:VCALENDAR