BEGIN:VCALENDAR
VERSION:2.0
PRODID:-//jEvents 2.0 for Joomla//EN
CALSCALE:GREGORIAN
METHOD:PUBLISH
BEGIN:VTIMEZONE
TZID:Europe/London
BEGIN:STANDARD
DTSTART:20241027T010000
RDATE:20250330T020000
TZOFFSETFROM:+0100
TZOFFSETTO:+0000
TZNAME:Europe/London GMT
END:STANDARD
BEGIN:STANDARD
DTSTART:20251026T010000
RDATE:20260329T020000
TZOFFSETFROM:+0100
TZOFFSETTO:+0000
TZNAME:Europe/London GMT
END:STANDARD
BEGIN:STANDARD
DTSTART:20261025T010000
RDATE:20270328T020000
TZOFFSETFROM:+0100
TZOFFSETTO:+0000
TZNAME:Europe/London GMT
END:STANDARD
BEGIN:STANDARD
DTSTART:20271031T010000
RDATE:20280326T020000
TZOFFSETFROM:+0100
TZOFFSETTO:+0000
TZNAME:Europe/London GMT
END:STANDARD
BEGIN:STANDARD
DTSTART:20281029T010000
RDATE:20290325T020000
TZOFFSETFROM:+0100
TZOFFSETTO:+0000
TZNAME:Europe/London GMT
END:STANDARD
BEGIN:STANDARD
DTSTART:20291028T010000
RDATE:20300331T020000
TZOFFSETFROM:+0100
TZOFFSETTO:+0000
TZNAME:Europe/London GMT
END:STANDARD
BEGIN:STANDARD
DTSTART:20301027T010000
RDATE:20310330T020000
TZOFFSETFROM:+0100
TZOFFSETTO:+0000
TZNAME:Europe/London GMT
END:STANDARD
BEGIN:DAYLIGHT
DTSTART:20240627T101500
RDATE:20241027T010000
TZOFFSETFROM:+0000
TZOFFSETTO:+0100
TZNAME:Europe/London BST
END:DAYLIGHT
BEGIN:DAYLIGHT
DTSTART:20250330T020000
RDATE:20251026T010000
TZOFFSETFROM:+0000
TZOFFSETTO:+0100
TZNAME:Europe/London BST
END:DAYLIGHT
BEGIN:DAYLIGHT
DTSTART:20260329T020000
RDATE:20261025T010000
TZOFFSETFROM:+0000
TZOFFSETTO:+0100
TZNAME:Europe/London BST
END:DAYLIGHT
BEGIN:DAYLIGHT
DTSTART:20270328T020000
RDATE:20271031T010000
TZOFFSETFROM:+0000
TZOFFSETTO:+0100
TZNAME:Europe/London BST
END:DAYLIGHT
BEGIN:DAYLIGHT
DTSTART:20280326T020000
RDATE:20281029T010000
TZOFFSETFROM:+0000
TZOFFSETTO:+0100
TZNAME:Europe/London BST
END:DAYLIGHT
BEGIN:DAYLIGHT
DTSTART:20290325T020000
RDATE:20291028T010000
TZOFFSETFROM:+0000
TZOFFSETTO:+0100
TZNAME:Europe/London BST
END:DAYLIGHT
BEGIN:DAYLIGHT
DTSTART:20300331T020000
RDATE:20301027T010000
TZOFFSETFROM:+0000
TZOFFSETTO:+0100
TZNAME:Europe/London BST
END:DAYLIGHT
END:VTIMEZONE
BEGIN:VEVENT
UID:1ba07a2ac4ce0c884e566b476186b251
CATEGORIES:West
CREATED:20250413T162628
SUMMARY:Surprise Minor Practice
LOCATION:St Thomas a Becket\, Pagham.
URL;VALUE=URI:https://www.scacr.org/news-events/calendar/1440/surprise-minor-practice?tmp
 l=component
DESCRIPTION:This is a regular monthly event giving ringers the opportunity to ring  met
 hods such as Plain courses and touches of Cambridge and Norwich and Plain c
 ourses of Beverley, London, Carlisle and Pure Treble Bob Hunt!!   Refreshme
 nts are provided.  Please contact This email address is being protected fro
 m spambots. You need JavaScript enabled to view it.
				document.getElement
 ById('cloaka8ee7abf72e576cabda17a2663034b4e').innerHTML = '';
				var prefi
 x = '&#109;a' + 'i&#108;' + '&#116;o';
				var path = 'hr' + 'ef' + '=';
		
 		var addya8ee7abf72e576cabda17a2663034b4e = 's&#101;c-w&#101;st' + '&#64;'
 ;
				addya8ee7abf72e576cabda17a2663034b4e = addya8ee7abf72e576cabda17a2663
 034b4e + 'sc&#97;cr' + '&#46;' + '&#111;rg';
				var addy_texta8ee7abf72e57
 6cabda17a2663034b4e = 's&#101;c-w&#101;st' + '&#64;' + 'sc&#97;cr' + '&#46;
 ' + '&#111;rg';document.getElementById('cloaka8ee7abf72e576cabda17a2663034b
 4e').innerHTML += '<a ' + path + '\'' + prefix + ':' + addya8ee7abf72e576ca
 bda17a2663034b4e + '\'>'+addy_texta8ee7abf72e576cabda17a2663034b4e+'';
		 i
 f you would like refreshments.\nThe 'method of the month'  is yet to be ann
 ounced - watch this space!!\nPLEASE NOTE THAT THE VENUE FOR THIS PRACTICE H
 AS BEEN CHANGED! DUE TO THE UNAVAILABILITY OF WALBERTON. .  APOLOGIES FOR A
 NY INCONVENIENCE.\n This event was imported from: https://www.scacr.org/new
 s-events/calendar/1440/surprise-minor-practice?tmpl=component (https://www.
 scacr.org/news-events/calendar/1440/surprise-minor-practice?tmpl=component)
X-ALT-DESC;FMTTYPE=text/html:<p>This is a regular monthly event giving ringers the opportunity to ring&n
 bsp; methods such as Plain courses and touches of Cambridge and Norwich and
  Plain courses of Beverley, London, Carlisle and Pure Treble Bob Hunt!!&nbs
 p; &nbsp;Refreshments are provided.&nbsp; Please contact <span id="cloaka8e
 e7abf72e576cabda17a2663034b4e">This email address is being protected from s
 pambots. You need JavaScript enabled to view it.</span><script type='text/j
 avascript'>
				document.getElementById('cloaka8ee7abf72e576cabda17a2663034
 b4e').innerHTML = '';
				var prefix = '&#109;a' + 'i&#108;' + '&#116;o';
	
 			var path = 'hr' + 'ef' + '=';
				var addya8ee7abf72e576cabda17a2663034b
 4e = 's&#101;c-w&#101;st' + '&#64;';
				addya8ee7abf72e576cabda17a2663034b
 4e = addya8ee7abf72e576cabda17a2663034b4e + 'sc&#97;cr' + '&#46;' + '&#111;
 rg';
				var addy_texta8ee7abf72e576cabda17a2663034b4e = 's&#101;c-w&#101;s
 t' + '&#64;' + 'sc&#97;cr' + '&#46;' + '&#111;rg';document.getElementById('
 cloaka8ee7abf72e576cabda17a2663034b4e').innerHTML += '<a ' + path + '\'' + 
 prefix + ':' + addya8ee7abf72e576cabda17a2663034b4e + '\'>'+addy_texta8ee7a
 bf72e576cabda17a2663034b4e+'<\/a>';
		</script>&nbsp;if you would like refr
 eshments.</p><p>The 'method of the month'&nbsp; is yet to be announced - wa
 tch this space!!</p><p>PLEASE NOTE THAT THE VENUE FOR THIS PRACTICE HAS BEE
 N CHANGED! DUE TO THE UNAVAILABILITY OF WALBERTON. .&nbsp; APOLOGIES FOR AN
 Y INCONVENIENCE.</p> <a href="https://www.scacr.org/news-events/calendar/14
 40/surprise-minor-practice?tmpl=component">This event was imported from: ht
 tps://www.scacr.org/news-events/calendar/1440/surprise-minor-practice?tmpl=
 component</a>CONTACT:This email address is being protected from spambots. You need JavaScript enabled to view it.
				document.getElementById('cloak821be3c28bde7ad3a6a9a9c985a31f73').innerHTML = '';
				var prefix = '&#109;a' + 'i&#108;' + '&#116;o';
				var path = 'hr' + 'ef' + '=';
				var addy821be3c28bde7ad3a6a9a9c985a31f73 = 's&#101;c-w&#101;st' + '&#64;';
				addy821be3c28bde7ad3a6a9a9c985a31f73 = addy821be3c28bde7ad3a6a9a9c985a31f73 + 'sc&#97;cr' + '&#46;' + '&#111;rg';
				var addy_text821be3c28bde7ad3a6a9a9c985a31f73 = 's&#101;c-w&#101;st' + '&#64;' + 'sc&#97;cr' + '&#46;' + '&#111;rg';document.getElementById('cloak821be3c28bde7ad3a6a9a9c985a31f73').innerHTML += '<a ' + path + '\'' + prefix + ':' + addy821be3c28bde7ad3a6a9a9c985a31f73 + '\'>'+addy_text821be3c28bde7ad3a6a9a9c985a31f73+'';
		
DTSTAMP:20260421T004115
DTSTART;TZID=Europe/London:20250628T101500
DTEND;TZID=Europe/London:20250628T120000
SEQUENCE:0
TRANSP:OPAQUE
END:VEVENT
END:VCALENDAR