BEGIN:VCALENDAR
VERSION:2.0
PRODID:-//jEvents 2.0 for Joomla//EN
CALSCALE:GREGORIAN
METHOD:PUBLISH
BEGIN:VTIMEZONE
TZID:Europe/London
BEGIN:STANDARD
DTSTART:20241027T010000
RDATE:20250330T020000
TZOFFSETFROM:+0100
TZOFFSETTO:+0000
TZNAME:Europe/London GMT
END:STANDARD
BEGIN:STANDARD
DTSTART:20251026T010000
RDATE:20260329T020000
TZOFFSETFROM:+0100
TZOFFSETTO:+0000
TZNAME:Europe/London GMT
END:STANDARD
BEGIN:STANDARD
DTSTART:20261025T010000
RDATE:20270328T020000
TZOFFSETFROM:+0100
TZOFFSETTO:+0000
TZNAME:Europe/London GMT
END:STANDARD
BEGIN:STANDARD
DTSTART:20271031T010000
RDATE:20280326T020000
TZOFFSETFROM:+0100
TZOFFSETTO:+0000
TZNAME:Europe/London GMT
END:STANDARD
BEGIN:STANDARD
DTSTART:20281029T010000
RDATE:20290325T020000
TZOFFSETFROM:+0100
TZOFFSETTO:+0000
TZNAME:Europe/London GMT
END:STANDARD
BEGIN:STANDARD
DTSTART:20291028T010000
RDATE:20300331T020000
TZOFFSETFROM:+0100
TZOFFSETTO:+0000
TZNAME:Europe/London GMT
END:STANDARD
BEGIN:STANDARD
DTSTART:20301027T010000
RDATE:20310330T020000
TZOFFSETFROM:+0100
TZOFFSETTO:+0000
TZNAME:Europe/London GMT
END:STANDARD
BEGIN:DAYLIGHT
DTSTART:20240413T193000
RDATE:20241027T010000
TZOFFSETFROM:+0000
TZOFFSETTO:+0100
TZNAME:Europe/London BST
END:DAYLIGHT
BEGIN:DAYLIGHT
DTSTART:20250330T020000
RDATE:20251026T010000
TZOFFSETFROM:+0000
TZOFFSETTO:+0100
TZNAME:Europe/London BST
END:DAYLIGHT
BEGIN:DAYLIGHT
DTSTART:20260329T020000
RDATE:20261025T010000
TZOFFSETFROM:+0000
TZOFFSETTO:+0100
TZNAME:Europe/London BST
END:DAYLIGHT
BEGIN:DAYLIGHT
DTSTART:20270328T020000
RDATE:20271031T010000
TZOFFSETFROM:+0000
TZOFFSETTO:+0100
TZNAME:Europe/London BST
END:DAYLIGHT
BEGIN:DAYLIGHT
DTSTART:20280326T020000
RDATE:20281029T010000
TZOFFSETFROM:+0000
TZOFFSETTO:+0100
TZNAME:Europe/London BST
END:DAYLIGHT
BEGIN:DAYLIGHT
DTSTART:20290325T020000
RDATE:20291028T010000
TZOFFSETFROM:+0000
TZOFFSETTO:+0100
TZNAME:Europe/London BST
END:DAYLIGHT
BEGIN:DAYLIGHT
DTSTART:20300331T020000
RDATE:20301027T010000
TZOFFSETFROM:+0000
TZOFFSETTO:+0100
TZNAME:Europe/London BST
END:DAYLIGHT
END:VTIMEZONE
BEGIN:VEVENT
UID:b557db4aa9638e5b368fd4edcf405a25
CATEGORIES:North
CREATED:20250409T114442
SUMMARY:Northern Surprise Major Practice - CANCELLED!
LOCATION:Withyham
URL;VALUE=URI:https://www.scacr.org/news-events/calendar/1434/northern-surprise-major-pra
 ctice-cancelled?tmpl=component
DESCRIPTION:Apologies! There aren't enough people to make this a viable practice so thi
 s event has been cancelled. I'll be in touch soon about next month.\nMethod
  of the moment: Jovium surprise major (https://rsw.me.uk/blueline/methods/v
 iew/Jovium_Surprise_Major (https://rsw.me.uk/blueline/methods/view/Jovium_S
 urprise_Major))\nThe main focus of these practices remains the Core 7 metho
 ds either individually or spliced depending on attendance.\nFor those ringe
 rs with a wider repetoire, I would like to ensure Belfast and Glasgow are m
 ore regularly incorporated so please do refresh these if you need to ahead 
 of the practice. For those new to Belfast, there will be an opportunity to 
 ring three leads subject to attendance if you want to give it a shot (this 
 can be rung so that many bells repeat the same lead three times).\nSimon Li
 nford's great book on the Core 7 and beyond is found here https://www.ringi
 ngworld.co.uk/purchase/shop/the-core-seven-and-beyond.html (https://www.rin
 gingworld.co.uk/purchase/shop/the-core-seven-and-beyond.html)\nThe idea is 
 to try and improve the success rate and striking accuracy in the Core 7 met
 hods and it would be very much appreciated if where possible attendees do a
  little extra homework in advance, to help ensure we peform our best on the
  night. There will also be an enhanced effort to ensure more optimal band p
 lacement. Stedman triples will also be rung when appropriate.\nPlease get i
 n touch (This email address is being protected from spambots. You need Java
 Script enabled to view it.
				document.getElementById('cloaka97e603fbddc86
 19a279649b4ce3b876').innerHTML = '';
				var prefix = '&#109;a' + 'i&#108;'
  + '&#116;o';
				var path = 'hr' + 'ef' + '=';
				var addya97e603fbddc861
 9a279649b4ce3b876 = 'n&#101;ssr&#105;ng&#105;ng' + '&#64;';
				addya97e603
 fbddc8619a279649b4ce3b876 = addya97e603fbddc8619a279649b4ce3b876 + '&#105;c
 l&#111;&#117;d' + '&#46;' + 'c&#111;m';
				var addy_texta97e603fbddc8619a2
 79649b4ce3b876 = 'n&#101;ssr&#105;ng&#105;ng' + '&#64;' + '&#105;cl&#111;&#
 117;d' + '&#46;' + 'c&#111;m';document.getElementById('cloaka97e603fbddc861
 9a279649b4ce3b876').innerHTML += '<a ' + path + '\'' + prefix + ':' + addya
 97e603fbddc8619a279649b4ce3b876 + '\'>'+addy_texta97e603fbddc8619a279649b4c
 e3b876+'';
		) if there is anything in particular you would like to ring.\n
 I appreciate there are a lot of methods mentioned here and the intention is
  not to overwhelm I promise! If you are taking your first steps into ringin
 g surprise major, you are most welcome, just let me know what you are worki
 ng on (Cornwall, go on, you know you want to!).\nThere won't be an opportun
 ity to ring everything at each practice and I will respond to emails in adv
 ance or requests on the night.\nRingers from other divisions are enocuraged
  to attend, do get in touch with requests for what you'd like to ring. This
  event was imported from: https://www.scacr.org/news-events/calendar/1434/n
 orthern-surprise-major-practice-cancelled?tmpl=component (https://www.scacr
 .org/news-events/calendar/1434/northern-surprise-major-practice-cancelled?t
 mpl=component)
X-ALT-DESC;FMTTYPE=text/html:<p style="color: #ee0000;"><span style="text-decoration: underline;"><stron
 g>Apologies! There aren't enough people to make this a viable practice so t
 his event has been cancelled. I'll be in touch soon about next month.</stro
 ng></span></p><p style="color: #000000;">Method of the moment: Jovium surpr
 ise major (<a href="https://rsw.me.uk/blueline/methods/view/Jovium_Surprise
 _Major">https://rsw.me.uk/blueline/methods/view/Jovium_Surprise_Major</a>)<
 /p><p>The main focus of these practices remains the Core 7 methods either i
 ndividually or spliced depending on attendance.</p><p>For those ringers wit
 h a wider repetoire, I would like to ensure Belfast and Glasgow are more re
 gularly incorporated so please do refresh these if you need to ahead of the
  practice. For those new to Belfast, there will be an opportunity to ring t
 hree leads subject to attendance if you want to give it a shot (this can be
  rung so that many bells repeat the same lead three times).</p><p>Simon Lin
 ford's great book on the Core 7 and beyond is found here&nbsp;<a href="http
 s://www.ringingworld.co.uk/purchase/shop/the-core-seven-and-beyond.html">ht
 tps://www.ringingworld.co.uk/purchase/shop/the-core-seven-and-beyond.html</
 a></p><p>The idea is to try and improve the success rate and striking accur
 acy in the Core 7 methods and it would be very much appreciated if where po
 ssible attendees do a little extra homework in advance, to help ensure we p
 eform our best on the night. There will also be an enhanced effort to ensur
 e more optimal band placement. Stedman triples will also be rung when appro
 priate.</p><p>Please get in touch (<span id="cloaka97e603fbddc8619a279649b4
 ce3b876">This email address is being protected from spambots. You need Java
 Script enabled to view it.</span><script type='text/javascript'>
				docume
 nt.getElementById('cloaka97e603fbddc8619a279649b4ce3b876').innerHTML = '';

 				var prefix = '&#109;a' + 'i&#108;' + '&#116;o';
				var path = 'hr' + '
 ef' + '=';
				var addya97e603fbddc8619a279649b4ce3b876 = 'n&#101;ssr&#105;
 ng&#105;ng' + '&#64;';
				addya97e603fbddc8619a279649b4ce3b876 = addya97e6
 03fbddc8619a279649b4ce3b876 + '&#105;cl&#111;&#117;d' + '&#46;' + 'c&#111;m
 ';
				var addy_texta97e603fbddc8619a279649b4ce3b876 = 'n&#101;ssr&#105;ng&
 #105;ng' + '&#64;' + '&#105;cl&#111;&#117;d' + '&#46;' + 'c&#111;m';documen
 t.getElementById('cloaka97e603fbddc8619a279649b4ce3b876').innerHTML += '<a 
 ' + path + '\'' + prefix + ':' + addya97e603fbddc8619a279649b4ce3b876 + '\'
 >'+addy_texta97e603fbddc8619a279649b4ce3b876+'<\/a>';
		</script>) if there
  is anything in particular you would like to ring.</p><p>I appreciate there
  are a lot of methods mentioned here and the intention is not to overwhelm 
 I promise! If you are taking your first steps into ringing surprise major, 
 you are most welcome, just let me know what you are working on (Cornwall, g
 o on, you know you want to!).</p><p>There won't be an opportunity to ring e
 verything at each practice and I will respond to emails in advance or reque
 sts on the night.</p><div><div><div class="apple-rich-link" role="link" dat
 a-url="https://www.ringingworld.co.uk/purchase/shop/the-core-seven-and-beyo
 nd.html">Ringers from other divisions are enocuraged to attend, do get in t
 ouch with requests for what you'd like to ring.</div></div></div> <a href="
 https://www.scacr.org/news-events/calendar/1434/northern-surprise-major-pra
 ctice-cancelled?tmpl=component">This event was imported from: https://www.s
 cacr.org/news-events/calendar/1434/northern-surprise-major-practice-cancell
 ed?tmpl=component</a>CONTACT:This email address is being protected from spambots. You need JavaScript enabled to view it.
				document.getElementById('cloaka133a9c969e2b20a1c71ece5859ad8a9').innerHTML = '';
				var prefix = '&#109;a' + 'i&#108;' + '&#116;o';
				var path = 'hr' + 'ef' + '=';
				var addya133a9c969e2b20a1c71ece5859ad8a9 = 'n&#101;ssr&#105;ng&#105;ng' + '&#64;';
				addya133a9c969e2b20a1c71ece5859ad8a9 = addya133a9c969e2b20a1c71ece5859ad8a9 + '&#105;cl&#111;&#117;d' + '&#46;' + 'c&#111;m';
				var addy_texta133a9c969e2b20a1c71ece5859ad8a9 = 'n&#101;ssr&#105;ng&#105;ng' + '&#64;' + '&#105;cl&#111;&#117;d' + '&#46;' + 'c&#111;m';document.getElementById('cloaka133a9c969e2b20a1c71ece5859ad8a9').innerHTML += '<a ' + path + '\'' + prefix + ':' + addya133a9c969e2b20a1c71ece5859ad8a9 + '\'>'+addy_texta133a9c969e2b20a1c71ece5859ad8a9+'';
		
X-EXTRAINFO:Please email if you intend to come
DTSTAMP:20260423T162910
DTSTART;TZID=Europe/London:20250414T193000
DTEND;TZID=Europe/London:20250414T210000
SEQUENCE:0
TRANSP:OPAQUE
END:VEVENT
END:VCALENDAR